{"text_format":"1","workbook":"xlsx","n_sheets":4,"sheets":["test","Օրական նորմեր","Sheet12","Հաշվիչ"],"not_rendered":{"charts":0,"images":1,"macros":1,"external_links":0,"defined_names":24,"comments":1,"pivot_tables":0},"unopened":[],"bounds":{"document_bytes":16777216,"sheet_cells":100000,"rows_first":2000,"rows_last":500,"rows_between":2000,"halvings":0,"cell_chars":16384,"cell_head_chars":4096},"cells_cut":0,"cells_raw":0,"read":"whole","date_system":"1900"}

{"sheet":"test","index":0,"n_rows":70,"n_cols":16,"rows_kept":70,"cut":false,"hidden":true,"merged":[]}
["Խումբ","ՑՈՒՑԱՆԻՇՆԵՐ","Չոր նյութ /կգ","Կերի միավոր","Փոխ. Էներգ. /մջ","Հում պրոտեին /գ","Մարսելի պրոտեին/գ"," Թաղանթանյութ /գ","Օսլա  /գ","Շաքար  /գ","Հում ճարպ /գ","Կալցիում /գ","Ֆոսֆոր /գ","Կարոտին /մգ","D վիտամին /հազ.ԱՄ","E վիտամին /մգ"]
["ԽՈՏ       ","աշորայի",879,0.52,7.34,81,50,300,12,75,19,3.5,1.5,10,0,0]
["ԽՈՏ       ","կորնգանի",830,0.5,7.41,140,99,242,9,20,25,10.8,2.4,44,310,128]
["ԽՈՏ       ","երեքնուկի",830,0.52,7.23,127,78,244,8,25,25,9.1999999999999993,2.2000000000000002,25,350,100]
["ԽՈՏ       ","վիկ վարսակի",830,0.45,6.8,117,67,266,10,27,23,6.5,2.9,15,250,63]
["ԽՈՏ       ","մարգագետ. Շյուղախոտ",862,0.44,6.5,78,34,285,12,26,23,3.7,2.1,15,0,0]
["ԽՈՏ       ","երեքնուկի սիզախոտ",830,0.47,6.76,98,53,265,11,26,25,7.6,2.5,0,5,190]
["ԾՂՈՏ","աշնանացան ցորեն",846,0.2,4.76,37,5,364,0,3,13,2.8,0.8,0,4,0]
["ԾՂՈՏ","գարնան.  ցորեն",849,0.22,4.91,46,9,351,0,3,15,3.3,0.9,0,10,0.5]
["ԾՂՈՏ","գարու",830,0.34,5.71,49,13,331,0,2.4,19,3.3,0.8,0,5,0]
["ԾՂՈՏ","վարսակի",830,0.31,5.38,39,17,324,4.4000000000000004,4,17,3.4,1,0,0,0]
["ԾՂՈՏ","երեքնուկի",806,0.17,4.58,65,28,348,0,2,16,8.6,1.8,3,10,0]
["ԾՂՈՏ","ոլոռի",844,0.3,5.66,74,35,330,0,1.5,17,11.2,1.4,3,10,0]
["ԾՂՈՏ","վիկ վարսակի",850,0.28000000000000003,5.74,67,29,367,0,2.2999999999999998,17,7.8,2.1,1,7,0]
["ԽՈՏԱԼՅՈՒՐ","երեքնուկի",830,0.59,6.99,141,60,249,24,45,25,9.6,2.1,40,600,129]
["ԽՈՏԱԼՅՈՒՐ","առվույտի",830,0.63,6.8,161,89,257,28,50,23,14.4,2.9,50,600,143]
["ԽՈՏԱԼՅՈՒՐ","վիկ վարսակի",830,0.53,7.04,133,66,241,26,55,21,9.5,3,25,600,80]
["ԿԱՆԱՉԻ  ԱԼՅՈՒՐ","վիկ վարսակի",900,0.66,8,165,106,244,27,70,33,13.3,3,140,80,80]
["ԿԱՆԱՉԻ  ԱԼՅՈՒՐ","երեքնուկի",900,0.71,8.41,171,94,207,22,20,31,14,2.9,170,80,65]
["ԿԱՆԱՉԻ  ԱԼՅՈՒՐ","առվույտի",900,0.72,8.6199999999999992,189,119,211,26,40,29,17.3,3,200,100,93.5]
["ՄՂԵՂ","աշնանացան ցորենի",840,0.31,4.5999999999999996,72,22,289,0,8,18,4.2,2.7,5,12,0]
["ՍԻԼՈՍ","այլատեսակ",250,0.15,1.78,33,16,86,2,3,13,2.1,0.6,10,65,40]
["ՍԻԼՈՍ","եգիպտացորենի",250,0.2,2.2999999999999998,25,14,75,8,6,10,1.4,0.4,27,50,46]
["ՍԻԼՈՍ","արևածաղկի",250,0.18,2.1,23,15,83,7,4,13,3.6,1.6,17,65,22]
["ՍԻԼՈՍ","վիկ վարսակի",250,0.23,2.4500000000000002,34,24,77,3,4,15,1.9,0.9,20,125,18]
["ՍԻԼՈՍ","ոլոռ վարսակի",250,0.21,2.14,38,28,80,3,4,14,2.2000000000000002,1,22,80,62]
["ՍԻԼՈՍ","կոմբինացված՝ եգ., ճակ., առվ.,",250,0.24,2.82,25,20,39,0,0,5,0.9,0.5,4.3,13.5,87]
["ՍԵՆԱԺ","առվույտի",450,0.35,4.1900000000000004,103,71,127,12,19,17,10.9,1,40,165,25]
["ՍԵՆԱԺ","երեքնուկի",450,0.34,3.84,54,33,143,10,16,12,5.5,0.6,35,185,128]
["ՍԵՆԱԺ","վիկ վարսակի",450,0.32,3.68,54,38,148,14,22,13,2.8,1.4,30,160,45]
["ՍԵՆԱԺ","ոլոռ վարսակի",450,0.46,4.4400000000000004,52,39,139,19,18,11,3.7,1.6,30,120,50]
["ՍԵՆԱԺ","այլատեսակ",450,0.28999999999999998,3.44,46,23,157,15,23,10,4.9000000000000004,1.3,25,180,35]
["ԱՐՄԱՏԱՊԱԼԱՐԱՊՏՈՒՂ                 ","կարտոֆիլ",220,0.3,2.82,18,10,8,140,10.5,1,0.2,0.5,0.2,0,0.8]
["ԱՐՄԱՏԱՊԱԼԱՐԱՊՏՈՒՂ                 ","կերի ճակնդեղ",120,0.12,1.65,13,9,9,3,40,1,0.4,0.5,0.2,0,0.7]
["ԱՐՄԱՏԱՊԱԼԱՐԱՊՏՈՒՂ                 ","կիսաշաքար ճակնդ.",170,0.17,2.15,16,9,11,4,80,1,0.9,0.4,0.3,0,0.5]
["ԱՐՄԱՏԱՊԱԼԱՐԱՊՏՈՒՂ                 ","շաքարի ճակնդեղ",230,0.24,2.84,16,7,14,6,120,2,0.5,0.5,0.3,0,0.4]
["ԱՐՄԱՏԱՊԱԼԱՐԱՊՏՈՒՂ                 ","գազար",120,0.14000000000000001,2.2000000000000002,12,8,11,7,35,2,0.9,0.6,54,0,1.5]
["ՀԱՏԻԿ","ոլոռ",850,1.18,11.1,218,192,54,455,55,19,2,4.3,0.2,0,53]
["ՀԱՏԻԿ","սոյա",850,1.45,14.7,319,281,70,12,40,146,4.8,7.1,0.2,0,36]
["ՀԱՏԻԿ","եգիպտացորեն",850,1.33,12.8,92,67,43,560,20,43,0.4,2.7,0.4,0,15]
["ՀԱՏԻԿ","վարսակ",850,1,9.1999999999999993,108,79,97,320,25,40,1.5,3.4,1.3,0,12.9]
["ՀԱՏԻԿ","ցորեն",850,1.27,10.7,149,142,28,490,15,15,0.7,4.3,10,0,10.3]
["ՀԱՏԻԿ","գարի",850,1.1499999999999999,10.5,113,85,49,485,2,22,2,3.9,0.5,0,50]
["ՀԱՏԻԿ","տարեկան",850,1.1499999999999999,10.3,120,91,21,518,15,19,0.9,2.8,2,0,15.4]
["ԹԵՓ","ցորենի",850,0.75,8.85,151,97,88,0,47,41,2,9.6,2.6,0,20.9]
["ՔՈՒՍՊ","արևածաղկի",900,1.08,10.44,405,324,129,25,62.6,77,5.9,12.9,2,5,11]
["ՔՈՒՍՊ","բամբակի",900,1.1000000000000001,11.07,399,319,120,15,79,74,2.8,9.4,0,0,0]
["ՔՈՒՍՊ","սոյաի",900,1.35,12.9,418,393,54,20,100,74,4.3,6.9,2,9.5,11]
["ՔՈՒՍՊԱԼՅՈՒՐ","բամբակի",900,0.89,10.210000000000001,411,329,124,15,65,13,4.0999999999999996,10.1,1,3.5,20]
["ՔՈՒՍՊԱԼՅՈՒՐ","սոյաի",900,1.21,12.42,439,400,62,18,95,27,2.7,6.6,0.2,4.5,3]
["ՔՈՒՍՊԱԼՅՈՒՐ","արևածաղկի",900,1.03,10.6,429,386,144,28,52.6,37,3.6,12.2,3,3,3]
["ՔՈՒՍՊԱԼՅՈՒՐ","կանեփի",900,1.07,11.7,340,282,96,25,48,17,2.8,8.3000000000000007,0,0,2.5]
["ՄՐՈՒՐ","ցորենի",100,0.11,1.1000000000000001,28,21,11,0,0,6,0.2,0.6,0,0,0]
["ՄՐՈՒՐ","գարու",900,0.12,11.57,433,277,62,0,0,82,0,0,0,0,0]
["ՄՐՈՒՐ","եգիպտացորենի",100,0.12,1.19,23,18,9,0,0,9,0.2,0.3,0,0,0]
["ՄԶՈՒԿ","ճակնդեղի   թարմ",112,0.12,1.1299999999999999,12,6,33,0,2.5,3,1.5,0.14000000000000001,0,0,0]
["ՄԶՈՒԿ","ճակնդեղի  չոր",868,0.84,9.7799999999999994,77,38,190,0,0,5,7.8,0.5,0,0,0]
["ՄԶՈՒԿ","խմորասունկ  կերի",90,1.19,12.22,455,419,72,0,1.4,15,3.85,14.9,0,1000,0]
["ԿԱԹ","կովի անարատ կաթ",150,0.34,2.74,54,51,0,0,43,45,1.6,1.4,0,0,0]
["ԿԱԹ","չոր անարատ կաթ",920,2.02,13.3,245,221,0,0,356,259,9.1,8.4,0,0,0]
["ԿԱԹ","սերզատած կաթ",90,0.13,1.31,37,35,0,0,0,1,1.4,1,0,0.6,0.4]
["ԿԱԹ","չոր սերզատած կաթ",920,1.25,12.31,370,338,0,0,460,11,12.9,10,0,0,0.4]
["ԿԱԹ","խոզի կաթ",190,0.48,3.4,60,55,0,0,55,67,1.9,1.4,3.3,60,87]
["ԱՐՅԱՆ ԱԼՅՈՒՐ","ԱՐՅԱՆ ԱԼՅՈՒՐ",900,1.04,12.44,675,527,0,0,52,25,16.5,4.5,0,0,0]
["ՄՍԱԼՅՈՒՐ","ՄՍԱԼՅՈՒՐ",900,1.49,11.98,561,516,0,0,41,153,61,31,0,0,0]
["ՈՍԿՐԱԼՅՈՒՐ","ՈՍԿՐԱԼՅՈՒՐ",900,0.97,8.6999999999999993,178,146,0,0,38,157,229.6,102.5,0,0,0]
["ՁԿՆԱԼՅՈՒՐ ՃԱՐՊՈՏ","ՁԿՆԱԼՅՈՒՐ ՃԱՐՊՈՏ",900,1.31,9.92,535,482,0,0,95,108,27,18,0,75,19]
["ՄՍՈՍԿՐԻ ԱԼՅՈՒՐ","ՄՍՈՍԿՐԻ ԱԼՅՈՒՐ",900,1.04,8.6300000000000008,401,341,0,0,46,112,143,74,0,0,0]
["ՁԿՆԱԼՅՈՒՐ ԱՆՃԱՐՊ","ՁԿՆԱԼՅՈՒՐ ԱՆՃԱՐՊ",900,0.98,11.47,621,571,0,0,0,23,66.599999999999994,36.200000000000003,0,75,19]
["ԳԱՐԵՋՐԻ ԴԻՐՏ","ԳԱՐԵՋՐԻ ԴԻՐՏ",232,0.21,2.35,58,42,39,0,0,17,0.5,1.1000000000000001,1.6,0,14]

{"sheet":"Օրական նորմեր","index":1,"n_rows":19,"n_cols":37,"rows_kept":19,"cut":false,"hidden":true,"merged":[]}
["Ցուցանիշներ","Քաշ","Չոր նյութ /կգ","Կերի միավոր","Փոխ. Էներգ. /մջ","Հում պրոտեին /գ","Մարսելի պրոտեին/գ"," Թաղանթանյութ /գ","Օսլա  /գ","Շաքար  /գ","Հում ճարպ /գ","Կալցիում /գ","Ֆոսֆոր /գ","Կարոտին /մգ","D վիտամին /հազ.ԱՄ","E վիտամին /մգ","Աղ  /գ",null,"Ցուցանիշներ","Հղի-ցամաք կովեր","Հղի-ցամաք կովեր","Հղի-ցամաք կովեր","Հղի-ցամաք կովեր","Հղի-ցամաք կովեր","Հղի-ցամաք կովեր","Լակտացիայի առաջին փուլ","Լակտացիայի առաջին փուլ","Լակտացիայի առաջին փուլ","Լակտացիայի առաջին փուլ","Լակտացիայի առաջին փուլ","Լակտացիայի առաջին փուլ","Լակտացիայի երկրորդ փուլ","Լակտացիայի երկրորդ փուլ","Լակտացիայի երկրորդ փուլ","Լակտացիայի երկրորդ փուլ","Լակտացիայի երկրորդ փուլ","Լակտացիայի երկրորդ փուլ"]
["Հղի-ցամաք կովեր",400,9.8000000000000007,6.4,79,1100,704,2867,688,540,211,60,35,250,6.4,256,46,null,"Քաշ",400,450,500,550,600,650,400,450,500,550,600,650,400,450,500,550,600,650]
["Հղի-ցամաք կովեր",450,10.6,7,85,1202,770,3136,749,588,231,65,37,280,7,280,50,null,"Չոր նյութ /կգ",9.8000000000000007,10.6,11.4,12.2,13,13.7,12,12.5,13,13.4,13.8,14.2,10.5,11.3,12.2,13,13.6,14]
["Հղի-ցամաք կովեր",500,11.4,7.5,91,1288,825,3360,802,630,248,70,40,300,7.5,300,54,null,"Կերի միավոր",6.4,7,7.5,8,8.5,8.9,8.3000000000000007,8.6999999999999993,9,9.4,9.6999999999999993,10,6.7,7.3,7.9,8.5,8.9,9.1999999999999993]
["Հղի-ցամաք կովեր",550,12.2,8,97,1376,880,3584,856,672,264,75,42,320,8,320,58,null,"Փոխ. Էներգ. /մջ",79,85,91,97,104,109,98,102,106,110,114,117,82,89,96,102,107,110]
["Հղի-ցամաք կովեր",600,13,8.5,104,1462,936,3808,908,711,280,80,45,340,8.5,340,61,null,"Հում պրոտեին /գ",1100,1202,1288,1376,1462,1531,1288,1348,1395,1457,1503,1540,1010,1095,1185,1275,1335,1384]
["Հղի-ցամաք կովեր",650,13.7,8.9,109,1531,979,3987,952,748,296,84,48,355,8.9,356,64,null,"Մարսելի պրոտեին/գ",704,770,825,880,936,979,780,818,846,884,912,940,570,620,672,722,756,782]
["Լակտացիայի առաջին փուլ",400,12,8.3000000000000007,98,1288,780,3400,872,626,266,63,36,320,7.6,315,56,null," Թաղանթանյութ /գ",2867,3136,3360,3584,3808,3987,3400,3567,3690,3854,3977,4100,3015,3285,3556,3825,4010,4140]
["Լակտացիայի առաջին փուլ",450,12.5,8.6999999999999993,102,1348,818,3567,914,644,278,66,37,340,8,330,58,null,"Օսլա  /գ",688,749,802,856,908,952,872,914,944,986,1010,1050,685,745,806,867,908,938]
["Լակտացիայի առաջին փուլ",500,13,9,106,1395,846,3690,944,666,288,68,38,350,8.1999999999999993,340,60,null,"Շաքար  /գ",540,588,630,672,711,748,626,644,666,696,718,740,489,533,577,620,650,672]
["Լակտացիայի առաջին փուլ",550,13.4,9.4,110,1457,884,3854,986,696,301,71,40,365,8.5,355,63,null,"Հում ճարպ /գ",211,231,248,264,280,296,266,278,288,301,310,320,214,234,253,272,285,293]
["Լակտացիայի առաջին փուլ",600,13.8,9.6999999999999993,114,1503,912,3977,1010,718,310,74,42,380,8.8000000000000007,365,65,null,"Կալցիում /գ",60,65,70,75,80,84,63,66,68,71,74,76,50,55,59,64,67,69]
["Լակտացիայի առաջին փուլ",650,14.2,10,117,1540,940,4100,1050,740,320,76,47,390,9,380,70,null,"Ֆոսֆոր /գ",35,37,40,42,45,48,36,37,38,40,42,47,27,29,32,34,36,38]
["Լակտացիայի երկրորդ փուլ",400,10.5,6.7,82,1010,570,3015,685,489,214,50,27,248,5.4,234,47,null,"Կարոտին /մգ",250,280,300,320,340,355,320,340,350,365,380,390,248,270,292,315,330,340]
["Լակտացիայի երկրորդ փուլ",450,11.3,7.3,89,1095,620,3285,745,533,234,55,29,270,5.8,256,50,null,"D վիտամին /հազ.ԱՄ",6.4,7,7.5,8,8.5,8.9,7.6,8,8.1999999999999993,8.5,8.8000000000000007,9,5.4,5.8,6.3,6.8,7.1,7.4]
["Լակտացիայի երկրորդ փուլ",500,12.2,7.9,96,1185,672,3556,806,577,253,59,32,292,6.3,276,55,null,"E վիտամին /մգ",256,280,300,320,340,356,315,330,340,355,365,380,234,256,276,298,312,322]
["Լակտացիայի երկրորդ փուլ",550,13,8.5,102,1275,722,3825,867,620,272,64,34,315,6.8,298,60,null,"Աղ  /գ",46,50,54,58,61,64,56,58,60,63,65,70,47,50,55,60,62,65]
["Լակտացիայի երկրորդ փուլ",600,13.6,8.9,107,1335,756,4010,908,650,285,67,36,330,7.1,312,62]
["Լակտացիայի երկրորդ փուլ",650,14,9.1999999999999993,110,1384,782,4140,938,672,293,69,38,340,7.4,322,65]

{"sheet":"Sheet12","index":2,"n_rows":71,"n_cols":45,"rows_kept":71,"cut":false,"hidden":true,"merged":[]}
[null,null,null,null,null,null,null,null,null,null,"Չոր նյութ /կգ",null,null,"Խումբ","ՑՈՒՑԱՆԻՇՆԵՐ",null,null,"ԽՈՏ       ","ԾՂՈՏ","ԽՈՏԱԼՅՈՒՐ","ԿԱՆԱՉԻ  ԱԼՅՈՒՐ","ՄՂԵՂ","ՍԻԼՈՍ","ՍԵՆԱԺ","ԱՐՄԱՏԱՊԱԼԱՐԱՊՏՈՒՂ                 ","ՀԱՏԻԿ","ԹԵՓ","ՔՈՒՍՊ","ՔՈՒՍՊԱԼՅՈՒՐ","ՄՐՈՒՐ","ՄԶՈՒԿ","ԿԱԹ","ԱՐՅԱՆ ԱԼՅՈՒՐ","ՄՍԱԼՅՈՒՐ","ՈՍԿՐԱԼՅՈՒՐ","ՁԿՆԱԼՅՈՒՐ ՃԱՐՊՈՏ","ՄՍՈՍԿՐԻ ԱԼՅՈՒՐ","ՁԿՆԱԼՅՈՒՐ ԱՆՃԱՐՊ","ԳԱՐԵՋՐԻ ԴԻՐՏ"]
[null,null,null,null,null,null,null,null,null,null,null,null,null,null,null,null,null,"N/D","N/D","N/D","N/D","N/D","N/D","N/D","N/D","N/D","N/D","N/D","N/D","N/D","N/D","N/D","N/D","N/D","N/D","N/D","N/D","N/D","N/D",null,null,null,"Հոլշտեյն",7000,9000]
["ԽՈՏ       ",null,null,null,"Քաշ",null,"Հղի-ցամաք կովեր",null,null,null,"Կերի միավոր",null,null,"ԽՈՏ       ","աշորայի",null,null,"աշորայի","աշնանացան ցորեն","երեքնուկի","վիկ վարսակի","աշնանացան ցորենի","այլատեսակ","առվույտի","կարտոֆիլ","ոլոռ","ցորենի","արևածաղկի","բամբակի","ցորենի","ճակնդեղի   թարմ","կովի անարատ կաթ","ԱՐՅԱՆ ԱԼՅՈՒՐ","ՄՍԱԼՅՈՒՐ","ՈՍԿՐԱԼՅՈՒՐ","ՁԿՆԱԼՅՈՒՐ ՃԱՐՊՈՏ","ՄՍՈՍԿՐԻ ԱԼՅՈՒՐ","ՁԿՆԱԼՅՈՒՐ ԱՆՃԱՐՊ","ԳԱՐԵՋՐԻ ԴԻՐՏ",null,null,null,"Շվից",6500,8000]
["ԾՂՈՏ",null,null,null,400,null,"Լակտացիայի առաջին փուլ",null,null,null,"Փոխ. Էներգ. /մջ",null,null,"ԽՈՏ       ","կորնգանի",null,null,"կորնգանի","գարնան.  ցորեն","առվույտի","երեքնուկի",null,"եգիպտացորենի","երեքնուկի","կերի ճակնդեղ","սոյա",null,"բամբակի","սոյաի","գարու","ճակնդեղի  չոր","չոր անարատ կաթ",null,null,null,null,null,null,null,null,null,null,"Ջերսե",6000,7000]
["ԽՈՏԱԼՅՈՒՐ",null,null,null,450,null,"Լակտացիայի երկրորդ փուլ",null,null,null,"Հում պրոտեին /գ",null,null,"ԽՈՏ       ","երեքնուկի",null,null,"երեքնուկի","գարու","վիկ վարսակի","առվույտի",null,"արևածաղկի","վիկ վարսակի","կիսաշաքար ճակնդ.","եգիպտացորեն",null,"սոյաի","արևածաղկի","եգիպտացորենի","խմորասունկ  կերի","սերզատած կաթ",null,null,null,null,null,null,null,null,null,null,"Սիմենթալ",5000,6000]
["ԿԱՆԱՉԻ  ԱԼՈՒՐ",null,null,null,500,null,null,null,null,null,"Մարսելի պրոտեին/գ",null,null,"ԽՈՏ       ","վիկ վարսակի",null,null,"վիկ վարսակի","վարսակի",null,null,null,"վիկ վարսակի","ոլոռ վարսակի","շաքարի ճակնդեղ","վարսակ",null,null,"կանեփի",null,null,"չոր սերզատած կաթ",null,null,null,null,null,null,null,null,null,null,"Անգուս",1400,1600]
["ՄՂԵՂ",null,null,null,550,null,null,null,null,null,"Թաղանթանյութ /գ",null,null,"ԽՈՏ       ","մարգագետ. Շյուղախոտ",null,null,"մարգագետ. Շյուղախոտ","երեքնուկի",null,null,null,"ոլոռ վարսակի","այլատեսակ","գազար","ցորեն",null,null,null,null,null,"խոզի կաթ",null,null,null,null,null,null,null,null,null,null,"Կովկասյան գորշ",3500,4500]
["ՍԻԼՈՍ",null,null,null,600,null,null,null,null,null,"Օսլա  /գ",null,null,"ԽՈՏ       ","երեքնուկի սիզախոտ",null,null,"երեքնուկի սիզախոտ","ոլոռի",null,null,null,"կոմբինացված՝ եգ., ճակ., առվ.,",null,null,"գարի"]
["ՍԵՆԱԺ",null,null,null,650,null,null,null,null,null,"Շաքար  /գ",null,null,"ԾՂՈՏ","աշնանացան ցորեն",null,null,null,"վիկ վարսակի",null,null,null,null,null,null,"տարեկան"]
["ԱՐՄԱՏԱՊԱԼԱՐԱՊՏՈՒՂ                 ",null,null,null,null,null,null,null,null,null,"Հում ճարպ /գ",null,null,"ԾՂՈՏ","գարնան.  ցորեն"]
["ՀԱՏԻԿ",null,null,null,null,null,null,null,null,null,"Կալցիում /գ",null,null,"ԾՂՈՏ","գարու"]
["ԹԵՓ",null,null,null,null,null,null,null,null,null,"Ֆոսֆոր /գ",null,null,"ԾՂՈՏ","վարսակի"]
["ՔՈՒՍՊ",null,null,null,null,null,null,null,null,null,"Կարոտին /մգ",null,null,"ԾՂՈՏ","երեքնուկի"]
["ՔՈՒՍՊԱԼՅՈՒՐ",null,null,null,null,null,null,null,null,null,"D վիտամին /հազ.ԱՄ",null,null,"ԾՂՈՏ","ոլոռի"]
["Դիրտ",null,null,null,null,null,null,null,null,null,"E վիտամին /մգ",null,null,"ԾՂՈՏ","վիկ վարսակի"]
["ՄՐՈՒՐ",null,null,null,null,null,null,null,null,null,"Աղ  /գ",null,null,"ԽՈՏԱԼՅՈՒՐ","երեքնուկի"]
["ՄԶՈՒԿ",null,null,null,null,null,null,null,null,null,null,null,null,"ԽՈՏԱԼՅՈՒՐ","առվույտի"]
["ԿԱԹ",null,null,null,null,null,null,null,null,null,null,null,null,"ԽՈՏԱԼՅՈՒՐ","վիկ վարսակի"]
["ԱՐՅԱՆ ԱԼՅՈՒՐ",null,null,null,null,null,null,null,null,null,null,null,null,"ԿԱՆԱՉԻ  ԱԼՈՒՐ","վիկ վարսակի"]
["ՄՍԱԼՅՈՒՐ",null,null,null,null,null,null,null,null,null,null,null,null,"ԿԱՆԱՉԻ  ԱԼՈՒՐ","երեքնուկի"]
["ՈՍԿՐԱԼՅՈՒՐ",null,null,null,null,null,null,null,null,null,null,null,null,"ԿԱՆԱՉԻ  ԱԼՈՒՐ","առվույտի"]
["ՁԿՆԱԼՅՈՒՐ ՃԱՐՊՈՏ",null,null,null,null,null,null,null,null,null,null,null,null,"ՄՂԵՂ","աշնանացան ցորենի"]
["ՄՍՈՍԿՐԻ ԱԼՅՈՒՐ",null,null,null,null,null,null,null,null,null,null,null,null,"ՍԻԼՈՍ","այլատեսակ"]
["ՁԿՆԱԼՅՈՒՐ ԱՆՃԱՐՊ",null,null,null,null,null,null,null,null,null,null,null,null,"ՍԻԼՈՍ","եգիպտացորենի"]
[null,null,null,null,null,null,null,null,null,null,null,null,null,"ՍԻԼՈՍ","արևածաղկի"]
[null,null,null,null,null,null,null,null,null,null,null,null,null,"ՍԻԼՈՍ","վիկ վարսակի"]
[null,null,null,null,null,null,null,null,null,null,null,null,null,"ՍԻԼՈՍ","ոլոռ վարսակի"]
[null,null,null,null,null,null,null,null,null,null,null,null,null,"ՍԻԼՈՍ","կոմբինացված՝ եգ., ճակ., առվ.,"]
[null,null,null,null,null,null,null,null,null,null,null,null,null,"ՍԵՆԱԺ","առվույտի"]
[null,null,null,null,null,null,null,null,null,null,null,null,null,"ՍԵՆԱԺ","երեքնուկի"]
[null,null,null,null,null,null,null,null,null,null,null,null,null,"ՍԵՆԱԺ","վիկ վարսակի"]
[null,null,null,null,null,null,null,null,null,null,null,null,null,"ՍԵՆԱԺ","ոլոռ վարսակի"]
[null,null,null,null,null,null,null,null,null,null,null,null,null,"ՍԵՆԱԺ","այլատեսակ"]
[null,null,null,null,null,null,null,null,null,null,null,null,null,"ԱՐՄԱՏԱՊԱԼԱՐԱՊՏՈՒՂ                 ","կարտոֆիլ"]
[null,null,null,null,null,null,null,null,null,null,null,null,null,"ԱՐՄԱՏԱՊԱԼԱՐԱՊՏՈՒՂ                 ","կերի ճակնդեղ"]
[null,null,null,null,null,null,null,null,null,null,null,null,null,"ԱՐՄԱՏԱՊԱԼԱՐԱՊՏՈՒՂ                 ","կիսաշաքար ճակնդ."]
[null,null,null,null,null,null,null,null,null,null,null,null,null,"ԱՐՄԱՏԱՊԱԼԱՐԱՊՏՈՒՂ                 ","շաքարի ճակնդեղ"]
[null,null,null,null,null,null,null,null,null,null,null,null,null,"ԱՐՄԱՏԱՊԱԼԱՐԱՊՏՈՒՂ                 ","գազար"]
[null,null,null,null,null,null,null,null,null,null,null,null,null,"ՀԱՏԻԿ","ոլոռ"]
[null,null,null,null,null,null,null,null,null,null,null,null,null,"ՀԱՏԻԿ","սոյա"]
[null,null,null,null,null,null,null,null,null,null,null,null,null,"ՀԱՏԻԿ","եգիպտացորեն"]
[null,null,null,null,null,null,null,null,null,null,null,null,null,"ՀԱՏԻԿ","վարսակ"]
[null,null,null,null,null,null,null,null,null,null,null,null,null,"ՀԱՏԻԿ","ցորեն"]
[null,null,null,null,null,null,null,null,null,null,null,null,null,"ՀԱՏԻԿ","գարի"]
[null,null,null,null,null,null,null,null,null,null,null,null,null,"ՀԱՏԻԿ","տարեկան"]
[null,null,null,null,null,null,null,null,null,null,null,null,null,"ԹԵՓ","ցորենի"]
[null,null,null,null,null,null,null,null,null,null,null,null,null,"ՔՈՒՍՊ","արևածաղկի"]
[null,null,null,null,null,null,null,null,null,null,null,null,null,"ՔՈՒՍՊ","բամբակի"]
[null,null,null,null,null,null,null,null,null,null,null,null,null,"ՔՈՒՍՊ","սոյաի"]
[null,null,null,null,null,null,null,null,null,null,null,null,null,"ՔՈՒՍՊԱԼՅՈՒՐ","բամբակի"]
[null,null,null,null,null,null,null,null,null,null,null,null,null,"ՔՈՒՍՊԱԼՅՈՒՐ","սոյաի"]
[null,null,null,null,null,null,null,null,null,null,null,null,null,"ՔՈՒՍՊԱԼՅՈՒՐ","արևածաղկի"]
[null,null,null,null,null,null,null,null,null,null,null,null,null,"ՔՈՒՍՊԱԼՅՈՒՐ","կանեփի"]
[null,null,null,null,null,null,null,null,null,null,null,null,null,"Դիրտ","գարեջրի   դիրտ"]
[null,null,null,null,null,null,null,null,null,null,null,null,null,"ՄՐՈՒՐ","ցորենի"]
[null,null,null,null,null,null,null,null,null,null,null,null,null,"ՄՐՈՒՐ","գարու"]
[null,null,null,null,null,null,null,null,null,null,null,null,null,"ՄՐՈՒՐ","եգիպտացորենի"]
[null,null,null,null,null,null,null,null,null,null,null,null,null,"ՄԶՈՒԿ","ճակնդեղի   թարմ"]
[null,null,null,null,null,null,null,null,null,null,null,null,null,"ՄԶՈՒԿ","ճակնդեղի  չոր"]
[null,null,null,null,null,null,null,null,null,null,null,null,null,"ՄԶՈՒԿ","խմորասունկ  կերի"]
[null,null,null,null,null,null,null,null,null,null,null,null,null,"ԿԱԹ","կովի անարատ կաթ"]
[null,null,null,null,null,null,null,null,null,null,null,null,null,"ԿԱԹ","չոր անարատ կաթ"]
[null,null,null,null,null,null,null,null,null,null,null,null,null,"ԿԱԹ","սերզատած կաթ"]
[null,null,null,null,null,null,null,null,null,null,null,null,null,"ԿԱԹ","չոր սերզատած կաթ"]
[null,null,null,null,null,null,null,null,null,null,null,null,null,"ԿԱԹ","խոզի կաթ"]
[null,null,null,null,null,null,null,null,null,null,null,null,null,"ԱՐՅԱՆ ԱԼՅՈՒՐ","արյան ալյուր"]
[null,null,null,null,null,null,null,null,null,null,null,null,null,"ՄՍԱԼՅՈՒՐ","մսալյուր"]
[null,null,null,null,null,null,null,null,null,null,null,null,null,"ՈՍԿՐԱԼՅՈՒՐ","ոսկրալյուր"]
[null,null,null,null,null,null,null,null,null,null,null,null,null,"ՁԿՆԱԼՅՈՒՐ ՃԱՐՊՈՏ","ձկնալյուր ճարպոտ"]
[null,null,null,null,null,null,null,null,null,null,null,null,null,"ՄՍՈՍԿՐԻ ԱԼՅՈՒՐ","մսոսկրի ալյուր"]
[null,null,null,null,null,null,null,null,null,null,null,null,null,"ՁԿՆԱԼՅՈՒՐ ԱՆՃԱՐՊ","ձկնալյուր անճարպ"]

{"sheet":"Հաշվիչ","index":3,"n_rows":51,"n_cols":135,"rows_kept":51,"cut":false,"hidden":false,"merged":[[24,19,24,20],[40,27,40,29],[42,27,42,29],[40,22,42,22],[32,16,34,18],[18,19,20,20],[18,16,20,17],[2,44,4,57],[2,58,4,71],[2,72,4,85],[4,3,5,3],[4,7,5,7],[4,5,5,5],[4,9,5,9],[2,100,4,113],[2,86,4,99],[4,11,4,12]]}
[1]
[]
[null,null,null,null,null,null,null,null,null,null,null,null,null,null,null,null,null,null,null,null,null,null,null,null,null,null,null,null,null,null,null,null,null,null,null,null,null,null,null,null,null,null,null,null,"Կերակրատեսակ 1-մեկ կգի հաշվով",null,null,null,null,null,null,null,null,null,null,null,null,null,"Կերակրատեսակ 2-մեկ կգի հաշվով",null,null,null,null,null,null,null,null,null,null,null,null,null,"Կերակրատեսակ 1-Կշռված",null,null,null,null,null,null,null,null,null,null,null,null,null,"Կերակրատեսակ 2-Կշռված",null,null,null,null,null,null,null,null,null,null,null,null,null,"Կերակրատեսակներ ընդամենը",null,null,null,null,null,null,null,null,null,null,null,null,null,null,null,"Ցուցանիշներ","Հղի-ցամաք կովեր","Հղի-ցամաք կովեր","Հղի-ցամաք կովեր","Հղի-ցամաք կովեր","Հղի-ցամաք կովեր","Հղի-ցամաք կովեր","Լակտացիայի առաջին փուլ","Լակտացիայի առաջին փուլ","Լակտացիայի առաջին փուլ","Լակտացիայի առաջին փուլ","Լակտացիայի առաջին փուլ","Լակտացիայի առաջին փուլ","Լակտացիայի երկրորդ փուլ","Լակտացիայի երկրորդ փուլ","Լակտացիայի երկրորդ փուլ","Լակտացիայի երկրորդ փուլ","Լակտացիայի երկրորդ փուլ","Լակտացիայի երկրորդ փուլ"]
[null,null,null,null,null,null,null,null,null,null,null,null,null,null,null,null,null,null,null,null,null,null,null,null,null,null,null,null,null,null,null,null,null,null,null,null,null,null,null,null,null,null,null,null,null,null,null,null,null,null,null,null,null,null,null,null,null,null,null,null,null,null,null,null,null,null,null,null,null,null,null,null,null,null,null,null,null,null,null,null,null,null,null,null,null,null,null,null,null,null,null,null,null,null,null,null,null,null,null,null,null,null,null,null,null,null,null,null,null,null,null,null,null,null,null,null,"Քաշ",400,450,500,550,600,650,400,450,500,550,600,650,400,450,500,550,600,650]
[null,null,null,"Կերակրատեսակ 1",null,"ԿԳ",null,"Կերակրատեսակ 2",null,"ԿԳ",null,"Կերի գինը",null,null,null,null,null,null,null,null,null,null,null,null,null,null,null,null,null,null,null,null,null,null,null,null,null,null,null,null,null,null,null,null,null,null,null,null,null,null,null,null,null,null,null,null,null,null,null,null,null,null,null,null,null,null,null,null,null,null,null,null,null,null,null,null,null,null,null,null,null,null,null,null,null,null,null,null,null,null,null,null,null,null,null,null,null,null,null,null,null,null,null,null,null,null,null,null,null,null,null,null,null,null,null,null,"Չոր նյութ /կգ",9.8000000000000007,10.6,11.4,12.2,13,13.7,12,12.5,13,13.4,13.8,14.2,10.5,11.3,12.2,13,13.6,14]
[null,null,null,null,null,null,null,null,null,null,null,"Min Price","Max Price",null,null,null,null,null,null,null,null,null,null,"Առկա","I","II","III","NORMA","GAP",null,null,null,null,null,null,null,null,null,null,null,null,null,null,null,"Չոր նյութ /կգ","Կերի միավոր","Փոխ. Էներգ. /մջ","Հում պրոտեին /գ","Մարսելի պրոտեին/գ"," Թաղանթանյութ /գ","Օսլա  /գ","Շաքար  /գ","Հում ճարպ /գ","Կալցիում /գ","Ֆոսֆոր /գ","Կարոտին /մգ","D վիտամին /հազ.ԱՄ","E վիտամին /մգ","Չոր նյութ /կգ","Կերի միավոր","Փոխ. Էներգ. /մջ","Հում պրոտեին /գ","Մարսելի պրոտեին/գ"," Թաղանթանյութ /գ","Օսլա  /գ","Շաքար  /գ","Հում ճարպ /գ","Կալցիում /գ","Ֆոսֆոր /գ","Կարոտին /մգ","D վիտամին /հազ.ԱՄ","E վիտամին /մգ","Չոր նյութ /կգ","Կերի միավոր","Փոխ. Էներգ. /մջ","Հում պրոտեին /գ","Մարսելի պրոտեին/գ"," Թաղանթանյութ /գ","Օսլա  /գ","Շաքար  /գ","Հում ճարպ /գ","Կալցիում /գ","Ֆոսֆոր /գ","Կարոտին /մգ","D վիտամին /հազ.ԱՄ","E վիտամին /մգ","Չոր նյութ /կգ","Կերի միավոր","Փոխ. Էներգ. /մջ","Հում պրոտեին /գ","Մարսելի պրոտեին/գ"," Թաղանթանյութ /գ","Օսլա  /գ","Շաքար  /գ","Հում ճարպ /գ","Կալցիում /գ","Ֆոսֆոր /գ","Կարոտին /մգ","D վիտամին /հազ.ԱՄ","E վիտամին /մգ","Չոր նյութ /կգ","Կերի միավոր","Փոխ. Էներգ. /մջ","Հում պրոտեին /գ","Մարսելի պրոտեին/գ"," Թաղանթանյութ /գ","Օսլա  /գ","Շաքար  /գ","Հում ճարպ /գ","Կալցիում /գ","Ֆոսֆոր /գ","Կարոտին /մգ","D վիտամին /հազ.ԱՄ","E վիտամին /մգ",null,null,"Կերի միավոր",6.4,7,7.5,8,8.5,8.9,8.3000000000000007,8.6999999999999993,9,9.4,9.6999999999999993,10,6.7,7.3,7.9,8.5,8.9,9.1999999999999993]
[null,"ԽՈՏ       ",null,"մարգագետ. Շյուղախոտ",null,8,null,"N/D",null,0,null,27,45,{"$f":"L7*(J7+F7)","v":216},{"$f":"M7*(J7+F7)","v":360},null,null,null,null,null,null,null,"Չոր նյութ /կգ",{"$f":"CW50/1000","v":14.885999999999999},{"$f":"IF(AND($A$1=1, $T$19=400),'Օրական նորմեր'!T3,IF(AND($A$1=1, $T$19=450),'Օրական նորմեր'!U3,IF(AND($A$1=1, $T$19=500),'Օրական նորմեր'!V3,IF(AND($A$1=1, $T$19=550),'Օրական նորմեր'!W3,IF(AND($A$1=1, $T$19=600),'Օրական նորմեր'!X3,IF(AND($A$1=1, $T$19=650),'Օրական նորմեր'!Y3,0))))))","v":11.4},{"$f":"IF(AND($A$1=2, $T$19=400),'Օրական նորմեր'!Z3,IF(AND($A$1=2, $T$19=450),'Օրական նորմեր'!AA3,IF(AND($A$1=2, $T$19=500),'Օրական նորմեր'!AB3,IF(AND($A$1=2, $T$19=550),'Օրական նորմեր'!AC3,IF(AND($A$1=2, $T$19=600),'Օրական նորմեր'!AD3,IF(AND($A$1=2, $T$19=650),'Օրական նորմեր'!AE3,0))))))","v":0},{"$f":"IF(AND($A$1=3, $T$19=400),'Օրական նորմեր'!AF3,IF(AND($A$1=3, $T$19=450),'Օրական նորմեր'!AG3,IF(AND($A$1=3, $T$19=500),'Օրական նորմեր'!AH3,IF(AND($A$1=3, $T$19=550),'Օրական նորմեր'!AI3,IF(AND($A$1=3, $T$19=600),'Օրական նորմեր'!AJ3,IF(AND($A$1=3, $T$19=650),'Օրական նորմեր'!AK3,0))))))","v":0},{"$f":"SUM(Y7:AA7)","v":11.4},{"$f":"X7-AB7","v":3.4859999999999989},null,null,null,null,null,null,null,null,null,null,null,null,null,null,null,{"$f":"IF($D$7=test!$B$2,test!C2,IF(Հաշվիչ!$D$7=test!$B$3,test!C3,IF(Հաշվիչ!$D$7=test!$B$4,test!C4,IF(Հաշվիչ!$D$7=test!$B$5,test!C5,IF(Հաշվիչ!$D$7=test!$B$6,test!C6,IF(Հաշվիչ!$D$7=test!$B$7,test!C7,0))))))","v":862},{"$f":"IF($D$7=test!$B$2,test!D2,IF(Հաշվիչ!$D$7=test!$B$3,test!D3,IF(Հաշվիչ!$D$7=test!$B$4,test!D4,IF(Հաշվիչ!$D$7=test!$B$5,test!D5,IF(Հաշվիչ!$D$7=test!$B$6,test!D6,IF(Հաշվիչ!$D$7=test!$B$7,test!D7,0))))))","v":0.44},{"$f":"IF($D$7=test!$B$2,test!E2,IF(Հաշվիչ!$D$7=test!$B$3,test!E3,IF(Հաշվիչ!$D$7=test!$B$4,test!E4,IF(Հաշվիչ!$D$7=test!$B$5,test!E5,IF(Հաշվիչ!$D$7=test!$B$6,test!E6,IF(Հաշվիչ!$D$7=test!$B$7,test!E7,0))))))","v":6.5},{"$f":"IF($D$7=test!$B$2,test!F2,IF(Հաշվիչ!$D$7=test!$B$3,test!F3,IF(Հաշվիչ!$D$7=test!$B$4,test!F4,IF(Հաշվիչ!$D$7=test!$B$5,test!F5,IF(Հաշվիչ!$D$7=test!$B$6,test!F6,IF(Հաշվիչ!$D$7=test!$B$7,test!F7,0))))))","v":78},{"$f":"IF($D$7=test!$B$2,test!G2,IF(Հաշվիչ!$D$7=test!$B$3,test!G3,IF(Հաշվիչ!$D$7=test!$B$4,test!G4,IF(Հաշվիչ!$D$7=test!$B$5,test!G5,IF(Հաշվիչ!$D$7=test!$B$6,test!G6,IF(Հաշվիչ!$D$7=test!$B$7,test!G7,0))))))","v":34},{"$f":"IF($D$7=test!$B$2,test!H2,IF(Հաշվիչ!$D$7=test!$B$3,test!H3,IF(Հաշվիչ!$D$7=test!$B$4,test!H4,IF(Հաշվիչ!$D$7=test!$B$5,test!H5,IF(Հաշվիչ!$D$7=test!$B$6,test!H6,IF(Հաշվիչ!$D$7=test!$B$7,test!H7,0))))))","v":285},{"$f":"IF($D$7=test!$B$2,test!I2,IF(Հաշվիչ!$D$7=test!$B$3,test!I3,IF(Հաշվիչ!$D$7=test!$B$4,test!I4,IF(Հաշվիչ!$D$7=test!$B$5,test!I5,IF(Հաշվիչ!$D$7=test!$B$6,test!I6,IF(Հաշվիչ!$D$7=test!$B$7,test!I7,0))))))","v":12},{"$f":"IF($D$7=test!$B$2,test!J2,IF(Հաշվիչ!$D$7=test!$B$3,test!J3,IF(Հաշվիչ!$D$7=test!$B$4,test!J4,IF(Հաշվիչ!$D$7=test!$B$5,test!J5,IF(Հաշվիչ!$D$7=test!$B$6,test!J6,IF(Հաշվիչ!$D$7=test!$B$7,test!J7,0))))))","v":26},{"$f":"IF($D$7=test!$B$2,test!K2,IF(Հաշվիչ!$D$7=test!$B$3,test!K3,IF(Հաշվիչ!$D$7=test!$B$4,test!K4,IF(Հաշվիչ!$D$7=test!$B$5,test!K5,IF(Հաշվիչ!$D$7=test!$B$6,test!K6,IF(Հաշվիչ!$D$7=test!$B$7,test!K7,0))))))","v":23},{"$f":"IF($D$7=test!$B$2,test!L2,IF(Հաշվիչ!$D$7=test!$B$3,test!L3,IF(Հաշվիչ!$D$7=test!$B$4,test!L4,IF(Հաշվիչ!$D$7=test!$B$5,test!L5,IF(Հաշվիչ!$D$7=test!$B$6,test!L6,IF(Հաշվիչ!$D$7=test!$B$7,test!L7,0))))))","v":3.7},{"$f":"IF($D$7=test!$B$2,test!M2,IF(Հաշվիչ!$D$7=test!$B$3,test!M3,IF(Հաշվիչ!$D$7=test!$B$4,test!M4,IF(Հաշվիչ!$D$7=test!$B$5,test!M5,IF(Հաշվիչ!$D$7=test!$B$6,test!M6,IF(Հաշվիչ!$D$7=test!$B$7,test!M7,0))))))","v":2.1},{"$f":"IF($D$7=test!$B$2,test!N2,IF(Հաշվիչ!$D$7=test!$B$3,test!N3,IF(Հաշվիչ!$D$7=test!$B$4,test!N4,IF(Հաշվիչ!$D$7=test!$B$5,test!N5,IF(Հաշվիչ!$D$7=test!$B$6,test!N6,IF(Հաշվիչ!$D$7=test!$B$7,test!N7,0))))))","v":15},{"$f":"IF($D$7=test!$B$2,test!O2,IF(Հաշվիչ!$D$7=test!$B$3,test!O3,IF(Հաշվիչ!$D$7=test!$B$4,test!O4,IF(Հաշվիչ!$D$7=test!$B$5,test!O5,IF(Հաշվիչ!$D$7=test!$B$6,test!O6,IF(Հաշվիչ!$D$7=test!$B$7,test!O7,0))))))","v":0},{"$f":"IF($D$7=test!$B$2,test!P2,IF(Հաշվիչ!$D$7=test!$B$3,test!P3,IF(Հաշվիչ!$D$7=test!$B$4,test!P4,IF(Հաշվիչ!$D$7=test!$B$5,test!P5,IF(Հաշվիչ!$D$7=test!$B$6,test!P6,IF(Հաշվիչ!$D$7=test!$B$7,test!P7,0))))))","v":0},{"$f":"IF($H$7=test!$B$2,test!C2,IF(Հաշվիչ!$H$7=test!$B$3,test!C3,IF(Հաշվիչ!$H$7=test!$B$4,test!C4,IF(Հաշվիչ!$H$7=test!$B$5,test!C5,IF(Հաշվիչ!$H$7=test!$B$6,test!C6,IF(Հաշվիչ!$H$7=test!$B$7,test!C7,0))))))","v":0},{"$f":"IF($H$7=test!$B$2,test!D2,IF(Հաշվիչ!$H$7=test!$B$3,test!D3,IF(Հաշվիչ!$H$7=test!$B$4,test!D4,IF(Հաշվիչ!$H$7=test!$B$5,test!D5,IF(Հաշվիչ!$H$7=test!$B$6,test!D6,IF(Հաշվիչ!$H$7=test!$B$7,test!D7,0))))))","v":0},{"$f":"IF($H$7=test!$B$2,test!E2,IF(Հաշվիչ!$H$7=test!$B$3,test!E3,IF(Հաշվիչ!$H$7=test!$B$4,test!E4,IF(Հաշվիչ!$H$7=test!$B$5,test!E5,IF(Հաշվիչ!$H$7=test!$B$6,test!E6,IF(Հաշվիչ!$H$7=test!$B$7,test!E7,0))))))","v":0},{"$f":"IF($H$7=test!$B$2,test!F2,IF(Հաշվիչ!$H$7=test!$B$3,test!F3,IF(Հաշվիչ!$H$7=test!$B$4,test!F4,IF(Հաշվիչ!$H$7=test!$B$5,test!F5,IF(Հաշվիչ!$H$7=test!$B$6,test!F6,IF(Հաշվիչ!$H$7=test!$B$7,test!F7,0))))))","v":0},{"$f":"IF($H$7=test!$B$2,test!G2,IF(Հաշվիչ!$H$7=test!$B$3,test!G3,IF(Հաշվիչ!$H$7=test!$B$4,test!G4,IF(Հաշվիչ!$H$7=test!$B$5,test!G5,IF(Հաշվիչ!$H$7=test!$B$6,test!G6,IF(Հաշվիչ!$H$7=test!$B$7,test!G7,0))))))","v":0},{"$f":"IF($H$7=test!$B$2,test!H2,IF(Հաշվիչ!$H$7=test!$B$3,test!H3,IF(Հաշվիչ!$H$7=test!$B$4,test!H4,IF(Հաշվիչ!$H$7=test!$B$5,test!H5,IF(Հաշվիչ!$H$7=test!$B$6,test!H6,IF(Հաշվիչ!$H$7=test!$B$7,test!H7,0))))))","v":0},{"$f":"IF($H$7=test!$B$2,test!I2,IF(Հաշվիչ!$H$7=test!$B$3,test!I3,IF(Հաշվիչ!$H$7=test!$B$4,test!I4,IF(Հաշվիչ!$H$7=test!$B$5,test!I5,IF(Հաշվիչ!$H$7=test!$B$6,test!I6,IF(Հաշվիչ!$H$7=test!$B$7,test!I7,0))))))","v":0},{"$f":"IF($H$7=test!$B$2,test!J2,IF(Հաշվիչ!$H$7=test!$B$3,test!J3,IF(Հաշվիչ!$H$7=test!$B$4,test!J4,IF(Հաշվիչ!$H$7=test!$B$5,test!J5,IF(Հաշվիչ!$H$7=test!$B$6,test!J6,IF(Հաշվիչ!$H$7=test!$B$7,test!J7,0))))))","v":0},{"$f":"IF($H$7=test!$B$2,test!K2,IF(Հաշվիչ!$H$7=test!$B$3,test!K3,IF(Հաշվիչ!$H$7=test!$B$4,test!K4,IF(Հաշվիչ!$H$7=test!$B$5,test!K5,IF(Հաշվիչ!$H$7=test!$B$6,test!K6,IF(Հաշվիչ!$H$7=test!$B$7,test!K7,0))))))","v":0},{"$f":"IF($H$7=test!$B$2,test!L2,IF(Հաշվիչ!$H$7=test!$B$3,test!L3,IF(Հաշվիչ!$H$7=test!$B$4,test!L4,IF(Հաշվիչ!$H$7=test!$B$5,test!L5,IF(Հաշվիչ!$H$7=test!$B$6,test!L6,IF(Հաշվիչ!$H$7=test!$B$7,test!L7,0))))))","v":0},{"$f":"IF($H$7=test!$B$2,test!M2,IF(Հաշվիչ!$H$7=test!$B$3,test!M3,IF(Հաշվիչ!$H$7=test!$B$4,test!M4,IF(Հաշվիչ!$H$7=test!$B$5,test!M5,IF(Հաշվիչ!$H$7=test!$B$6,test!M6,IF(Հաշվիչ!$H$7=test!$B$7,test!M7,0))))))","v":0},{"$f":"IF($H$7=test!$B$2,test!N2,IF(Հաշվիչ!$H$7=test!$B$3,test!N3,IF(Հաշվիչ!$H$7=test!$B$4,test!N4,IF(Հաշվիչ!$H$7=test!$B$5,test!N5,IF(Հաշվիչ!$H$7=test!$B$6,test!N6,IF(Հաշվիչ!$H$7=test!$B$7,test!N7,0))))))","v":0},{"$f":"IF($H$7=test!$B$2,test!O2,IF(Հաշվիչ!$H$7=test!$B$3,test!O3,IF(Հաշվիչ!$H$7=test!$B$4,test!O4,IF(Հաշվիչ!$H$7=test!$B$5,test!O5,IF(Հաշվիչ!$H$7=test!$B$6,test!O6,IF(Հաշվիչ!$H$7=test!$B$7,test!O7,0))))))","v":0},{"$f":"IF($H$7=test!$B$2,test!P2,IF(Հաշվիչ!$H$7=test!$B$3,test!P3,IF(Հաշվիչ!$H$7=test!$B$4,test!P4,IF(Հաշվիչ!$H$7=test!$B$5,test!P5,IF(Հաշվիչ!$H$7=test!$B$6,test!P6,IF(Հաշվիչ!$H$7=test!$B$7,test!P7,0))))))","v":0},{"$f":"AS7*$F7","v":6896},{"$f":"AT7*$F7","v":3.52},52,624,272,2280,96,208,184,29.6,16.8,120,0,0,{"$f":"$J7*BG7","v":0},{"$f":"$J7*BH7","v":0},0,0,0,0,0,0,0,0,0,0,0,0,{"$f":"CI7+BU7","v":6896},{"$f":"CJ7+BV7","v":3.52},52,624,272,2280,96,208,184,29.6,16.8,120,0,0,null,null,"Փոխ. Էներգ. /մջ",79,85,91,97,104,109,98,102,106,110,114,117,82,89,96,102,107,110]
[null,null,null,null,null,10,null,null,null,null,null,null,null,null,null,null,null,null,null,null,null,null,null,null,null,null,null,null,null,null,null,null,null,null,null,null,null,null,null,null,null,null,null,null,null,null,null,null,null,null,null,null,null,null,null,null,null,null,null,null,null,null,null,null,null,null,null,null,null,null,null,null,null,null,null,null,null,null,null,null,null,null,null,null,null,null,null,null,null,null,null,null,null,null,null,null,null,null,null,null,null,null,null,null,null,null,null,null,null,null,null,null,null,null,null,null,"Հում պրոտեին /գ",1100,1202,1288,1376,1462,1531,1288,1348,1395,1457,1503,1540,1010,1095,1185,1275,1335,1384]
[null,"ԾՂՈՏ",null,"գարու",null,5,null,"N/D",null,0,null,23,{"$f":"1000/20","v":50},{"$f":"L9*(J9+F9)","v":115},{"$f":"M9*(J9+F9)","v":250},null,null,null,null,null,null,null,"Կերի միավոր",{"$f":"CX50","v":10.42},{"$f":"IF(AND($A$1=1, $T$19=400),'Օրական նորմեր'!T4,IF(AND($A$1=1, $T$19=450),'Օրական նորմեր'!U4,IF(AND($A$1=1, $T$19=500),'Օրական նորմեր'!V4,IF(AND($A$1=1, $T$19=550),'Օրական նորմեր'!W4,IF(AND($A$1=1, $T$19=600),'Օրական նորմեր'!X4,IF(AND($A$1=1, $T$19=650),'Օրական նորմեր'!Y4,0))))))","v":7.5},{"$f":"IF(AND($A$1=2, $T$19=400),'Օրական նորմեր'!Z4,IF(AND($A$1=2, $T$19=450),'Օրական նորմեր'!AA4,IF(AND($A$1=2, $T$19=500),'Օրական նորմեր'!AB4,IF(AND($A$1=2, $T$19=550),'Օրական նորմեր'!AC4,IF(AND($A$1=2, $T$19=600),'Օրական նորմեր'!AD4,IF(AND($A$1=2, $T$19=650),'Օրական նորմեր'!AE4,0))))))","v":0},{"$f":"IF(AND($A$1=3, $T$19=400),'Օրական նորմեր'!AF4,IF(AND($A$1=3, $T$19=450),'Օրական նորմեր'!AG4,IF(AND($A$1=3, $T$19=500),'Օրական նորմեր'!AH4,IF(AND($A$1=3, $T$19=550),'Օրական նորմեր'!AI4,IF(AND($A$1=3, $T$19=600),'Օրական նորմեր'!AJ4,IF(AND($A$1=3, $T$19=650),'Օրական նորմեր'!AK4,0))))))","v":0},{"$f":"SUM(Y9:AA9)","v":7.5},{"$f":"X9-AB9","v":2.92},null,null,null,null,null,null,null,null,null,null,null,null,null,null,null,{"$f":"IF($D$9=test!$B$8,test!C8,IF(Հաշվիչ!$D$9=test!$B$9,test!C9,IF(Հաշվիչ!$D$9=test!$B$10,test!C10,IF(Հաշվիչ!$D$9=test!$B$11,test!C11,IF(Հաշվիչ!$D$9=test!$B$12,test!C12,IF(Հաշվիչ!$D$9=test!$B$13,test!C13,IF(Հաշվիչ!$D$9=test!$B$14,test!C14,0)))))))","v":830},{"$f":"IF($D$9=test!$B$8,test!D8,IF(Հաշվիչ!$D$9=test!$B$9,test!D9,IF(Հաշվիչ!$D$9=test!$B$10,test!D10,IF(Հաշվիչ!$D$9=test!$B$11,test!D11,IF(Հաշվիչ!$D$9=test!$B$12,test!D12,IF(Հաշվիչ!$D$9=test!$B$13,test!D13,IF(Հաշվիչ!$D$9=test!$B$14,test!D14,0)))))))","v":0.34},{"$f":"IF($D$9=test!$B$8,test!E8,IF(Հաշվիչ!$D$9=test!$B$9,test!E9,IF(Հաշվիչ!$D$9=test!$B$10,test!E10,IF(Հաշվիչ!$D$9=test!$B$11,test!E11,IF(Հաշվիչ!$D$9=test!$B$12,test!E12,IF(Հաշվիչ!$D$9=test!$B$13,test!E13,IF(Հաշվիչ!$D$9=test!$B$14,test!E14,0)))))))","v":5.71},{"$f":"IF($D$9=test!$B$8,test!F8,IF(Հաշվիչ!$D$9=test!$B$9,test!F9,IF(Հաշվիչ!$D$9=test!$B$10,test!F10,IF(Հաշվիչ!$D$9=test!$B$11,test!F11,IF(Հաշվիչ!$D$9=test!$B$12,test!F12,IF(Հաշվիչ!$D$9=test!$B$13,test!F13,IF(Հաշվիչ!$D$9=test!$B$14,test!F14,0)))))))","v":49},{"$f":"IF($D$9=test!$B$8,test!G8,IF(Հաշվիչ!$D$9=test!$B$9,test!G9,IF(Հաշվիչ!$D$9=test!$B$10,test!G10,IF(Հաշվիչ!$D$9=test!$B$11,test!G11,IF(Հաշվիչ!$D$9=test!$B$12,test!G12,IF(Հաշվիչ!$D$9=test!$B$13,test!G13,IF(Հաշվիչ!$D$9=test!$B$14,test!G14,0)))))))","v":13},{"$f":"IF($D$9=test!$B$8,test!H8,IF(Հաշվիչ!$D$9=test!$B$9,test!H9,IF(Հաշվիչ!$D$9=test!$B$10,test!H10,IF(Հաշվիչ!$D$9=test!$B$11,test!H11,IF(Հաշվիչ!$D$9=test!$B$12,test!H12,IF(Հաշվիչ!$D$9=test!$B$13,test!H13,IF(Հաշվիչ!$D$9=test!$B$14,test!H14,0)))))))","v":331},{"$f":"IF($D$9=test!$B$8,test!I8,IF(Հաշվիչ!$D$9=test!$B$9,test!I9,IF(Հաշվիչ!$D$9=test!$B$10,test!I10,IF(Հաշվիչ!$D$9=test!$B$11,test!I11,IF(Հաշվիչ!$D$9=test!$B$12,test!I12,IF(Հաշվիչ!$D$9=test!$B$13,test!I13,IF(Հաշվիչ!$D$9=test!$B$14,test!I14,0)))))))","v":0},{"$f":"IF($D$9=test!$B$8,test!J8,IF(Հաշվիչ!$D$9=test!$B$9,test!J9,IF(Հաշվիչ!$D$9=test!$B$10,test!J10,IF(Հաշվիչ!$D$9=test!$B$11,test!J11,IF(Հաշվիչ!$D$9=test!$B$12,test!J12,IF(Հաշվիչ!$D$9=test!$B$13,test!J13,IF(Հաշվիչ!$D$9=test!$B$14,test!J14,0)))))))","v":2.4},{"$f":"IF($D$9=test!$B$8,test!K8,IF(Հաշվիչ!$D$9=test!$B$9,test!K9,IF(Հաշվիչ!$D$9=test!$B$10,test!K10,IF(Հաշվիչ!$D$9=test!$B$11,test!K11,IF(Հաշվիչ!$D$9=test!$B$12,test!K12,IF(Հաշվիչ!$D$9=test!$B$13,test!K13,IF(Հաշվիչ!$D$9=test!$B$14,test!K14,0)))))))","v":19},{"$f":"IF($D$9=test!$B$8,test!L8,IF(Հաշվիչ!$D$9=test!$B$9,test!L9,IF(Հաշվիչ!$D$9=test!$B$10,test!L10,IF(Հաշվիչ!$D$9=test!$B$11,test!L11,IF(Հաշվիչ!$D$9=test!$B$12,test!L12,IF(Հաշվիչ!$D$9=test!$B$13,test!L13,IF(Հաշվիչ!$D$9=test!$B$14,test!L14,0)))))))","v":3.3},{"$f":"IF($D$9=test!$B$8,test!M8,IF(Հաշվիչ!$D$9=test!$B$9,test!M9,IF(Հաշվիչ!$D$9=test!$B$10,test!M10,IF(Հաշվիչ!$D$9=test!$B$11,test!M11,IF(Հաշվիչ!$D$9=test!$B$12,test!M12,IF(Հաշվիչ!$D$9=test!$B$13,test!M13,IF(Հաշվիչ!$D$9=test!$B$14,test!M14,0)))))))","v":0.8},{"$f":"IF($D$9=test!$B$8,test!N8,IF(Հաշվիչ!$D$9=test!$B$9,test!N9,IF(Հաշվիչ!$D$9=test!$B$10,test!N10,IF(Հաշվիչ!$D$9=test!$B$11,test!N11,IF(Հաշվիչ!$D$9=test!$B$12,test!N12,IF(Հաշվիչ!$D$9=test!$B$13,test!N13,IF(Հաշվիչ!$D$9=test!$B$14,test!N14,0)))))))","v":0},{"$f":"IF($D$9=test!$B$8,test!O8,IF(Հաշվիչ!$D$9=test!$B$9,test!O9,IF(Հաշվիչ!$D$9=test!$B$10,test!O10,IF(Հաշվիչ!$D$9=test!$B$11,test!O11,IF(Հաշվիչ!$D$9=test!$B$12,test!O12,IF(Հաշվիչ!$D$9=test!$B$13,test!O13,IF(Հաշվիչ!$D$9=test!$B$14,test!O14,0)))))))","v":5},{"$f":"IF($D$9=test!$B$8,test!P8,IF(Հաշվիչ!$D$9=test!$B$9,test!P9,IF(Հաշվիչ!$D$9=test!$B$10,test!P10,IF(Հաշվիչ!$D$9=test!$B$11,test!P11,IF(Հաշվիչ!$D$9=test!$B$12,test!P12,IF(Հաշվիչ!$D$9=test!$B$13,test!P13,IF(Հաշվիչ!$D$9=test!$B$14,test!P14,0)))))))","v":0},{"$f":"IF($H$9=test!$B$8,test!C8,IF(Հաշվիչ!$H$9=test!$B$9,test!C9,IF(Հաշվիչ!$H$9=test!$B$10,test!C10,IF(Հաշվիչ!$H$9=test!$B$11,test!C11,IF(Հաշվիչ!$H$9=test!$B$12,test!C12,IF(Հաշվիչ!$H$9=test!$B$13,test!C13,IF(Հաշվիչ!$H$9=test!$B$14,test!C14,0)))))))","v":0},{"$f":"IF($H$9=test!$B$8,test!D8,IF(Հաշվիչ!$H$9=test!$B$9,test!D9,IF(Հաշվիչ!$H$9=test!$B$10,test!D10,IF(Հաշվիչ!$H$9=test!$B$11,test!D11,IF(Հաշվիչ!$H$9=test!$B$12,test!D12,IF(Հաշվիչ!$H$9=test!$B$13,test!D13,IF(Հաշվիչ!$H$9=test!$B$14,test!D14,0)))))))","v":0},{"$f":"IF($H$9=test!$B$8,test!E8,IF(Հաշվիչ!$H$9=test!$B$9,test!E9,IF(Հաշվիչ!$H$9=test!$B$10,test!E10,IF(Հաշվիչ!$H$9=test!$B$11,test!E11,IF(Հաշվիչ!$H$9=test!$B$12,test!E12,IF(Հաշվիչ!$H$9=test!$B$13,test!E13,IF(Հաշվիչ!$H$9=test!$B$14,test!E14,0)))))))","v":0},{"$f":"IF($H$9=test!$B$8,test!F8,IF(Հաշվիչ!$H$9=test!$B$9,test!F9,IF(Հաշվիչ!$H$9=test!$B$10,test!F10,IF(Հաշվիչ!$H$9=test!$B$11,test!F11,IF(Հաշվիչ!$H$9=test!$B$12,test!F12,IF(Հաշվիչ!$H$9=test!$B$13,test!F13,IF(Հաշվիչ!$H$9=test!$B$14,test!F14,0)))))))","v":0},{"$f":"IF($H$9=test!$B$8,test!G8,IF(Հաշվիչ!$H$9=test!$B$9,test!G9,IF(Հաշվիչ!$H$9=test!$B$10,test!G10,IF(Հաշվիչ!$H$9=test!$B$11,test!G11,IF(Հաշվիչ!$H$9=test!$B$12,test!G12,IF(Հաշվիչ!$H$9=test!$B$13,test!G13,IF(Հաշվիչ!$H$9=test!$B$14,test!G14,0)))))))","v":0},{"$f":"IF($H$9=test!$B$8,test!H8,IF(Հաշվիչ!$H$9=test!$B$9,test!H9,IF(Հաշվիչ!$H$9=test!$B$10,test!H10,IF(Հաշվիչ!$H$9=test!$B$11,test!H11,IF(Հաշվիչ!$H$9=test!$B$12,test!H12,IF(Հաշվիչ!$H$9=test!$B$13,test!H13,IF(Հաշվիչ!$H$9=test!$B$14,test!H14,0)))))))","v":0},{"$f":"IF($H$9=test!$B$8,test!I8,IF(Հաշվիչ!$H$9=test!$B$9,test!I9,IF(Հաշվիչ!$H$9=test!$B$10,test!I10,IF(Հաշվիչ!$H$9=test!$B$11,test!I11,IF(Հաշվիչ!$H$9=test!$B$12,test!I12,IF(Հաշվիչ!$H$9=test!$B$13,test!I13,IF(Հաշվիչ!$H$9=test!$B$14,test!I14,0)))))))","v":0},{"$f":"IF($H$9=test!$B$8,test!J8,IF(Հաշվիչ!$H$9=test!$B$9,test!J9,IF(Հաշվիչ!$H$9=test!$B$10,test!J10,IF(Հաշվիչ!$H$9=test!$B$11,test!J11,IF(Հաշվիչ!$H$9=test!$B$12,test!J12,IF(Հաշվիչ!$H$9=test!$B$13,test!J13,IF(Հաշվիչ!$H$9=test!$B$14,test!J14,0)))))))","v":0},{"$f":"IF($H$9=test!$B$8,test!K8,IF(Հաշվիչ!$H$9=test!$B$9,test!K9,IF(Հաշվիչ!$H$9=test!$B$10,test!K10,IF(Հաշվիչ!$H$9=test!$B$11,test!K11,IF(Հաշվիչ!$H$9=test!$B$12,test!K12,IF(Հաշվիչ!$H$9=test!$B$13,test!K13,IF(Հաշվիչ!$H$9=test!$B$14,test!K14,0)))))))","v":0},{"$f":"IF($H$9=test!$B$8,test!L8,IF(Հաշվիչ!$H$9=test!$B$9,test!L9,IF(Հաշվիչ!$H$9=test!$B$10,test!L10,IF(Հաշվիչ!$H$9=test!$B$11,test!L11,IF(Հաշվիչ!$H$9=test!$B$12,test!L12,IF(Հաշվիչ!$H$9=test!$B$13,test!L13,IF(Հաշվիչ!$H$9=test!$B$14,test!L14,0)))))))","v":0},{"$f":"IF($H$9=test!$B$8,test!M8,IF(Հաշվիչ!$H$9=test!$B$9,test!M9,IF(Հաշվիչ!$H$9=test!$B$10,test!M10,IF(Հաշվիչ!$H$9=test!$B$11,test!M11,IF(Հաշվիչ!$H$9=test!$B$12,test!M12,IF(Հաշվիչ!$H$9=test!$B$13,test!M13,IF(Հաշվիչ!$H$9=test!$B$14,test!M14,0)))))))","v":0},{"$f":"IF($H$9=test!$B$8,test!N8,IF(Հաշվիչ!$H$9=test!$B$9,test!N9,IF(Հաշվիչ!$H$9=test!$B$10,test!N10,IF(Հաշվիչ!$H$9=test!$B$11,test!N11,IF(Հաշվիչ!$H$9=test!$B$12,test!N12,IF(Հաշվիչ!$H$9=test!$B$13,test!N13,IF(Հաշվիչ!$H$9=test!$B$14,test!N14,0)))))))","v":0},{"$f":"IF($H$9=test!$B$8,test!O8,IF(Հաշվիչ!$H$9=test!$B$9,test!O9,IF(Հաշվիչ!$H$9=test!$B$10,test!O10,IF(Հաշվիչ!$H$9=test!$B$11,test!O11,IF(Հաշվիչ!$H$9=test!$B$12,test!O12,IF(Հաշվիչ!$H$9=test!$B$13,test!O13,IF(Հաշվիչ!$H$9=test!$B$14,test!O14,0)))))))","v":0},{"$f":"IF($H$9=test!$B$8,test!P8,IF(Հաշվիչ!$H$9=test!$B$9,test!P9,IF(Հաշվիչ!$H$9=test!$B$10,test!P10,IF(Հաշվիչ!$H$9=test!$B$11,test!P11,IF(Հաշվիչ!$H$9=test!$B$12,test!P12,IF(Հաշվիչ!$H$9=test!$B$13,test!P13,IF(Հաշվիչ!$H$9=test!$B$14,test!P14,0)))))))","v":0},{"$f":"AS9*$F9","v":4150},{"$f":"AT9*$F9","v":1.7000000000000002},{"$f":"AU9*$F9","v":28.55},{"$f":"AV9*$F9","v":245},{"$f":"AW9*$F9","v":65},{"$f":"AX9*$F9","v":1655},{"$f":"AY9*$F9","v":0},{"$f":"AZ9*$F9","v":12},{"$f":"BA9*$F9","v":95},{"$f":"BB9*$F9","v":16.5},{"$f":"BC9*$F9","v":4},{"$f":"BD9*$F9","v":0},{"$f":"BE9*$F9","v":25},{"$f":"BF9*$F9","v":0},{"$f":"$J9*BG9","v":0},{"$f":"$J9*BH9","v":0},{"$f":"$J9*BI9","v":0},{"$f":"$J9*BJ9","v":0},{"$f":"$J9*BK9","v":0},{"$f":"$J9*BL9","v":0},{"$f":"$J9*BM9","v":0},{"$f":"$J9*BN9","v":0},{"$f":"$J9*BO9","v":0},{"$f":"$J9*BP9","v":0},{"$f":"$J9*BQ9","v":0},{"$f":"$J9*BR9","v":0},{"$f":"$J9*BS9","v":0},{"$f":"$J9*BT9","v":0},{"$f":"CI9+BU9","v":4150},{"$f":"CJ9+BV9","v":1.7000000000000002},{"$f":"CK9+BW9","v":28.55},{"$f":"CL9+BX9","v":245},{"$f":"CM9+BY9","v":65},{"$f":"CN9+BZ9","v":1655},{"$f":"CO9+CA9","v":0},{"$f":"CP9+CB9","v":12},{"$f":"CQ9+CC9","v":95},{"$f":"CR9+CD9","v":16.5},{"$f":"CS9+CE9","v":4},{"$f":"CT9+CF9","v":0},{"$f":"CU9+CG9","v":25},{"$f":"CV9+CH9","v":0},null,null,"Մարսելի պրոտեին/գ",704,770,825,880,936,979,780,818,846,884,912,940,570,620,672,722,756,782]
[null,null,null,null,null,10,null,null,null,null,null,null,null,null,null,null,null,null,null,null,null,null,null,null,null,null,null,null,null,null,null,null,null,null,null,null,null,null,null,null,null,null,null,null,null,null,null,null,null,null,null,null,null,null,null,null,null,null,null,null,null,null,null,null,null,null,null,null,null,null,null,null,null,null,null,null,null,null,null,null,null,null,null,null,null,null,null,null,null,null,null,null,null,null,null,null,null,null,null,null,null,null,null,null,null,null,null,null,null,null,null,null,null,null,null,null," Թաղանթանյութ /գ",2867,3136,3360,3584,3808,3987,3400,3567,3690,3854,3977,4100,3015,3285,3556,3825,4010,4140]
[null,"ԽՈՏԱԼՅՈՒՐ",null,"երեքնուկի",null,0,null,"N/D",null,0,null,50,60,0,0,null,"Հղի-ցամաք կովեր",null,null,null,null,null,"Փոխ. Էներգ. /մջ",{"$f":"CY50","v":128.19},{"$f":"IF(AND($A$1=1, $T$19=400),'Օրական նորմեր'!T5,IF(AND($A$1=1, $T$19=450),'Օրական նորմեր'!U5,IF(AND($A$1=1, $T$19=500),'Օրական նորմեր'!V5,IF(AND($A$1=1, $T$19=550),'Օրական նորմեր'!W5,IF(AND($A$1=1, $T$19=600),'Օրական նորմեր'!X5,IF(AND($A$1=1, $T$19=650),'Օրական նորմեր'!Y5,0))))))","v":91},{"$f":"IF(AND($A$1=2, $T$19=400),'Օրական նորմեր'!Z5,IF(AND($A$1=2, $T$19=450),'Օրական նորմեր'!AA5,IF(AND($A$1=2, $T$19=500),'Օրական նորմեր'!AB5,IF(AND($A$1=2, $T$19=550),'Օրական նորմեր'!AC5,IF(AND($A$1=2, $T$19=600),'Օրական նորմեր'!AD5,IF(AND($A$1=2, $T$19=650),'Օրական նորմեր'!AE5,0))))))","v":0},{"$f":"IF(AND($A$1=3, $T$19=400),'Օրական նորմեր'!AF5,IF(AND($A$1=3, $T$19=450),'Օրական նորմեր'!AG5,IF(AND($A$1=3, $T$19=500),'Օրական նորմեր'!AH5,IF(AND($A$1=3, $T$19=550),'Օրական նորմեր'!AI5,IF(AND($A$1=3, $T$19=600),'Օրական նորմեր'!AJ5,IF(AND($A$1=3, $T$19=650),'Օրական նորմեր'!AK5,0))))))","v":0},91,37.19,null,null,null,null,null,null,null,null,null,null,null,null,null,null,null,{"$f":"IF($D$11=test!$B$15,test!C15,IF(Հաշվիչ!$D$11=test!$B$16,test!C16,IF(Հաշվիչ!$D$11=test!$B$17,test!C17,0)))","v":830},{"$f":"IF($D$11=test!$B$15,test!D15,IF(Հաշվիչ!$D$11=test!$B$16,test!D16,IF(Հաշվիչ!$D$11=test!$B$17,test!D17,0)))","v":0.59},{"$f":"IF($D$11=test!$B$15,test!E15,IF(Հաշվիչ!$D$11=test!$B$16,test!E16,IF(Հաշվիչ!$D$11=test!$B$17,test!E17,0)))","v":6.99},{"$f":"IF($D$11=test!$B$15,test!F15,IF(Հաշվիչ!$D$11=test!$B$16,test!F16,IF(Հաշվիչ!$D$11=test!$B$17,test!F17,0)))","v":141},{"$f":"IF($D$11=test!$B$15,test!G15,IF(Հաշվիչ!$D$11=test!$B$16,test!G16,IF(Հաշվիչ!$D$11=test!$B$17,test!G17,0)))","v":60},{"$f":"IF($D$11=test!$B$15,test!H15,IF(Հաշվիչ!$D$11=test!$B$16,test!H16,IF(Հաշվիչ!$D$11=test!$B$17,test!H17,0)))","v":249},{"$f":"IF($D$11=test!$B$15,test!I15,IF(Հաշվիչ!$D$11=test!$B$16,test!I16,IF(Հաշվիչ!$D$11=test!$B$17,test!I17,0)))","v":24},{"$f":"IF($D$11=test!$B$15,test!J15,IF(Հաշվիչ!$D$11=test!$B$16,test!J16,IF(Հաշվիչ!$D$11=test!$B$17,test!J17,0)))","v":45},{"$f":"IF($D$11=test!$B$15,test!K15,IF(Հաշվիչ!$D$11=test!$B$16,test!K16,IF(Հաշվիչ!$D$11=test!$B$17,test!K17,0)))","v":25},{"$f":"IF($D$11=test!$B$15,test!L15,IF(Հաշվիչ!$D$11=test!$B$16,test!L16,IF(Հաշվիչ!$D$11=test!$B$17,test!L17,0)))","v":9.6},{"$f":"IF($D$11=test!$B$15,test!M15,IF(Հաշվիչ!$D$11=test!$B$16,test!M16,IF(Հաշվիչ!$D$11=test!$B$17,test!M17,0)))","v":2.1},{"$f":"IF($D$11=test!$B$15,test!N15,IF(Հաշվիչ!$D$11=test!$B$16,test!N16,IF(Հաշվիչ!$D$11=test!$B$17,test!N17,0)))","v":40},{"$f":"IF($D$11=test!$B$15,test!O15,IF(Հաշվիչ!$D$11=test!$B$16,test!O16,IF(Հաշվիչ!$D$11=test!$B$17,test!O17,0)))","v":600},{"$f":"IF($D$11=test!$B$15,test!P15,IF(Հաշվիչ!$D$11=test!$B$16,test!P16,IF(Հաշվիչ!$D$11=test!$B$17,test!P17,0)))","v":129},{"$f":"IF($H$11=test!$B$15,test!C15,IF(Հաշվիչ!$H$11=test!$B$16,test!C16,IF(Հաշվիչ!$H$11=test!$B$17,test!C17,0)))","v":0},{"$f":"IF($H$11=test!$B$15,test!D15,IF(Հաշվիչ!$H$11=test!$B$16,test!D16,IF(Հաշվիչ!$H$11=test!$B$17,test!D17,0)))","v":0},{"$f":"IF($H$11=test!$B$15,test!E15,IF(Հաշվիչ!$H$11=test!$B$16,test!E16,IF(Հաշվիչ!$H$11=test!$B$17,test!E17,0)))","v":0},{"$f":"IF($H$11=test!$B$15,test!F15,IF(Հաշվիչ!$H$11=test!$B$16,test!F16,IF(Հաշվիչ!$H$11=test!$B$17,test!F17,0)))","v":0},{"$f":"IF($H$11=test!$B$15,test!G15,IF(Հաշվիչ!$H$11=test!$B$16,test!G16,IF(Հաշվիչ!$H$11=test!$B$17,test!G17,0)))","v":0},{"$f":"IF($H$11=test!$B$15,test!H15,IF(Հաշվիչ!$H$11=test!$B$16,test!H16,IF(Հաշվիչ!$H$11=test!$B$17,test!H17,0)))","v":0},{"$f":"IF($H$11=test!$B$15,test!I15,IF(Հաշվիչ!$H$11=test!$B$16,test!I16,IF(Հաշվիչ!$H$11=test!$B$17,test!I17,0)))","v":0},{"$f":"IF($H$11=test!$B$15,test!J15,IF(Հաշվիչ!$H$11=test!$B$16,test!J16,IF(Հաշվիչ!$H$11=test!$B$17,test!J17,0)))","v":0},{"$f":"IF($H$11=test!$B$15,test!K15,IF(Հաշվիչ!$H$11=test!$B$16,test!K16,IF(Հաշվիչ!$H$11=test!$B$17,test!K17,0)))","v":0},{"$f":"IF($H$11=test!$B$15,test!L15,IF(Հաշվիչ!$H$11=test!$B$16,test!L16,IF(Հաշվիչ!$H$11=test!$B$17,test!L17,0)))","v":0},{"$f":"IF($H$11=test!$B$15,test!M15,IF(Հաշվիչ!$H$11=test!$B$16,test!M16,IF(Հաշվիչ!$H$11=test!$B$17,test!M17,0)))","v":0},{"$f":"IF($H$11=test!$B$15,test!N15,IF(Հաշվիչ!$H$11=test!$B$16,test!N16,IF(Հաշվիչ!$H$11=test!$B$17,test!N17,0)))","v":0},{"$f":"IF($H$11=test!$B$15,test!O15,IF(Հաշվիչ!$H$11=test!$B$16,test!O16,IF(Հաշվիչ!$H$11=test!$B$17,test!O17,0)))","v":0},{"$f":"IF($H$11=test!$B$15,test!P15,IF(Հաշվիչ!$H$11=test!$B$16,test!P16,IF(Հաշվիչ!$H$11=test!$B$17,test!P17,0)))","v":0},{"$f":"AS11*$F11","v":0},{"$f":"AT11*$F11","v":0},{"$f":"AU11*$F11","v":0},{"$f":"AV11*$F11","v":0},{"$f":"AW11*$F11","v":0},{"$f":"AX11*$F11","v":0},{"$f":"AY11*$F11","v":0},{"$f":"AZ11*$F11","v":0},{"$f":"BA11*$F11","v":0},{"$f":"BB11*$F11","v":0},{"$f":"BC11*$F11","v":0},{"$f":"BD11*$F11","v":0},{"$f":"BE11*$F11","v":0},{"$f":"BF11*$F11","v":0},0,0,0,0,0,0,0,0,0,0,0,0,0,0,0,0,0,0,0,0,0,0,0,0,0,0,0,0,null,null,"Օսլա  /գ",688,749,802,856,908,952,872,914,944,986,1010,1050,685,745,806,867,908,938]
[null,null,null,null,null,null,null,null,null,null,null,null,null,null,null,null,null,null,null,null,null,null,null,null,null,null,null,null,null,null,null,null,null,null,null,null,null,null,null,null,null,null,null,null,null,null,null,null,null,null,null,null,null,null,null,null,null,null,null,null,null,null,null,null,null,null,null,null,null,null,null,null,null,null,null,null,null,null,null,null,null,null,null,null,null,null,null,null,null,null,null,null,null,null,null,null,null,null,null,null,null,null,null,null,null,null,null,null,null,null,null,null,null,null,null,null,"Շաքար  /գ",540,588,630,672,711,748,626,644,666,696,718,740,489,533,577,620,650,672]
[null,"ԿԱՆԱՉԻ  ԱԼՅՈՒՐ",null,"վիկ վարսակի",null,0,null,"N/D",null,0,null,45,60,0,0,null,"Լակտացիայի I-ին փուլ",null,null,null,null,null,"Հում պրոտեին /գ",{"$f":"CZ50","v":1357},{"$f":"IF(AND($A$1=1, $T$19=400),'Օրական նորմեր'!T6,IF(AND($A$1=1, $T$19=450),'Օրական նորմեր'!U6,IF(AND($A$1=1, $T$19=500),'Օրական նորմեր'!V6,IF(AND($A$1=1, $T$19=550),'Օրական նորմեր'!W6,IF(AND($A$1=1, $T$19=600),'Օրական նորմեր'!X6,IF(AND($A$1=1, $T$19=650),'Օրական նորմեր'!Y6,0))))))","v":1288},{"$f":"IF(AND($A$1=2, $T$19=400),'Օրական նորմեր'!Z6,IF(AND($A$1=2, $T$19=450),'Օրական նորմեր'!AA6,IF(AND($A$1=2, $T$19=500),'Օրական նորմեր'!AB6,IF(AND($A$1=2, $T$19=550),'Օրական նորմեր'!AC6,IF(AND($A$1=2, $T$19=600),'Օրական նորմեր'!AD6,IF(AND($A$1=2, $T$19=650),'Օրական նորմեր'!AE6,0))))))","v":0},{"$f":"IF(AND($A$1=3, $T$19=400),'Օրական նորմեր'!AF6,IF(AND($A$1=3, $T$19=450),'Օրական նորմեր'!AG6,IF(AND($A$1=3, $T$19=500),'Օրական նորմեր'!AH6,IF(AND($A$1=3, $T$19=550),'Օրական նորմեր'!AI6,IF(AND($A$1=3, $T$19=600),'Օրական նորմեր'!AJ6,IF(AND($A$1=3, $T$19=650),'Օրական նորմեր'!AK6,0))))))","v":0},1288,69,null,null,null,null,null,null,null,null,null,null,null,null,null,null,null,{"$f":"IF($D$13=test!$B$18,test!C18,IF(Հաշվիչ!$D$13=test!$B$19,test!C19,IF(Հաշվիչ!$D$13=test!$B$20,test!C20,0)))","v":900},{"$f":"IF($D$13=test!$B$18,test!D18,IF(Հաշվիչ!$D$13=test!$B$19,test!D19,IF(Հաշվիչ!$D$13=test!$B$20,test!D20,0)))","v":0.66},{"$f":"IF($D$13=test!$B$18,test!E18,IF(Հաշվիչ!$D$13=test!$B$19,test!E19,IF(Հաշվիչ!$D$13=test!$B$20,test!E20,0)))","v":8},{"$f":"IF($D$13=test!$B$18,test!F18,IF(Հաշվիչ!$D$13=test!$B$19,test!F19,IF(Հաշվիչ!$D$13=test!$B$20,test!F20,0)))","v":165},{"$f":"IF($D$13=test!$B$18,test!G18,IF(Հաշվիչ!$D$13=test!$B$19,test!G19,IF(Հաշվիչ!$D$13=test!$B$20,test!G20,0)))","v":106},{"$f":"IF($D$13=test!$B$18,test!H18,IF(Հաշվիչ!$D$13=test!$B$19,test!H19,IF(Հաշվիչ!$D$13=test!$B$20,test!H20,0)))","v":244},{"$f":"IF($D$13=test!$B$18,test!I18,IF(Հաշվիչ!$D$13=test!$B$19,test!I19,IF(Հաշվիչ!$D$13=test!$B$20,test!I20,0)))","v":27},{"$f":"IF($D$13=test!$B$18,test!J18,IF(Հաշվիչ!$D$13=test!$B$19,test!J19,IF(Հաշվիչ!$D$13=test!$B$20,test!J20,0)))","v":70},{"$f":"IF($D$13=test!$B$18,test!K18,IF(Հաշվիչ!$D$13=test!$B$19,test!K19,IF(Հաշվիչ!$D$13=test!$B$20,test!K20,0)))","v":33},{"$f":"IF($D$13=test!$B$18,test!L18,IF(Հաշվիչ!$D$13=test!$B$19,test!L19,IF(Հաշվիչ!$D$13=test!$B$20,test!L20,0)))","v":13.3},{"$f":"IF($D$13=test!$B$18,test!M18,IF(Հաշվիչ!$D$13=test!$B$19,test!M19,IF(Հաշվիչ!$D$13=test!$B$20,test!M20,0)))","v":3},{"$f":"IF($D$13=test!$B$18,test!N18,IF(Հաշվիչ!$D$13=test!$B$19,test!N19,IF(Հաշվիչ!$D$13=test!$B$20,test!N20,0)))","v":140},{"$f":"IF($D$13=test!$B$18,test!O18,IF(Հաշվիչ!$D$13=test!$B$19,test!O19,IF(Հաշվիչ!$D$13=test!$B$20,test!O20,0)))","v":80},{"$f":"IF($D$13=test!$B$18,test!P18,IF(Հաշվիչ!$D$13=test!$B$19,test!P19,IF(Հաշվիչ!$D$13=test!$B$20,test!P20,0)))","v":80},{"$f":"IF($H$13=test!$B$18,test!C18,IF(Հաշվիչ!$H$13=test!$B$19,test!C19,IF(Հաշվիչ!$H$13=test!$B$20,test!C20,0)))","v":0},{"$f":"IF($H$13=test!$B$18,test!D18,IF(Հաշվիչ!$H$13=test!$B$19,test!D19,IF(Հաշվիչ!$H$13=test!$B$20,test!D20,0)))","v":0},{"$f":"IF($H$13=test!$B$18,test!E18,IF(Հաշվիչ!$H$13=test!$B$19,test!E19,IF(Հաշվիչ!$H$13=test!$B$20,test!E20,0)))","v":0},{"$f":"IF($H$13=test!$B$18,test!F18,IF(Հաշվիչ!$H$13=test!$B$19,test!F19,IF(Հաշվիչ!$H$13=test!$B$20,test!F20,0)))","v":0},{"$f":"IF($H$13=test!$B$18,test!G18,IF(Հաշվիչ!$H$13=test!$B$19,test!G19,IF(Հաշվիչ!$H$13=test!$B$20,test!G20,0)))","v":0},{"$f":"IF($H$13=test!$B$18,test!H18,IF(Հաշվիչ!$H$13=test!$B$19,test!H19,IF(Հաշվիչ!$H$13=test!$B$20,test!H20,0)))","v":0},{"$f":"IF($H$13=test!$B$18,test!I18,IF(Հաշվիչ!$H$13=test!$B$19,test!I19,IF(Հաշվիչ!$H$13=test!$B$20,test!I20,0)))","v":0},{"$f":"IF($H$13=test!$B$18,test!J18,IF(Հաշվիչ!$H$13=test!$B$19,test!J19,IF(Հաշվիչ!$H$13=test!$B$20,test!J20,0)))","v":0},{"$f":"IF($H$13=test!$B$18,test!K18,IF(Հաշվիչ!$H$13=test!$B$19,test!K19,IF(Հաշվիչ!$H$13=test!$B$20,test!K20,0)))","v":0},{"$f":"IF($H$13=test!$B$18,test!L18,IF(Հաշվիչ!$H$13=test!$B$19,test!L19,IF(Հաշվիչ!$H$13=test!$B$20,test!L20,0)))","v":0},{"$f":"IF($H$13=test!$B$18,test!M18,IF(Հաշվիչ!$H$13=test!$B$19,test!M19,IF(Հաշվիչ!$H$13=test!$B$20,test!M20,0)))","v":0},{"$f":"IF($H$13=test!$B$18,test!N18,IF(Հաշվիչ!$H$13=test!$B$19,test!N19,IF(Հաշվիչ!$H$13=test!$B$20,test!N20,0)))","v":0},{"$f":"IF($H$13=test!$B$18,test!O18,IF(Հաշվիչ!$H$13=test!$B$19,test!O19,IF(Հաշվիչ!$H$13=test!$B$20,test!O20,0)))","v":0},{"$f":"IF($H$13=test!$B$18,test!P18,IF(Հաշվիչ!$H$13=test!$B$19,test!P19,IF(Հաշվիչ!$H$13=test!$B$20,test!P20,0)))","v":0},0,0,0,0,0,0,0,0,0,0,0,0,0,0,0,0,0,0,0,0,0,0,0,0,0,0,0,0,0,0,0,0,0,0,0,0,0,0,0,0,0,0,null,null,"Հում ճարպ /գ",211,231,248,264,280,296,266,278,288,301,310,320,214,234,253,272,285,293]
[null,null,null,null,null,null,null,null,null,null,null,null,null,null,null,null,null,null,null,null,null,null,null,null,null,null,null,null,null,null,null,null,null,null,null,null,null,null,null,null,null,null,null,null,null,null,null,null,null,null,null,null,null,null,null,null,null,null,null,null,null,null,null,null,null,null,null,null,null,null,null,null,null,null,null,null,null,null,null,null,null,null,null,null,null,null,null,null,null,null,null,null,null,null,null,null,null,null,null,null,null,null,null,null,null,null,null,null,null,null,null,null,null,null,null,null,"Կալցիում /գ",60,65,70,75,80,84,63,66,68,71,74,76,50,55,59,64,67,69]
[null,"ՄՂԵՂ",null,"N/D",null,0,null,"N/D",null,0,null,50,60,0,0,null,"Լակտացիայի II-րդ փուլ",null,null,null,null,null,"Մարսելի պրոտեին/գ",{"$f":"DA50","v":697},{"$f":"IF(AND($A$1=1, $T$19=400),'Օրական նորմեր'!T7,IF(AND($A$1=1, $T$19=450),'Օրական նորմեր'!U7,IF(AND($A$1=1, $T$19=500),'Օրական նորմեր'!V7,IF(AND($A$1=1, $T$19=550),'Օրական նորմեր'!W7,IF(AND($A$1=1, $T$19=600),'Օրական նորմեր'!X7,IF(AND($A$1=1, $T$19=650),'Օրական նորմեր'!Y7,0))))))","v":825},{"$f":"IF(AND($A$1=2, $T$19=400),'Օրական նորմեր'!Z7,IF(AND($A$1=2, $T$19=450),'Օրական նորմեր'!AA7,IF(AND($A$1=2, $T$19=500),'Օրական նորմեր'!AB7,IF(AND($A$1=2, $T$19=550),'Օրական նորմեր'!AC7,IF(AND($A$1=2, $T$19=600),'Օրական նորմեր'!AD7,IF(AND($A$1=2, $T$19=650),'Օրական նորմեր'!AE7,0))))))","v":0},{"$f":"IF(AND($A$1=3, $T$19=400),'Օրական նորմեր'!AF7,IF(AND($A$1=3, $T$19=450),'Օրական նորմեր'!AG7,IF(AND($A$1=3, $T$19=500),'Օրական նորմեր'!AH7,IF(AND($A$1=3, $T$19=550),'Օրական նորմեր'!AI7,IF(AND($A$1=3, $T$19=600),'Օրական նորմեր'!AJ7,IF(AND($A$1=3, $T$19=650),'Օրական նորմեր'!AK7,0))))))","v":0},825,-128,null,null,null,null,null,null,null,null,null,null,null,null,null,null,null,{"$f":"IF($D$15=test!$B$21,test!C21,0)","v":0},{"$f":"IF($D$15=test!$B$21,test!D21,0)","v":0},{"$f":"IF($D$15=test!$B$21,test!E21,0)","v":0},{"$f":"IF($D$15=test!$B$21,test!F21,0)","v":0},{"$f":"IF($D$15=test!$B$21,test!G21,0)","v":0},{"$f":"IF($D$15=test!$B$21,test!H21,0)","v":0},{"$f":"IF($D$15=test!$B$21,test!I21,0)","v":0},{"$f":"IF($D$15=test!$B$21,test!J21,0)","v":0},{"$f":"IF($D$15=test!$B$21,test!K21,0)","v":0},{"$f":"IF($D$15=test!$B$21,test!L21,0)","v":0},{"$f":"IF($D$15=test!$B$21,test!M21,0)","v":0},{"$f":"IF($D$15=test!$B$21,test!N21,0)","v":0},{"$f":"IF($D$15=test!$B$21,test!O21,0)","v":0},{"$f":"IF($D$15=test!$B$21,test!P21,0)","v":0},{"$f":"IF($H$15=test!$B$21,test!C21,0)","v":0},{"$f":"IF($H$15=test!$B$21,test!D21,0)","v":0},{"$f":"IF($H$15=test!$B$21,test!E21,0)","v":0},{"$f":"IF($H$15=test!$B$21,test!F21,0)","v":0},{"$f":"IF($H$15=test!$B$21,test!G21,0)","v":0},{"$f":"IF($H$15=test!$B$21,test!H21,0)","v":0},{"$f":"IF($H$15=test!$B$21,test!I21,0)","v":0},{"$f":"IF($H$15=test!$B$21,test!J21,0)","v":0},{"$f":"IF($H$15=test!$B$21,test!K21,0)","v":0},{"$f":"IF($H$15=test!$B$21,test!L21,0)","v":0},{"$f":"IF($H$15=test!$B$21,test!M21,0)","v":0},{"$f":"IF($H$15=test!$B$21,test!N21,0)","v":0},{"$f":"IF($H$15=test!$B$21,test!O21,0)","v":0},{"$f":"IF($H$15=test!$B$21,test!P21,0)","v":0},0,0,0,0,0,0,0,0,0,0,0,0,0,0,0,0,0,0,0,0,0,0,0,0,0,0,0,0,0,0,0,0,0,0,0,0,0,0,0,0,0,0,null,null,"Ֆոսֆոր /գ",35,37,40,42,45,48,36,37,38,40,42,47,27,29,32,34,36,38]
[null,null,null,null,null,null,null,null,null,null,null,null,null,null,null,null,null,null,null,null,null,null,null,null,null,null,null,null,null,null,null,null,null,null,null,null,null,null,null,null,null,null,null,null,null,null,null,null,null,null,null,null,null,null,null,null,null,null,null,null,null,null,null,null,null,null,null,null,null,null,null,null,null,null,null,null,null,null,null,null,null,null,null,null,null,null,null,null,null,null,null,null,null,null,null,null,null,null,null,null,null,null,null,null,null,null,null,null,null,null,null,null,null,null,null,null,"Կարոտին /մգ",250,280,300,320,340,355,320,340,350,365,380,390,248,270,292,315,330,340]
[null,"ՍԻԼՈՍ",null,"N/D",null,0,null,"N/D",null,0,null,70,90,0,0,null,null,null,null,null,null,null,"Թաղանթանյութ /գ",{"$f":"DB50","v":4147},{"$f":"IF(AND($A$1=1, $T$19=400),'Օրական նորմեր'!T8,IF(AND($A$1=1, $T$19=450),'Օրական նորմեր'!U8,IF(AND($A$1=1, $T$19=500),'Օրական նորմեր'!V8,IF(AND($A$1=1, $T$19=550),'Օրական նորմեր'!W8,IF(AND($A$1=1, $T$19=600),'Օրական նորմեր'!X8,IF(AND($A$1=1, $T$19=650),'Օրական նորմեր'!Y8,0))))))","v":3360},{"$f":"IF(AND($A$1=2, $T$19=400),'Օրական նորմեր'!Z8,IF(AND($A$1=2, $T$19=450),'Օրական նորմեր'!AA8,IF(AND($A$1=2, $T$19=500),'Օրական նորմեր'!AB8,IF(AND($A$1=2, $T$19=550),'Օրական նորմեր'!AC8,IF(AND($A$1=2, $T$19=600),'Օրական նորմեր'!AD8,IF(AND($A$1=2, $T$19=650),'Օրական նորմեր'!AE8,0))))))","v":0},{"$f":"IF(AND($A$1=3, $T$19=400),'Օրական նորմեր'!AF8,IF(AND($A$1=3, $T$19=450),'Օրական նորմեր'!AG8,IF(AND($A$1=3, $T$19=500),'Օրական նորմեր'!AH8,IF(AND($A$1=3, $T$19=550),'Օրական նորմեր'!AI8,IF(AND($A$1=3, $T$19=600),'Օրական նորմեր'!AJ8,IF(AND($A$1=3, $T$19=650),'Օրական նորմեր'!AK8,0))))))","v":0},3360,787,null,null,null,null,null,null,null,null,null,null,null,null,null,null,null,{"$f":"IF($D$17=test!$B$22,test!C22,IF(Հաշվիչ!$D$17=test!$B$23,test!C23,IF(Հաշվիչ!$D$17=test!$B$24,test!C24,IF(Հաշվիչ!$D$17=test!$B$25,test!C25,IF(Հաշվիչ!$D$17=test!$B$26,test!C26,IF(Հաշվիչ!$D$17=test!$B$27,test!C27,0))))))","v":0},{"$f":"IF($D$17=test!$B$22,test!D22,IF(Հաշվիչ!$D$17=test!$B$23,test!D23,IF(Հաշվիչ!$D$17=test!$B$24,test!D24,IF(Հաշվիչ!$D$17=test!$B$25,test!D25,IF(Հաշվիչ!$D$17=test!$B$26,test!D26,IF(Հաշվիչ!$D$17=test!$B$27,test!D27,0))))))","v":0},{"$f":"IF($D$17=test!$B$22,test!E22,IF(Հաշվիչ!$D$17=test!$B$23,test!E23,IF(Հաշվիչ!$D$17=test!$B$24,test!E24,IF(Հաշվիչ!$D$17=test!$B$25,test!E25,IF(Հաշվիչ!$D$17=test!$B$26,test!E26,IF(Հաշվիչ!$D$17=test!$B$27,test!E27,0))))))","v":0},{"$f":"IF($D$17=test!$B$22,test!F22,IF(Հաշվիչ!$D$17=test!$B$23,test!F23,IF(Հաշվիչ!$D$17=test!$B$24,test!F24,IF(Հաշվիչ!$D$17=test!$B$25,test!F25,IF(Հաշվիչ!$D$17=test!$B$26,test!F26,IF(Հաշվիչ!$D$17=test!$B$27,test!F27,0))))))","v":0},{"$f":"IF($D$17=test!$B$22,test!G22,IF(Հաշվիչ!$D$17=test!$B$23,test!G23,IF(Հաշվիչ!$D$17=test!$B$24,test!G24,IF(Հաշվիչ!$D$17=test!$B$25,test!G25,IF(Հաշվիչ!$D$17=test!$B$26,test!G26,IF(Հաշվիչ!$D$17=test!$B$27,test!G27,0))))))","v":0},{"$f":"IF($D$17=test!$B$22,test!H22,IF(Հաշվիչ!$D$17=test!$B$23,test!H23,IF(Հաշվիչ!$D$17=test!$B$24,test!H24,IF(Հաշվիչ!$D$17=test!$B$25,test!H25,IF(Հաշվիչ!$D$17=test!$B$26,test!H26,IF(Հաշվիչ!$D$17=test!$B$27,test!H27,0))))))","v":0},{"$f":"IF($D$17=test!$B$22,test!I22,IF(Հաշվիչ!$D$17=test!$B$23,test!I23,IF(Հաշվիչ!$D$17=test!$B$24,test!I24,IF(Հաշվիչ!$D$17=test!$B$25,test!I25,IF(Հաշվիչ!$D$17=test!$B$26,test!I26,IF(Հաշվիչ!$D$17=test!$B$27,test!I27,0))))))","v":0},{"$f":"IF($D$17=test!$B$22,test!J22,IF(Հաշվիչ!$D$17=test!$B$23,test!J23,IF(Հաշվիչ!$D$17=test!$B$24,test!J24,IF(Հաշվիչ!$D$17=test!$B$25,test!J25,IF(Հաշվիչ!$D$17=test!$B$26,test!J26,IF(Հաշվիչ!$D$17=test!$B$27,test!J27,0))))))","v":0},{"$f":"IF($D$17=test!$B$22,test!K22,IF(Հաշվիչ!$D$17=test!$B$23,test!K23,IF(Հաշվիչ!$D$17=test!$B$24,test!K24,IF(Հաշվիչ!$D$17=test!$B$25,test!K25,IF(Հաշվիչ!$D$17=test!$B$26,test!K26,IF(Հաշվիչ!$D$17=test!$B$27,test!K27,0))))))","v":0},{"$f":"IF($D$17=test!$B$22,test!L22,IF(Հաշվիչ!$D$17=test!$B$23,test!L23,IF(Հաշվիչ!$D$17=test!$B$24,test!L24,IF(Հաշվիչ!$D$17=test!$B$25,test!L25,IF(Հաշվիչ!$D$17=test!$B$26,test!L26,IF(Հաշվիչ!$D$17=test!$B$27,test!L27,0))))))","v":0},{"$f":"IF($D$17=test!$B$22,test!M22,IF(Հաշվիչ!$D$17=test!$B$23,test!M23,IF(Հաշվիչ!$D$17=test!$B$24,test!M24,IF(Հաշվիչ!$D$17=test!$B$25,test!M25,IF(Հաշվիչ!$D$17=test!$B$26,test!M26,IF(Հաշվիչ!$D$17=test!$B$27,test!M27,0))))))","v":0},{"$f":"IF($D$17=test!$B$22,test!N22,IF(Հաշվիչ!$D$17=test!$B$23,test!N23,IF(Հաշվիչ!$D$17=test!$B$24,test!N24,IF(Հաշվիչ!$D$17=test!$B$25,test!N25,IF(Հաշվիչ!$D$17=test!$B$26,test!N26,IF(Հաշվիչ!$D$17=test!$B$27,test!N27,0))))))","v":0},{"$f":"IF($D$17=test!$B$22,test!O22,IF(Հաշվիչ!$D$17=test!$B$23,test!O23,IF(Հաշվիչ!$D$17=test!$B$24,test!O24,IF(Հաշվիչ!$D$17=test!$B$25,test!O25,IF(Հաշվիչ!$D$17=test!$B$26,test!O26,IF(Հաշվիչ!$D$17=test!$B$27,test!O27,0))))))","v":0},{"$f":"IF($D$17=test!$B$22,test!P22,IF(Հաշվիչ!$D$17=test!$B$23,test!P23,IF(Հաշվիչ!$D$17=test!$B$24,test!P24,IF(Հաշվիչ!$D$17=test!$B$25,test!P25,IF(Հաշվիչ!$D$17=test!$B$26,test!P26,IF(Հաշվիչ!$D$17=test!$B$27,test!P27,0))))))","v":0},{"$f":"IF($H$17=test!$B$22,test!C22,IF(Հաշվիչ!$H$17=test!$B$23,test!C23,IF(Հաշվիչ!$H$17=test!$B$24,test!C24,IF(Հաշվիչ!$H$17=test!$B$25,test!C25,IF(Հաշվիչ!$H$17=test!$B$26,test!C26,IF(Հաշվիչ!$H$17=test!$B$27,test!C27,0))))))","v":0},{"$f":"IF($H$17=test!$B$22,test!D22,IF(Հաշվիչ!$H$17=test!$B$23,test!D23,IF(Հաշվիչ!$H$17=test!$B$24,test!D24,IF(Հաշվիչ!$H$17=test!$B$25,test!D25,IF(Հաշվիչ!$H$17=test!$B$26,test!D26,IF(Հաշվիչ!$H$17=test!$B$27,test!D27,0))))))","v":0},{"$f":"IF($H$17=test!$B$22,test!E22,IF(Հաշվիչ!$H$17=test!$B$23,test!E23,IF(Հաշվիչ!$H$17=test!$B$24,test!E24,IF(Հաշվիչ!$H$17=test!$B$25,test!E25,IF(Հաշվիչ!$H$17=test!$B$26,test!E26,IF(Հաշվիչ!$H$17=test!$B$27,test!E27,0))))))","v":0},{"$f":"IF($H$17=test!$B$22,test!F22,IF(Հաշվիչ!$H$17=test!$B$23,test!F23,IF(Հաշվիչ!$H$17=test!$B$24,test!F24,IF(Հաշվիչ!$H$17=test!$B$25,test!F25,IF(Հաշվիչ!$H$17=test!$B$26,test!F26,IF(Հաշվիչ!$H$17=test!$B$27,test!F27,0))))))","v":0},{"$f":"IF($H$17=test!$B$22,test!G22,IF(Հաշվիչ!$H$17=test!$B$23,test!G23,IF(Հաշվիչ!$H$17=test!$B$24,test!G24,IF(Հաշվիչ!$H$17=test!$B$25,test!G25,IF(Հաշվիչ!$H$17=test!$B$26,test!G26,IF(Հաշվիչ!$H$17=test!$B$27,test!G27,0))))))","v":0},{"$f":"IF($H$17=test!$B$22,test!H22,IF(Հաշվիչ!$H$17=test!$B$23,test!H23,IF(Հաշվիչ!$H$17=test!$B$24,test!H24,IF(Հաշվիչ!$H$17=test!$B$25,test!H25,IF(Հաշվիչ!$H$17=test!$B$26,test!H26,IF(Հաշվիչ!$H$17=test!$B$27,test!H27,0))))))","v":0},{"$f":"IF($H$17=test!$B$22,test!I22,IF(Հաշվիչ!$H$17=test!$B$23,test!I23,IF(Հաշվիչ!$H$17=test!$B$24,test!I24,IF(Հաշվիչ!$H$17=test!$B$25,test!I25,IF(Հաշվիչ!$H$17=test!$B$26,test!I26,IF(Հաշվիչ!$H$17=test!$B$27,test!I27,0))))))","v":0},{"$f":"IF($H$17=test!$B$22,test!J22,IF(Հաշվիչ!$H$17=test!$B$23,test!J23,IF(Հաշվիչ!$H$17=test!$B$24,test!J24,IF(Հաշվիչ!$H$17=test!$B$25,test!J25,IF(Հաշվիչ!$H$17=test!$B$26,test!J26,IF(Հաշվիչ!$H$17=test!$B$27,test!J27,0))))))","v":0},{"$f":"IF($H$17=test!$B$22,test!K22,IF(Հաշվիչ!$H$17=test!$B$23,test!K23,IF(Հաշվիչ!$H$17=test!$B$24,test!K24,IF(Հաշվիչ!$H$17=test!$B$25,test!K25,IF(Հաշվիչ!$H$17=test!$B$26,test!K26,IF(Հաշվիչ!$H$17=test!$B$27,test!K27,0))))))","v":0},{"$f":"IF($H$17=test!$B$22,test!L22,IF(Հաշվիչ!$H$17=test!$B$23,test!L23,IF(Հաշվիչ!$H$17=test!$B$24,test!L24,IF(Հաշվիչ!$H$17=test!$B$25,test!L25,IF(Հաշվիչ!$H$17=test!$B$26,test!L26,IF(Հաշվիչ!$H$17=test!$B$27,test!L27,0))))))","v":0},{"$f":"IF($H$17=test!$B$22,test!M22,IF(Հաշվիչ!$H$17=test!$B$23,test!M23,IF(Հաշվիչ!$H$17=test!$B$24,test!M24,IF(Հաշվիչ!$H$17=test!$B$25,test!M25,IF(Հաշվիչ!$H$17=test!$B$26,test!M26,IF(Հաշվիչ!$H$17=test!$B$27,test!M27,0))))))","v":0},{"$f":"IF($H$17=test!$B$22,test!N22,IF(Հաշվիչ!$H$17=test!$B$23,test!N23,IF(Հաշվիչ!$H$17=test!$B$24,test!N24,IF(Հաշվիչ!$H$17=test!$B$25,test!N25,IF(Հաշվիչ!$H$17=test!$B$26,test!N26,IF(Հաշվիչ!$H$17=test!$B$27,test!N27,0))))))","v":0},{"$f":"IF($H$17=test!$B$22,test!O22,IF(Հաշվիչ!$H$17=test!$B$23,test!O23,IF(Հաշվիչ!$H$17=test!$B$24,test!O24,IF(Հաշվիչ!$H$17=test!$B$25,test!O25,IF(Հաշվիչ!$H$17=test!$B$26,test!O26,IF(Հաշվիչ!$H$17=test!$B$27,test!O27,0))))))","v":0},{"$f":"IF($H$17=test!$B$22,test!P22,IF(Հաշվիչ!$H$17=test!$B$23,test!P23,IF(Հաշվիչ!$H$17=test!$B$24,test!P24,IF(Հաշվիչ!$H$17=test!$B$25,test!P25,IF(Հաշվիչ!$H$17=test!$B$26,test!P26,IF(Հաշվիչ!$H$17=test!$B$27,test!P27,0))))))","v":0},0,0,0,0,0,0,0,0,0,0,0,0,0,0,0,0,0,0,0,0,0,0,0,0,0,0,0,0,0,0,0,0,0,0,0,0,0,0,0,0,0,0,null,null,"D վիտամին /հազ.ԱՄ",6.4,7,7.5,8,8.5,8.9,7.6,8,8.1999999999999993,8.5,8.8000000000000007,9,5.4,5.8,6.3,6.8,7.1,7.4]
[null,null,null,null,null,null,null,null,null,null,null,null,null,null,null,null,null,null,null,null,null,null,null,null,null,null,null,null,null,null,null,null,null,null,null,null,null,null,null,null,null,null,null,null,null,null,null,null,null,null,null,null,null,null,null,null,null,null,null,null,null,null,null,null,null,null,null,null,null,null,null,null,null,null,null,null,null,null,null,null,null,null,null,null,null,null,null,null,null,null,null,null,null,null,null,null,null,null,null,null,null,null,null,null,null,null,null,null,null,null,null,null,null,null,null,null,"E վիտամին /մգ",256,280,300,320,340,356,315,330,340,355,365,380,234,256,276,298,312,322]
[null,"ՍԵՆԱԺ",null,"N/D",null,0,null,"N/D",null,0,null,70,90,0,0,null,"Կովի քաշը կգ. ",null,null,500,null,null,"Օսլա  /գ",{"$f":"DC50","v":2316},{"$f":"IF(AND($A$1=1, $T$19=400),'Օրական նորմեր'!T9,IF(AND($A$1=1, $T$19=450),'Օրական նորմեր'!U9,IF(AND($A$1=1, $T$19=500),'Օրական նորմեր'!V9,IF(AND($A$1=1, $T$19=550),'Օրական նորմեր'!W9,IF(AND($A$1=1, $T$19=600),'Օրական նորմեր'!X9,IF(AND($A$1=1, $T$19=650),'Օրական նորմեր'!Y9,0))))))","v":802},{"$f":"IF(AND($A$1=2, $T$19=400),'Օրական նորմեր'!Z9,IF(AND($A$1=2, $T$19=450),'Օրական նորմեր'!AA9,IF(AND($A$1=2, $T$19=500),'Օրական նորմեր'!AB9,IF(AND($A$1=2, $T$19=550),'Օրական նորմեր'!AC9,IF(AND($A$1=2, $T$19=600),'Օրական նորմեր'!AD9,IF(AND($A$1=2, $T$19=650),'Օրական նորմեր'!AE9,0))))))","v":0},{"$f":"IF(AND($A$1=3, $T$19=400),'Օրական նորմեր'!AF9,IF(AND($A$1=3, $T$19=450),'Օրական նորմեր'!AG9,IF(AND($A$1=3, $T$19=500),'Օրական նորմեր'!AH9,IF(AND($A$1=3, $T$19=550),'Օրական նորմեր'!AI9,IF(AND($A$1=3, $T$19=600),'Օրական նորմեր'!AJ9,IF(AND($A$1=3, $T$19=650),'Օրական նորմեր'!AK9,0))))))","v":0},802,1514,null,null,null,null,null,null,null,null,null,null,null,null,null,null,null,{"$f":"IF($D$19=test!$B$28,test!C28,IF(Հաշվիչ!$D$19=test!$B$29,test!C29,IF(Հաշվիչ!$D$19=test!$B$30,test!C30,IF(Հաշվիչ!$D$19=test!$B$31,test!C31,IF(Հաշվիչ!$D$19=test!$B$32,test!C32,0)))))","v":0},{"$f":"IF($D$19=test!$B$28,test!D28,IF(Հաշվիչ!$D$19=test!$B$29,test!D29,IF(Հաշվիչ!$D$19=test!$B$30,test!D30,IF(Հաշվիչ!$D$19=test!$B$31,test!D31,IF(Հաշվիչ!$D$19=test!$B$32,test!D32,0)))))","v":0},{"$f":"IF($D$19=test!$B$28,test!E28,IF(Հաշվիչ!$D$19=test!$B$29,test!E29,IF(Հաշվիչ!$D$19=test!$B$30,test!E30,IF(Հաշվիչ!$D$19=test!$B$31,test!E31,IF(Հաշվիչ!$D$19=test!$B$32,test!E32,0)))))","v":0},{"$f":"IF($D$19=test!$B$28,test!F28,IF(Հաշվիչ!$D$19=test!$B$29,test!F29,IF(Հաշվիչ!$D$19=test!$B$30,test!F30,IF(Հաշվիչ!$D$19=test!$B$31,test!F31,IF(Հաշվիչ!$D$19=test!$B$32,test!F32,0)))))","v":0},{"$f":"IF($D$19=test!$B$28,test!G28,IF(Հաշվիչ!$D$19=test!$B$29,test!G29,IF(Հաշվիչ!$D$19=test!$B$30,test!G30,IF(Հաշվիչ!$D$19=test!$B$31,test!G31,IF(Հաշվիչ!$D$19=test!$B$32,test!G32,0)))))","v":0},{"$f":"IF($D$19=test!$B$28,test!H28,IF(Հաշվիչ!$D$19=test!$B$29,test!H29,IF(Հաշվիչ!$D$19=test!$B$30,test!H30,IF(Հաշվիչ!$D$19=test!$B$31,test!H31,IF(Հաշվիչ!$D$19=test!$B$32,test!H32,0)))))","v":0},{"$f":"IF($D$19=test!$B$28,test!I28,IF(Հաշվիչ!$D$19=test!$B$29,test!I29,IF(Հաշվիչ!$D$19=test!$B$30,test!I30,IF(Հաշվիչ!$D$19=test!$B$31,test!I31,IF(Հաշվիչ!$D$19=test!$B$32,test!I32,0)))))","v":0},{"$f":"IF($D$19=test!$B$28,test!J28,IF(Հաշվիչ!$D$19=test!$B$29,test!J29,IF(Հաշվիչ!$D$19=test!$B$30,test!J30,IF(Հաշվիչ!$D$19=test!$B$31,test!J31,IF(Հաշվիչ!$D$19=test!$B$32,test!J32,0)))))","v":0},{"$f":"IF($D$19=test!$B$28,test!K28,IF(Հաշվիչ!$D$19=test!$B$29,test!K29,IF(Հաշվիչ!$D$19=test!$B$30,test!K30,IF(Հաշվիչ!$D$19=test!$B$31,test!K31,IF(Հաշվիչ!$D$19=test!$B$32,test!K32,0)))))","v":0},{"$f":"IF($D$19=test!$B$28,test!L28,IF(Հաշվիչ!$D$19=test!$B$29,test!L29,IF(Հաշվիչ!$D$19=test!$B$30,test!L30,IF(Հաշվիչ!$D$19=test!$B$31,test!L31,IF(Հաշվիչ!$D$19=test!$B$32,test!L32,0)))))","v":0},{"$f":"IF($D$19=test!$B$28,test!M28,IF(Հաշվիչ!$D$19=test!$B$29,test!M29,IF(Հաշվիչ!$D$19=test!$B$30,test!M30,IF(Հաշվիչ!$D$19=test!$B$31,test!M31,IF(Հաշվիչ!$D$19=test!$B$32,test!M32,0)))))","v":0},{"$f":"IF($D$19=test!$B$28,test!N28,IF(Հաշվիչ!$D$19=test!$B$29,test!N29,IF(Հաշվիչ!$D$19=test!$B$30,test!N30,IF(Հաշվիչ!$D$19=test!$B$31,test!N31,IF(Հաշվիչ!$D$19=test!$B$32,test!N32,0)))))","v":0},{"$f":"IF($D$19=test!$B$28,test!O28,IF(Հաշվիչ!$D$19=test!$B$29,test!O29,IF(Հաշվիչ!$D$19=test!$B$30,test!O30,IF(Հաշվիչ!$D$19=test!$B$31,test!O31,IF(Հաշվիչ!$D$19=test!$B$32,test!O32,0)))))","v":0},{"$f":"IF($D$19=test!$B$28,test!P28,IF(Հաշվիչ!$D$19=test!$B$29,test!P29,IF(Հաշվիչ!$D$19=test!$B$30,test!P30,IF(Հաշվիչ!$D$19=test!$B$31,test!P31,IF(Հաշվիչ!$D$19=test!$B$32,test!P32,0)))))","v":0},{"$f":"IF($H$19=test!$B$28,test!C28,IF(Հաշվիչ!$H$19=test!$B$29,test!C29,IF(Հաշվիչ!$H$19=test!$B$30,test!C30,IF(Հաշվիչ!$H$19=test!$B$31,test!C31,IF(Հաշվիչ!$H$19=test!$B$32,test!C32,0)))))","v":0},{"$f":"IF($H$19=test!$B$28,test!D28,IF(Հաշվիչ!$H$19=test!$B$29,test!D29,IF(Հաշվիչ!$H$19=test!$B$30,test!D30,IF(Հաշվիչ!$H$19=test!$B$31,test!D31,IF(Հաշվիչ!$H$19=test!$B$32,test!D32,0)))))","v":0},{"$f":"IF($H$19=test!$B$28,test!E28,IF(Հաշվիչ!$H$19=test!$B$29,test!E29,IF(Հաշվիչ!$H$19=test!$B$30,test!E30,IF(Հաշվիչ!$H$19=test!$B$31,test!E31,IF(Հաշվիչ!$H$19=test!$B$32,test!E32,0)))))","v":0},{"$f":"IF($H$19=test!$B$28,test!F28,IF(Հաշվիչ!$H$19=test!$B$29,test!F29,IF(Հաշվիչ!$H$19=test!$B$30,test!F30,IF(Հաշվիչ!$H$19=test!$B$31,test!F31,IF(Հաշվիչ!$H$19=test!$B$32,test!F32,0)))))","v":0},{"$f":"IF($H$19=test!$B$28,test!G28,IF(Հաշվիչ!$H$19=test!$B$29,test!G29,IF(Հաշվիչ!$H$19=test!$B$30,test!G30,IF(Հաշվիչ!$H$19=test!$B$31,test!G31,IF(Հաշվիչ!$H$19=test!$B$32,test!G32,0)))))","v":0},{"$f":"IF($H$19=test!$B$28,test!H28,IF(Հաշվիչ!$H$19=test!$B$29,test!H29,IF(Հաշվիչ!$H$19=test!$B$30,test!H30,IF(Հաշվիչ!$H$19=test!$B$31,test!H31,IF(Հաշվիչ!$H$19=test!$B$32,test!H32,0)))))","v":0},{"$f":"IF($H$19=test!$B$28,test!I28,IF(Հաշվիչ!$H$19=test!$B$29,test!I29,IF(Հաշվիչ!$H$19=test!$B$30,test!I30,IF(Հաշվիչ!$H$19=test!$B$31,test!I31,IF(Հաշվիչ!$H$19=test!$B$32,test!I32,0)))))","v":0},{"$f":"IF($H$19=test!$B$28,test!J28,IF(Հաշվիչ!$H$19=test!$B$29,test!J29,IF(Հաշվիչ!$H$19=test!$B$30,test!J30,IF(Հաշվիչ!$H$19=test!$B$31,test!J31,IF(Հաշվիչ!$H$19=test!$B$32,test!J32,0)))))","v":0},{"$f":"IF($H$19=test!$B$28,test!K28,IF(Հաշվիչ!$H$19=test!$B$29,test!K29,IF(Հաշվիչ!$H$19=test!$B$30,test!K30,IF(Հաշվիչ!$H$19=test!$B$31,test!K31,IF(Հաշվիչ!$H$19=test!$B$32,test!K32,0)))))","v":0},{"$f":"IF($H$19=test!$B$28,test!L28,IF(Հաշվիչ!$H$19=test!$B$29,test!L29,IF(Հաշվիչ!$H$19=test!$B$30,test!L30,IF(Հաշվիչ!$H$19=test!$B$31,test!L31,IF(Հաշվիչ!$H$19=test!$B$32,test!L32,0)))))","v":0},{"$f":"IF($H$19=test!$B$28,test!M28,IF(Հաշվիչ!$H$19=test!$B$29,test!M29,IF(Հաշվիչ!$H$19=test!$B$30,test!M30,IF(Հաշվիչ!$H$19=test!$B$31,test!M31,IF(Հաշվիչ!$H$19=test!$B$32,test!M32,0)))))","v":0},{"$f":"IF($H$19=test!$B$28,test!N28,IF(Հաշվիչ!$H$19=test!$B$29,test!N29,IF(Հաշվիչ!$H$19=test!$B$30,test!N30,IF(Հաշվիչ!$H$19=test!$B$31,test!N31,IF(Հաշվիչ!$H$19=test!$B$32,test!N32,0)))))","v":0},{"$f":"IF($H$19=test!$B$28,test!O28,IF(Հաշվիչ!$H$19=test!$B$29,test!O29,IF(Հաշվիչ!$H$19=test!$B$30,test!O30,IF(Հաշվիչ!$H$19=test!$B$31,test!O31,IF(Հաշվիչ!$H$19=test!$B$32,test!O32,0)))))","v":0},{"$f":"IF($H$19=test!$B$28,test!P28,IF(Հաշվիչ!$H$19=test!$B$29,test!P29,IF(Հաշվիչ!$H$19=test!$B$30,test!P30,IF(Հաշվիչ!$H$19=test!$B$31,test!P31,IF(Հաշվիչ!$H$19=test!$B$32,test!P32,0)))))","v":0},0,0,0,0,0,0,0,0,0,0,0,0,0,0,0,0,0,0,0,0,0,0,0,0,0,0,0,0,0,0,0,0,0,0,0,0,0,0,0,0,0,0,null,null,"Աղ  /գ",46,50,54,58,61,64,56,58,60,63,65,70,47,50,55,60,62,65]
[]
[null,"ԱՐՄԱՏԱՊԱԼԱՐԱՊՏՈՒՂ",null,"կարտոֆիլ",null,2,null,"N/D",null,0,null,45,60,90,120,null,null,null,null,null,null,null,"Շաքար  /գ",{"$f":"DD50","v":249},{"$f":"IF(AND($A$1=1, $T$19=400),'Օրական նորմեր'!T10,IF(AND($A$1=1, $T$19=450),'Օրական նորմեր'!U10,IF(AND($A$1=1, $T$19=500),'Օրական նորմեր'!V10,IF(AND($A$1=1, $T$19=550),'Օրական նորմեր'!W10,IF(AND($A$1=1, $T$19=600),'Օրական նորմեր'!X10,IF(AND($A$1=1, $T$19=650),'Օրական նորմեր'!Y10,0))))))","v":630},{"$f":"IF(AND($A$1=2, $T$19=400),'Օրական նորմեր'!Z10,IF(AND($A$1=2, $T$19=450),'Օրական նորմեր'!AA10,IF(AND($A$1=2, $T$19=500),'Օրական նորմեր'!AB10,IF(AND($A$1=2, $T$19=550),'Օրական նորմեր'!AC10,IF(AND($A$1=2, $T$19=600),'Օրական նորմեր'!AD10,IF(AND($A$1=2, $T$19=650),'Օրական նորմեր'!AE10,0))))))","v":0},{"$f":"IF(AND($A$1=3, $T$19=400),'Օրական նորմեր'!AF10,IF(AND($A$1=3, $T$19=450),'Օրական նորմեր'!AG10,IF(AND($A$1=3, $T$19=500),'Օրական նորմեր'!AH10,IF(AND($A$1=3, $T$19=550),'Օրական նորմեր'!AI10,IF(AND($A$1=3, $T$19=600),'Օրական նորմեր'!AJ10,IF(AND($A$1=3, $T$19=650),'Օրական նորմեր'!AK10,0))))))","v":0},630,-381,null,null,null,null,null,null,null,null,null,null,null,null,null,null,null,{"$f":"IF($D$21=test!$B$33,test!C33,IF(Հաշվիչ!$D$21=test!$B$34,test!C34,IF(Հաշվիչ!$D$21=test!$B$35,test!C35,IF(Հաշվիչ!$D$21=test!$B$36,test!C36,IF(Հաշվիչ!$D$21=test!$B$37,test!C37,0)))))","v":220},{"$f":"IF($D$21=test!$B$33,test!D33,IF(Հաշվիչ!$D$21=test!$B$34,test!D34,IF(Հաշվիչ!$D$21=test!$B$35,test!D35,IF(Հաշվիչ!$D$21=test!$B$36,test!D36,IF(Հաշվիչ!$D$21=test!$B$37,test!D37,0)))))","v":0.3},{"$f":"IF($D$21=test!$B$33,test!E33,IF(Հաշվիչ!$D$21=test!$B$34,test!E34,IF(Հաշվիչ!$D$21=test!$B$35,test!E35,IF(Հաշվիչ!$D$21=test!$B$36,test!E36,IF(Հաշվիչ!$D$21=test!$B$37,test!E37,0)))))","v":2.82},{"$f":"IF($D$21=test!$B$33,test!F33,IF(Հաշվիչ!$D$21=test!$B$34,test!F34,IF(Հաշվիչ!$D$21=test!$B$35,test!F35,IF(Հաշվիչ!$D$21=test!$B$36,test!F36,IF(Հաշվիչ!$D$21=test!$B$37,test!F37,0)))))","v":18},{"$f":"IF($D$21=test!$B$33,test!G33,IF(Հաշվիչ!$D$21=test!$B$34,test!G34,IF(Հաշվիչ!$D$21=test!$B$35,test!G35,IF(Հաշվիչ!$D$21=test!$B$36,test!G36,IF(Հաշվիչ!$D$21=test!$B$37,test!G37,0)))))","v":10},{"$f":"IF($D$21=test!$B$33,test!H33,IF(Հաշվիչ!$D$21=test!$B$34,test!H34,IF(Հաշվիչ!$D$21=test!$B$35,test!H35,IF(Հաշվիչ!$D$21=test!$B$36,test!H36,IF(Հաշվիչ!$D$21=test!$B$37,test!H37,0)))))","v":8},{"$f":"IF($D$21=test!$B$33,test!I33,IF(Հաշվիչ!$D$21=test!$B$34,test!I34,IF(Հաշվիչ!$D$21=test!$B$35,test!I35,IF(Հաշվիչ!$D$21=test!$B$36,test!I36,IF(Հաշվիչ!$D$21=test!$B$37,test!I37,0)))))","v":140},{"$f":"IF($D$21=test!$B$33,test!J33,IF(Հաշվիչ!$D$21=test!$B$34,test!J34,IF(Հաշվիչ!$D$21=test!$B$35,test!J35,IF(Հաշվիչ!$D$21=test!$B$36,test!J36,IF(Հաշվիչ!$D$21=test!$B$37,test!J37,0)))))","v":10.5},{"$f":"IF($D$21=test!$B$33,test!K33,IF(Հաշվիչ!$D$21=test!$B$34,test!K34,IF(Հաշվիչ!$D$21=test!$B$35,test!K35,IF(Հաշվիչ!$D$21=test!$B$36,test!K36,IF(Հաշվիչ!$D$21=test!$B$37,test!K37,0)))))","v":1},{"$f":"IF($D$21=test!$B$33,test!L33,IF(Հաշվիչ!$D$21=test!$B$34,test!L34,IF(Հաշվիչ!$D$21=test!$B$35,test!L35,IF(Հաշվիչ!$D$21=test!$B$36,test!L36,IF(Հաշվիչ!$D$21=test!$B$37,test!L37,0)))))","v":0.2},{"$f":"IF($D$21=test!$B$33,test!M33,IF(Հաշվիչ!$D$21=test!$B$34,test!M34,IF(Հաշվիչ!$D$21=test!$B$35,test!M35,IF(Հաշվիչ!$D$21=test!$B$36,test!M36,IF(Հաշվիչ!$D$21=test!$B$37,test!M37,0)))))","v":0.5},{"$f":"IF($D$21=test!$B$33,test!N33,IF(Հաշվիչ!$D$21=test!$B$34,test!N34,IF(Հաշվիչ!$D$21=test!$B$35,test!N35,IF(Հաշվիչ!$D$21=test!$B$36,test!N36,IF(Հաշվիչ!$D$21=test!$B$37,test!N37,0)))))","v":0.2},{"$f":"IF($D$21=test!$B$33,test!O33,IF(Հաշվիչ!$D$21=test!$B$34,test!O34,IF(Հաշվիչ!$D$21=test!$B$35,test!O35,IF(Հաշվիչ!$D$21=test!$B$36,test!O36,IF(Հաշվիչ!$D$21=test!$B$37,test!O37,0)))))","v":0},{"$f":"IF($D$21=test!$B$33,test!P33,IF(Հաշվիչ!$D$21=test!$B$34,test!P34,IF(Հաշվիչ!$D$21=test!$B$35,test!P35,IF(Հաշվիչ!$D$21=test!$B$36,test!P36,IF(Հաշվիչ!$D$21=test!$B$37,test!P37,0)))))","v":0.8},{"$f":"IF($H$21=test!$B$33,test!C33,IF(Հաշվիչ!$H$21=test!$B$34,test!C34,IF(Հաշվիչ!$H$21=test!$B$35,test!C35,IF(Հաշվիչ!$H$21=test!$B$36,test!C36,IF(Հաշվիչ!$H$21=test!$B$37,test!C37,0)))))","v":0},{"$f":"IF($H$21=test!$B$33,test!D33,IF(Հաշվիչ!$H$21=test!$B$34,test!D34,IF(Հաշվիչ!$H$21=test!$B$35,test!D35,IF(Հաշվիչ!$H$21=test!$B$36,test!D36,IF(Հաշվիչ!$H$21=test!$B$37,test!D37,0)))))","v":0},{"$f":"IF($H$21=test!$B$33,test!E33,IF(Հաշվիչ!$H$21=test!$B$34,test!E34,IF(Հաշվիչ!$H$21=test!$B$35,test!E35,IF(Հաշվիչ!$H$21=test!$B$36,test!E36,IF(Հաշվիչ!$H$21=test!$B$37,test!E37,0)))))","v":0},{"$f":"IF($H$21=test!$B$33,test!F33,IF(Հաշվիչ!$H$21=test!$B$34,test!F34,IF(Հաշվիչ!$H$21=test!$B$35,test!F35,IF(Հաշվիչ!$H$21=test!$B$36,test!F36,IF(Հաշվիչ!$H$21=test!$B$37,test!F37,0)))))","v":0},{"$f":"IF($H$21=test!$B$33,test!G33,IF(Հաշվիչ!$H$21=test!$B$34,test!G34,IF(Հաշվիչ!$H$21=test!$B$35,test!G35,IF(Հաշվիչ!$H$21=test!$B$36,test!G36,IF(Հաշվիչ!$H$21=test!$B$37,test!G37,0)))))","v":0},{"$f":"IF($H$21=test!$B$33,test!H33,IF(Հաշվիչ!$H$21=test!$B$34,test!H34,IF(Հաշվիչ!$H$21=test!$B$35,test!H35,IF(Հաշվիչ!$H$21=test!$B$36,test!H36,IF(Հաշվիչ!$H$21=test!$B$37,test!H37,0)))))","v":0},{"$f":"IF($H$21=test!$B$33,test!I33,IF(Հաշվիչ!$H$21=test!$B$34,test!I34,IF(Հաշվիչ!$H$21=test!$B$35,test!I35,IF(Հաշվիչ!$H$21=test!$B$36,test!I36,IF(Հաշվիչ!$H$21=test!$B$37,test!I37,0)))))","v":0},{"$f":"IF($H$21=test!$B$33,test!J33,IF(Հաշվիչ!$H$21=test!$B$34,test!J34,IF(Հաշվիչ!$H$21=test!$B$35,test!J35,IF(Հաշվիչ!$H$21=test!$B$36,test!J36,IF(Հաշվիչ!$H$21=test!$B$37,test!J37,0)))))","v":0},{"$f":"IF($H$21=test!$B$33,test!K33,IF(Հաշվիչ!$H$21=test!$B$34,test!K34,IF(Հաշվիչ!$H$21=test!$B$35,test!K35,IF(Հաշվիչ!$H$21=test!$B$36,test!K36,IF(Հաշվիչ!$H$21=test!$B$37,test!K37,0)))))","v":0},{"$f":"IF($H$21=test!$B$33,test!L33,IF(Հաշվիչ!$H$21=test!$B$34,test!L34,IF(Հաշվիչ!$H$21=test!$B$35,test!L35,IF(Հաշվիչ!$H$21=test!$B$36,test!L36,IF(Հաշվիչ!$H$21=test!$B$37,test!L37,0)))))","v":0},{"$f":"IF($H$21=test!$B$33,test!M33,IF(Հաշվիչ!$H$21=test!$B$34,test!M34,IF(Հաշվիչ!$H$21=test!$B$35,test!M35,IF(Հաշվիչ!$H$21=test!$B$36,test!M36,IF(Հաշվիչ!$H$21=test!$B$37,test!M37,0)))))","v":0},{"$f":"IF($H$21=test!$B$33,test!N33,IF(Հաշվիչ!$H$21=test!$B$34,test!N34,IF(Հաշվիչ!$H$21=test!$B$35,test!N35,IF(Հաշվիչ!$H$21=test!$B$36,test!N36,IF(Հաշվիչ!$H$21=test!$B$37,test!N37,0)))))","v":0},{"$f":"IF($H$21=test!$B$33,test!O33,IF(Հաշվիչ!$H$21=test!$B$34,test!O34,IF(Հաշվիչ!$H$21=test!$B$35,test!O35,IF(Հաշվիչ!$H$21=test!$B$36,test!O36,IF(Հաշվիչ!$H$21=test!$B$37,test!O37,0)))))","v":0},{"$f":"IF($H$21=test!$B$33,test!P33,IF(Հաշվիչ!$H$21=test!$B$34,test!P34,IF(Հաշվիչ!$H$21=test!$B$35,test!P35,IF(Հաշվիչ!$H$21=test!$B$36,test!P36,IF(Հաշվիչ!$H$21=test!$B$37,test!P37,0)))))","v":0},440,0.6,5.64,36,20,16,280,21,2,0.4,1,0.4,0,1.6,0,0,0,0,0,0,0,0,0,0,0,0,0,0,440,0.6,5.64,36,20,16,280,21,2,0.4,1,0.4,0,1.6]
[]
[null,"ՀԱՏԻԿ",null,"գարի",null,4,null,"N/D",null,0,null,38,60,152,240,null,null,null,null,null,null,null,"Հում ճարպ /գ",{"$f":"DE50","v":369},{"$f":"IF(AND($A$1=1, $T$19=400),'Օրական նորմեր'!T11,IF(AND($A$1=1, $T$19=450),'Օրական նորմեր'!U11,IF(AND($A$1=1, $T$19=500),'Օրական նորմեր'!V11,IF(AND($A$1=1, $T$19=550),'Օրական նորմեր'!W11,IF(AND($A$1=1, $T$19=600),'Օրական նորմեր'!X11,IF(AND($A$1=1, $T$19=650),'Օրական նորմեր'!Y11,0))))))","v":248},{"$f":"IF(AND($A$1=2, $T$19=400),'Օրական նորմեր'!Z11,IF(AND($A$1=2, $T$19=450),'Օրական նորմեր'!AA11,IF(AND($A$1=2, $T$19=500),'Օրական նորմեր'!AB11,IF(AND($A$1=2, $T$19=550),'Օրական նորմեր'!AC11,IF(AND($A$1=2, $T$19=600),'Օրական նորմեր'!AD11,IF(AND($A$1=2, $T$19=650),'Օրական նորմեր'!AE11,0))))))","v":0},{"$f":"IF(AND($A$1=3, $T$19=400),'Օրական նորմեր'!AF11,IF(AND($A$1=3, $T$19=450),'Օրական նորմեր'!AG11,IF(AND($A$1=3, $T$19=500),'Օրական նորմեր'!AH11,IF(AND($A$1=3, $T$19=550),'Օրական նորմեր'!AI11,IF(AND($A$1=3, $T$19=600),'Օրական նորմեր'!AJ11,IF(AND($A$1=3, $T$19=650),'Օրական նորմեր'!AK11,0))))))","v":0},248,121,null,null,null,null,null,null,null,null,null,null,null,null,null,null,null,{"$f":"IF($D$23=test!$B$38,test!C38,IF(Հաշվիչ!$D$23=test!$B$39,test!C39,IF(Հաշվիչ!$D$23=test!$B$40,test!C40,IF(Հաշվիչ!$D$23=test!$B$41,test!C41,IF(Հաշվիչ!$D$23=test!$B$42,test!C42,IF(Հաշվիչ!$D$23=test!$B$43,test!C43,IF(Հաշվիչ!$D$23=test!$B$44,test!C44,0)))))))","v":850},{"$f":"IF($D$23=test!$B$38,test!D38,IF(Հաշվիչ!$D$23=test!$B$39,test!D39,IF(Հաշվիչ!$D$23=test!$B$40,test!D40,IF(Հաշվիչ!$D$23=test!$B$41,test!D41,IF(Հաշվիչ!$D$23=test!$B$42,test!D42,IF(Հաշվիչ!$D$23=test!$B$43,test!D43,IF(Հաշվիչ!$D$23=test!$B$44,test!D44,0)))))))","v":1.1499999999999999},{"$f":"IF($D$23=test!$B$38,test!E38,IF(Հաշվիչ!$D$23=test!$B$39,test!E39,IF(Հաշվիչ!$D$23=test!$B$40,test!E40,IF(Հաշվիչ!$D$23=test!$B$41,test!E41,IF(Հաշվիչ!$D$23=test!$B$42,test!E42,IF(Հաշվիչ!$D$23=test!$B$43,test!E43,IF(Հաշվիչ!$D$23=test!$B$44,test!E44,0)))))))","v":10.5},{"$f":"IF($D$23=test!$B$38,test!F38,IF(Հաշվիչ!$D$23=test!$B$39,test!F39,IF(Հաշվիչ!$D$23=test!$B$40,test!F40,IF(Հաշվիչ!$D$23=test!$B$41,test!F41,IF(Հաշվիչ!$D$23=test!$B$42,test!F42,IF(Հաշվիչ!$D$23=test!$B$43,test!F43,IF(Հաշվիչ!$D$23=test!$B$44,test!F44,0)))))))","v":113},{"$f":"IF($D$23=test!$B$38,test!G38,IF(Հաշվիչ!$D$23=test!$B$39,test!G39,IF(Հաշվիչ!$D$23=test!$B$40,test!G40,IF(Հաշվիչ!$D$23=test!$B$41,test!G41,IF(Հաշվիչ!$D$23=test!$B$42,test!G42,IF(Հաշվիչ!$D$23=test!$B$43,test!G43,IF(Հաշվիչ!$D$23=test!$B$44,test!G44,0)))))))","v":85},{"$f":"IF($D$23=test!$B$38,test!H38,IF(Հաշվիչ!$D$23=test!$B$39,test!H39,IF(Հաշվիչ!$D$23=test!$B$40,test!H40,IF(Հաշվիչ!$D$23=test!$B$41,test!H41,IF(Հաշվիչ!$D$23=test!$B$42,test!H42,IF(Հաշվիչ!$D$23=test!$B$43,test!H43,IF(Հաշվիչ!$D$23=test!$B$44,test!H44,0)))))))","v":49},{"$f":"IF($D$23=test!$B$38,test!I38,IF(Հաշվիչ!$D$23=test!$B$39,test!I39,IF(Հաշվիչ!$D$23=test!$B$40,test!I40,IF(Հաշվիչ!$D$23=test!$B$41,test!I41,IF(Հաշվիչ!$D$23=test!$B$42,test!I42,IF(Հաշվիչ!$D$23=test!$B$43,test!I43,IF(Հաշվիչ!$D$23=test!$B$44,test!I44,0)))))))","v":485},{"$f":"IF($D$23=test!$B$38,test!J38,IF(Հաշվիչ!$D$23=test!$B$39,test!J39,IF(Հաշվիչ!$D$23=test!$B$40,test!J40,IF(Հաշվիչ!$D$23=test!$B$41,test!J41,IF(Հաշվիչ!$D$23=test!$B$42,test!J42,IF(Հաշվիչ!$D$23=test!$B$43,test!J43,IF(Հաշվիչ!$D$23=test!$B$44,test!J44,0)))))))","v":2},{"$f":"IF($D$23=test!$B$38,test!K38,IF(Հաշվիչ!$D$23=test!$B$39,test!K39,IF(Հաշվիչ!$D$23=test!$B$40,test!K40,IF(Հաշվիչ!$D$23=test!$B$41,test!K41,IF(Հաշվիչ!$D$23=test!$B$42,test!K42,IF(Հաշվիչ!$D$23=test!$B$43,test!K43,IF(Հաշվիչ!$D$23=test!$B$44,test!K44,0)))))))","v":22},{"$f":"IF($D$23=test!$B$38,test!L38,IF(Հաշվիչ!$D$23=test!$B$39,test!L39,IF(Հաշվիչ!$D$23=test!$B$40,test!L40,IF(Հաշվիչ!$D$23=test!$B$41,test!L41,IF(Հաշվիչ!$D$23=test!$B$42,test!L42,IF(Հաշվիչ!$D$23=test!$B$43,test!L43,IF(Հաշվիչ!$D$23=test!$B$44,test!L44,0)))))))","v":2},{"$f":"IF($D$23=test!$B$38,test!M38,IF(Հաշվիչ!$D$23=test!$B$39,test!M39,IF(Հաշվիչ!$D$23=test!$B$40,test!M40,IF(Հաշվիչ!$D$23=test!$B$41,test!M41,IF(Հաշվիչ!$D$23=test!$B$42,test!M42,IF(Հաշվիչ!$D$23=test!$B$43,test!M43,IF(Հաշվիչ!$D$23=test!$B$44,test!M44,0)))))))","v":3.9},{"$f":"IF($D$23=test!$B$38,test!N38,IF(Հաշվիչ!$D$23=test!$B$39,test!N39,IF(Հաշվիչ!$D$23=test!$B$40,test!N40,IF(Հաշվիչ!$D$23=test!$B$41,test!N41,IF(Հաշվիչ!$D$23=test!$B$42,test!N42,IF(Հաշվիչ!$D$23=test!$B$43,test!N43,IF(Հաշվիչ!$D$23=test!$B$44,test!N44,0)))))))","v":0.5},{"$f":"IF($D$23=test!$B$38,test!O38,IF(Հաշվիչ!$D$23=test!$B$39,test!O39,IF(Հաշվիչ!$D$23=test!$B$40,test!O40,IF(Հաշվիչ!$D$23=test!$B$41,test!O41,IF(Հաշվիչ!$D$23=test!$B$42,test!O42,IF(Հաշվիչ!$D$23=test!$B$43,test!O43,IF(Հաշվիչ!$D$23=test!$B$44,test!O44,0)))))))","v":0},{"$f":"IF($D$23=test!$B$38,test!P38,IF(Հաշվիչ!$D$23=test!$B$39,test!P39,IF(Հաշվիչ!$D$23=test!$B$40,test!P40,IF(Հաշվիչ!$D$23=test!$B$41,test!P41,IF(Հաշվիչ!$D$23=test!$B$42,test!P42,IF(Հաշվիչ!$D$23=test!$B$43,test!P43,IF(Հաշվիչ!$D$23=test!$B$44,test!P44,0)))))))","v":50},{"$f":"IF($H$23=test!$B$38,test!C38,IF(Հաշվիչ!$H$23=test!$B$39,test!C39,IF(Հաշվիչ!$H$23=test!$B$40,test!C40,IF(Հաշվիչ!$H$23=test!$B$41,test!C41,IF(Հաշվիչ!$H$23=test!$B$42,test!C42,IF(Հաշվիչ!$H$23=test!$B$43,test!C43,IF(Հաշվիչ!$H$23=test!$B$44,test!C44,0)))))))","v":0},{"$f":"IF($H$23=test!$B$38,test!D38,IF(Հաշվիչ!$H$23=test!$B$39,test!D39,IF(Հաշվիչ!$H$23=test!$B$40,test!D40,IF(Հաշվիչ!$H$23=test!$B$41,test!D41,IF(Հաշվիչ!$H$23=test!$B$42,test!D42,IF(Հաշվիչ!$H$23=test!$B$43,test!D43,IF(Հաշվիչ!$H$23=test!$B$44,test!D44,0)))))))","v":0},{"$f":"IF($H$23=test!$B$38,test!E38,IF(Հաշվիչ!$H$23=test!$B$39,test!E39,IF(Հաշվիչ!$H$23=test!$B$40,test!E40,IF(Հաշվիչ!$H$23=test!$B$41,test!E41,IF(Հաշվիչ!$H$23=test!$B$42,test!E42,IF(Հաշվիչ!$H$23=test!$B$43,test!E43,IF(Հաշվիչ!$H$23=test!$B$44,test!E44,0)))))))","v":0},{"$f":"IF($H$23=test!$B$38,test!F38,IF(Հաշվիչ!$H$23=test!$B$39,test!F39,IF(Հաշվիչ!$H$23=test!$B$40,test!F40,IF(Հաշվիչ!$H$23=test!$B$41,test!F41,IF(Հաշվիչ!$H$23=test!$B$42,test!F42,IF(Հաշվիչ!$H$23=test!$B$43,test!F43,IF(Հաշվիչ!$H$23=test!$B$44,test!F44,0)))))))","v":0},{"$f":"IF($H$23=test!$B$38,test!G38,IF(Հաշվիչ!$H$23=test!$B$39,test!G39,IF(Հաշվիչ!$H$23=test!$B$40,test!G40,IF(Հաշվիչ!$H$23=test!$B$41,test!G41,IF(Հաշվիչ!$H$23=test!$B$42,test!G42,IF(Հաշվիչ!$H$23=test!$B$43,test!G43,IF(Հաշվիչ!$H$23=test!$B$44,test!G44,0)))))))","v":0},{"$f":"IF($H$23=test!$B$38,test!H38,IF(Հաշվիչ!$H$23=test!$B$39,test!H39,IF(Հաշվիչ!$H$23=test!$B$40,test!H40,IF(Հաշվիչ!$H$23=test!$B$41,test!H41,IF(Հաշվիչ!$H$23=test!$B$42,test!H42,IF(Հաշվիչ!$H$23=test!$B$43,test!H43,IF(Հաշվիչ!$H$23=test!$B$44,test!H44,0)))))))","v":0},{"$f":"IF($H$23=test!$B$38,test!I38,IF(Հաշվիչ!$H$23=test!$B$39,test!I39,IF(Հաշվիչ!$H$23=test!$B$40,test!I40,IF(Հաշվիչ!$H$23=test!$B$41,test!I41,IF(Հաշվիչ!$H$23=test!$B$42,test!I42,IF(Հաշվիչ!$H$23=test!$B$43,test!I43,IF(Հաշվիչ!$H$23=test!$B$44,test!I44,0)))))))","v":0},{"$f":"IF($H$23=test!$B$38,test!J38,IF(Հաշվիչ!$H$23=test!$B$39,test!J39,IF(Հաշվիչ!$H$23=test!$B$40,test!J40,IF(Հաշվիչ!$H$23=test!$B$41,test!J41,IF(Հաշվիչ!$H$23=test!$B$42,test!J42,IF(Հաշվիչ!$H$23=test!$B$43,test!J43,IF(Հաշվիչ!$H$23=test!$B$44,test!J44,0)))))))","v":0},{"$f":"IF($H$23=test!$B$38,test!K38,IF(Հաշվիչ!$H$23=test!$B$39,test!K39,IF(Հաշվիչ!$H$23=test!$B$40,test!K40,IF(Հաշվիչ!$H$23=test!$B$41,test!K41,IF(Հաշվիչ!$H$23=test!$B$42,test!K42,IF(Հաշվիչ!$H$23=test!$B$43,test!K43,IF(Հաշվիչ!$H$23=test!$B$44,test!K44,0)))))))","v":0},{"$f":"IF($H$23=test!$B$38,test!L38,IF(Հաշվիչ!$H$23=test!$B$39,test!L39,IF(Հաշվիչ!$H$23=test!$B$40,test!L40,IF(Հաշվիչ!$H$23=test!$B$41,test!L41,IF(Հաշվիչ!$H$23=test!$B$42,test!L42,IF(Հաշվիչ!$H$23=test!$B$43,test!L43,IF(Հաշվիչ!$H$23=test!$B$44,test!L44,0)))))))","v":0},{"$f":"IF($H$23=test!$B$38,test!M38,IF(Հաշվիչ!$H$23=test!$B$39,test!M39,IF(Հաշվիչ!$H$23=test!$B$40,test!M40,IF(Հաշվիչ!$H$23=test!$B$41,test!M41,IF(Հաշվիչ!$H$23=test!$B$42,test!M42,IF(Հաշվիչ!$H$23=test!$B$43,test!M43,IF(Հաշվիչ!$H$23=test!$B$44,test!M44,0)))))))","v":0},{"$f":"IF($H$23=test!$B$38,test!N38,IF(Հաշվիչ!$H$23=test!$B$39,test!N39,IF(Հաշվիչ!$H$23=test!$B$40,test!N40,IF(Հաշվիչ!$H$23=test!$B$41,test!N41,IF(Հաշվիչ!$H$23=test!$B$42,test!N42,IF(Հաշվիչ!$H$23=test!$B$43,test!N43,IF(Հաշվիչ!$H$23=test!$B$44,test!N44,0)))))))","v":0},{"$f":"IF($H$23=test!$B$38,test!O38,IF(Հաշվիչ!$H$23=test!$B$39,test!O39,IF(Հաշվիչ!$H$23=test!$B$40,test!O40,IF(Հաշվիչ!$H$23=test!$B$41,test!O41,IF(Հաշվիչ!$H$23=test!$B$42,test!O42,IF(Հաշվիչ!$H$23=test!$B$43,test!O43,IF(Հաշվիչ!$H$23=test!$B$44,test!O44,0)))))))","v":0},{"$f":"IF($H$23=test!$B$38,test!P38,IF(Հաշվիչ!$H$23=test!$B$39,test!P39,IF(Հաշվիչ!$H$23=test!$B$40,test!P40,IF(Հաշվիչ!$H$23=test!$B$41,test!P41,IF(Հաշվիչ!$H$23=test!$B$42,test!P42,IF(Հաշվիչ!$H$23=test!$B$43,test!P43,IF(Հաշվիչ!$H$23=test!$B$44,test!P44,0)))))))","v":0},3400,4.5999999999999996,42,452,340,196,1940,8,88,8,15.6,2,0,200,0,0,0,0,0,0,0,0,0,0,0,0,0,0,3400,4.5999999999999996,42,452,340,196,1940,8,88,8,15.6,2,0,200]
[]
[null,"ԹԵՓ",null,"N/D",null,0,null,"N/D",null,0,null,60,75,0,0,null,"Կովի Ցեղը",null,null,"Կովկասյան գորշ",null,null,"Կալցիում /գ",{"$f":"DF50","v":54.5},{"$f":"IF(AND($A$1=1, $T$19=400),'Օրական նորմեր'!T12,IF(AND($A$1=1, $T$19=450),'Օրական նորմեր'!U12,IF(AND($A$1=1, $T$19=500),'Օրական նորմեր'!V12,IF(AND($A$1=1, $T$19=550),'Օրական նորմեր'!W12,IF(AND($A$1=1, $T$19=600),'Օրական նորմեր'!X12,IF(AND($A$1=1, $T$19=650),'Օրական նորմեր'!Y12,0))))))","v":70},{"$f":"IF(AND($A$1=2, $T$19=400),'Օրական նորմեր'!Z12,IF(AND($A$1=2, $T$19=450),'Օրական նորմեր'!AA12,IF(AND($A$1=2, $T$19=500),'Օրական նորմեր'!AB12,IF(AND($A$1=2, $T$19=550),'Օրական նորմեր'!AC12,IF(AND($A$1=2, $T$19=600),'Օրական նորմեր'!AD12,IF(AND($A$1=2, $T$19=650),'Օրական նորմեր'!AE12,0))))))","v":0},{"$f":"IF(AND($A$1=3, $T$19=400),'Օրական նորմեր'!AF12,IF(AND($A$1=3, $T$19=450),'Օրական նորմեր'!AG12,IF(AND($A$1=3, $T$19=500),'Օրական նորմեր'!AH12,IF(AND($A$1=3, $T$19=550),'Օրական նորմեր'!AI12,IF(AND($A$1=3, $T$19=600),'Օրական նորմեր'!AJ12,IF(AND($A$1=3, $T$19=650),'Օրական նորմեր'!AK12,0))))))","v":0},70,-15.5,null,null,null,null,null,null,null,null,null,null,null,null,null,null,null,{"$f":"IF($D$25=test!$B$45,test!C45,0)","v":0},{"$f":"IF($D$25=test!$B$45,test!D45,0)","v":0},{"$f":"IF($D$25=test!$B$45,test!E45,0)","v":0},{"$f":"IF($D$25=test!$B$45,test!F45,0)","v":0},{"$f":"IF($D$25=test!$B$45,test!G45,0)","v":0},{"$f":"IF($D$25=test!$B$45,test!H45,0)","v":0},{"$f":"IF($D$25=test!$B$45,test!I45,0)","v":0},{"$f":"IF($D$25=test!$B$45,test!J45,0)","v":0},{"$f":"IF($D$25=test!$B$45,test!K45,0)","v":0},{"$f":"IF($D$25=test!$B$45,test!L45,0)","v":0},{"$f":"IF($D$25=test!$B$45,test!M45,0)","v":0},{"$f":"IF($D$25=test!$B$45,test!N45,0)","v":0},{"$f":"IF($D$25=test!$B$45,test!O45,0)","v":0},{"$f":"IF($D$25=test!$B$45,test!P45,0)","v":0},{"$f":"IF($H$25=test!$B$45,test!C45,0)","v":0},{"$f":"IF($H$25=test!$B$45,test!D45,0)","v":0},{"$f":"IF($H$25=test!$B$45,test!E45,0)","v":0},{"$f":"IF($H$25=test!$B$45,test!F45,0)","v":0},{"$f":"IF($H$25=test!$B$45,test!G45,0)","v":0},{"$f":"IF($H$25=test!$B$45,test!H45,0)","v":0},{"$f":"IF($H$25=test!$B$45,test!I45,0)","v":0},{"$f":"IF($H$25=test!$B$45,test!J45,0)","v":0},{"$f":"IF($H$25=test!$B$45,test!K45,0)","v":0},{"$f":"IF($H$25=test!$B$45,test!L45,0)","v":0},{"$f":"IF($H$25=test!$B$45,test!M45,0)","v":0},{"$f":"IF($H$25=test!$B$45,test!N45,0)","v":0},{"$f":"IF($H$25=test!$B$45,test!O45,0)","v":0},{"$f":"IF($H$25=test!$B$45,test!P45,0)","v":0},0,0,0,0,0,0,0,0,0,0,0,0,0,0,0,0,0,0,0,0,0,0,0,0,0,0,0,0,0,0,0,0,0,0,0,0,0,0,0,0,0,0]
[]
[null,"ՔՈՒՍՊ",null,"N/D",null,0,null,"N/D",null,0,null,60,80,0,0,null,null,null,null,"Medium","Max",null,"Ֆոսֆոր /գ",{"$f":"DG50","v":37.4},{"$f":"IF(AND($A$1=1, $T$19=400),'Օրական նորմեր'!T13,IF(AND($A$1=1, $T$19=450),'Օրական նորմեր'!U13,IF(AND($A$1=1, $T$19=500),'Օրական նորմեր'!V13,IF(AND($A$1=1, $T$19=550),'Օրական նորմեր'!W13,IF(AND($A$1=1, $T$19=600),'Օրական նորմեր'!X13,IF(AND($A$1=1, $T$19=650),'Օրական նորմեր'!Y13,0))))))","v":40},{"$f":"IF(AND($A$1=2, $T$19=400),'Օրական նորմեր'!Z13,IF(AND($A$1=2, $T$19=450),'Օրական նորմեր'!AA13,IF(AND($A$1=2, $T$19=500),'Օրական նորմեր'!AB13,IF(AND($A$1=2, $T$19=550),'Օրական նորմեր'!AC13,IF(AND($A$1=2, $T$19=600),'Օրական նորմեր'!AD13,IF(AND($A$1=2, $T$19=650),'Օրական նորմեր'!AE13,0))))))","v":0},{"$f":"IF(AND($A$1=3, $T$19=400),'Օրական նորմեր'!AF13,IF(AND($A$1=3, $T$19=450),'Օրական նորմեր'!AG13,IF(AND($A$1=3, $T$19=500),'Օրական նորմեր'!AH13,IF(AND($A$1=3, $T$19=550),'Օրական նորմեր'!AI13,IF(AND($A$1=3, $T$19=600),'Օրական նորմեր'!AJ13,IF(AND($A$1=3, $T$19=650),'Օրական նորմեր'!AK13,0))))))","v":0},40,-2.6000000000000014,null,null,null,null,null,null,null,null,null,null,null,null,null,null,null,{"$f":"IF($D$27=test!$B$46,test!C46,IF(Հաշվիչ!$D$27=test!$B$47,test!C47,IF(Հաշվիչ!$D$27=test!$B$48,test!C48,0)))","v":0},{"$f":"IF($D$27=test!$B$46,test!D46,IF(Հաշվիչ!$D$27=test!$B$47,test!D47,IF(Հաշվիչ!$D$27=test!$B$48,test!D48,0)))","v":0},{"$f":"IF($D$27=test!$B$46,test!E46,IF(Հաշվիչ!$D$27=test!$B$47,test!E47,IF(Հաշվիչ!$D$27=test!$B$48,test!E48,0)))","v":0},{"$f":"IF($D$27=test!$B$46,test!F46,IF(Հաշվիչ!$D$27=test!$B$47,test!F47,IF(Հաշվիչ!$D$27=test!$B$48,test!F48,0)))","v":0},{"$f":"IF($D$27=test!$B$46,test!G46,IF(Հաշվիչ!$D$27=test!$B$47,test!G47,IF(Հաշվիչ!$D$27=test!$B$48,test!G48,0)))","v":0},{"$f":"IF($D$27=test!$B$46,test!H46,IF(Հաշվիչ!$D$27=test!$B$47,test!H47,IF(Հաշվիչ!$D$27=test!$B$48,test!H48,0)))","v":0},{"$f":"IF($D$27=test!$B$46,test!I46,IF(Հաշվիչ!$D$27=test!$B$47,test!I47,IF(Հաշվիչ!$D$27=test!$B$48,test!I48,0)))","v":0},{"$f":"IF($D$27=test!$B$46,test!J46,IF(Հաշվիչ!$D$27=test!$B$47,test!J47,IF(Հաշվիչ!$D$27=test!$B$48,test!J48,0)))","v":0},{"$f":"IF($D$27=test!$B$46,test!K46,IF(Հաշվիչ!$D$27=test!$B$47,test!K47,IF(Հաշվիչ!$D$27=test!$B$48,test!K48,0)))","v":0},{"$f":"IF($D$27=test!$B$46,test!L46,IF(Հաշվիչ!$D$27=test!$B$47,test!L47,IF(Հաշվիչ!$D$27=test!$B$48,test!L48,0)))","v":0},{"$f":"IF($D$27=test!$B$46,test!M46,IF(Հաշվիչ!$D$27=test!$B$47,test!M47,IF(Հաշվիչ!$D$27=test!$B$48,test!M48,0)))","v":0},{"$f":"IF($D$27=test!$B$46,test!N46,IF(Հաշվիչ!$D$27=test!$B$47,test!N47,IF(Հաշվիչ!$D$27=test!$B$48,test!N48,0)))","v":0},{"$f":"IF($D$27=test!$B$46,test!O46,IF(Հաշվիչ!$D$27=test!$B$47,test!O47,IF(Հաշվիչ!$D$27=test!$B$48,test!O48,0)))","v":0},{"$f":"IF($D$27=test!$B$46,test!P46,IF(Հաշվիչ!$D$27=test!$B$47,test!P47,IF(Հաշվիչ!$D$27=test!$B$48,test!P48,0)))","v":0},{"$f":"IF($H$27=test!$B$46,test!C46,IF(Հաշվիչ!$H$27=test!$B$47,test!C47,IF(Հաշվիչ!$H$27=test!$B$48,test!C48,0)))","v":0},{"$f":"IF($H$27=test!$B$46,test!D46,IF(Հաշվիչ!$H$27=test!$B$47,test!D47,IF(Հաշվիչ!$H$27=test!$B$48,test!D48,0)))","v":0},{"$f":"IF($H$27=test!$B$46,test!E46,IF(Հաշվիչ!$H$27=test!$B$47,test!E47,IF(Հաշվիչ!$H$27=test!$B$48,test!E48,0)))","v":0},{"$f":"IF($H$27=test!$B$46,test!F46,IF(Հաշվիչ!$H$27=test!$B$47,test!F47,IF(Հաշվիչ!$H$27=test!$B$48,test!F48,0)))","v":0},{"$f":"IF($H$27=test!$B$46,test!G46,IF(Հաշվիչ!$H$27=test!$B$47,test!G47,IF(Հաշվիչ!$H$27=test!$B$48,test!G48,0)))","v":0},{"$f":"IF($H$27=test!$B$46,test!H46,IF(Հաշվիչ!$H$27=test!$B$47,test!H47,IF(Հաշվիչ!$H$27=test!$B$48,test!H48,0)))","v":0},{"$f":"IF($H$27=test!$B$46,test!I46,IF(Հաշվիչ!$H$27=test!$B$47,test!I47,IF(Հաշվիչ!$H$27=test!$B$48,test!I48,0)))","v":0},{"$f":"IF($H$27=test!$B$46,test!J46,IF(Հաշվիչ!$H$27=test!$B$47,test!J47,IF(Հաշվիչ!$H$27=test!$B$48,test!J48,0)))","v":0},{"$f":"IF($H$27=test!$B$46,test!K46,IF(Հաշվիչ!$H$27=test!$B$47,test!K47,IF(Հաշվիչ!$H$27=test!$B$48,test!K48,0)))","v":0},{"$f":"IF($H$27=test!$B$46,test!L46,IF(Հաշվիչ!$H$27=test!$B$47,test!L47,IF(Հաշվիչ!$H$27=test!$B$48,test!L48,0)))","v":0},{"$f":"IF($H$27=test!$B$46,test!M46,IF(Հաշվիչ!$H$27=test!$B$47,test!M47,IF(Հաշվիչ!$H$27=test!$B$48,test!M48,0)))","v":0},{"$f":"IF($H$27=test!$B$46,test!N46,IF(Հաշվիչ!$H$27=test!$B$47,test!N47,IF(Հաշվիչ!$H$27=test!$B$48,test!N48,0)))","v":0},{"$f":"IF($H$27=test!$B$46,test!O46,IF(Հաշվիչ!$H$27=test!$B$47,test!O47,IF(Հաշվիչ!$H$27=test!$B$48,test!O48,0)))","v":0},{"$f":"IF($H$27=test!$B$46,test!P46,IF(Հաշվիչ!$H$27=test!$B$47,test!P47,IF(Հաշվիչ!$H$27=test!$B$48,test!P48,0)))","v":0},0,0,0,0,0,0,0,0,0,0,0,0,0,0,0,0,0,0,0,0,0,0,0,0,0,0,0,0,0,0,0,0,0,0,0,0,0,0,0,0,0,0]
[]
[null,"ՔՈՒՍՊԱԼՅՈՒՐ",null,"N/D",null,0,null,"N/D",null,0,null,50,100,0,0,null,"Կաթնատվ.լիտր",null,null,{"$f":"IF($T$25=Sheet12!$AQ$2,Sheet12!AR2,IF($T$25=Sheet12!$AQ$3,Sheet12!AR3,IF($T$25=Sheet12!$AQ$4,Sheet12!AR4,IF($T$25=Sheet12!$AQ$5,Sheet12!AR5,IF($T$25=Sheet12!$AQ$6,Sheet12!AR6,IF($T$25=Sheet12!$AQ$7,Sheet12!AR7,0))))))","v":3500},{"$f":"IF($T$25=Sheet12!$AQ$2,Sheet12!AS2,IF($T$25=Sheet12!$AQ$3,Sheet12!AS3,IF($T$25=Sheet12!$AQ$4,Sheet12!AS4,IF($T$25=Sheet12!$AQ$5,Sheet12!AS5,IF($T$25=Sheet12!$AQ$6,Sheet12!AS6,IF($T$25=Sheet12!$AQ$7,Sheet12!AS7,0))))))","v":4500},null,"Կարոտին /մգ",{"$f":"DH50","v":122.4},{"$f":"IF(AND($A$1=1, $T$19=400),'Օրական նորմեր'!T14,IF(AND($A$1=1, $T$19=450),'Օրական նորմեր'!U14,IF(AND($A$1=1, $T$19=500),'Օրական նորմեր'!V14,IF(AND($A$1=1, $T$19=550),'Օրական նորմեր'!W14,IF(AND($A$1=1, $T$19=600),'Օրական նորմեր'!X14,IF(AND($A$1=1, $T$19=650),'Օրական նորմեր'!Y14,0))))))","v":300},{"$f":"IF(AND($A$1=2, $T$19=400),'Օրական նորմեր'!Z14,IF(AND($A$1=2, $T$19=450),'Օրական նորմեր'!AA14,IF(AND($A$1=2, $T$19=500),'Օրական նորմեր'!AB14,IF(AND($A$1=2, $T$19=550),'Օրական նորմեր'!AC14,IF(AND($A$1=2, $T$19=600),'Օրական նորմեր'!AD14,IF(AND($A$1=2, $T$19=650),'Օրական նորմեր'!AE14,0))))))","v":0},{"$f":"IF(AND($A$1=3, $T$19=400),'Օրական նորմեր'!AF14,IF(AND($A$1=3, $T$19=450),'Օրական նորմեր'!AG14,IF(AND($A$1=3, $T$19=500),'Օրական նորմեր'!AH14,IF(AND($A$1=3, $T$19=550),'Օրական նորմեր'!AI14,IF(AND($A$1=3, $T$19=600),'Օրական նորմեր'!AJ14,IF(AND($A$1=3, $T$19=650),'Օրական նորմեր'!AK14,0))))))","v":0},300,-177.6,null,null,null,null,null,null,null,null,null,null,null,null,null,null,null,{"$f":"IF($D$29=test!$B$49,test!C49,IF(Հաշվիչ!$D$29=test!$B$50,test!C50,IF(Հաշվիչ!$D$29=test!$B$51,test!C51,IF(Հաշվիչ!$D$29=test!$B$52,test!C52,0))))","v":0},{"$f":"IF($D$29=test!$B$49,test!D49,IF(Հաշվիչ!$D$29=test!$B$50,test!D50,IF(Հաշվիչ!$D$29=test!$B$51,test!D51,IF(Հաշվիչ!$D$29=test!$B$52,test!D52,0))))","v":0},{"$f":"IF($D$29=test!$B$49,test!E49,IF(Հաշվիչ!$D$29=test!$B$50,test!E50,IF(Հաշվիչ!$D$29=test!$B$51,test!E51,IF(Հաշվիչ!$D$29=test!$B$52,test!E52,0))))","v":0},{"$f":"IF($D$29=test!$B$49,test!F49,IF(Հաշվիչ!$D$29=test!$B$50,test!F50,IF(Հաշվիչ!$D$29=test!$B$51,test!F51,IF(Հաշվիչ!$D$29=test!$B$52,test!F52,0))))","v":0},{"$f":"IF($D$29=test!$B$49,test!G49,IF(Հաշվիչ!$D$29=test!$B$50,test!G50,IF(Հաշվիչ!$D$29=test!$B$51,test!G51,IF(Հաշվիչ!$D$29=test!$B$52,test!G52,0))))","v":0},{"$f":"IF($D$29=test!$B$49,test!H49,IF(Հաշվիչ!$D$29=test!$B$50,test!H50,IF(Հաշվիչ!$D$29=test!$B$51,test!H51,IF(Հաշվիչ!$D$29=test!$B$52,test!H52,0))))","v":0},{"$f":"IF($D$29=test!$B$49,test!I49,IF(Հաշվիչ!$D$29=test!$B$50,test!I50,IF(Հաշվիչ!$D$29=test!$B$51,test!I51,IF(Հաշվիչ!$D$29=test!$B$52,test!I52,0))))","v":0},{"$f":"IF($D$29=test!$B$49,test!J49,IF(Հաշվիչ!$D$29=test!$B$50,test!J50,IF(Հաշվիչ!$D$29=test!$B$51,test!J51,IF(Հաշվիչ!$D$29=test!$B$52,test!J52,0))))","v":0},{"$f":"IF($D$29=test!$B$49,test!K49,IF(Հաշվիչ!$D$29=test!$B$50,test!K50,IF(Հաշվիչ!$D$29=test!$B$51,test!K51,IF(Հաշվիչ!$D$29=test!$B$52,test!K52,0))))","v":0},{"$f":"IF($D$29=test!$B$49,test!L49,IF(Հաշվիչ!$D$29=test!$B$50,test!L50,IF(Հաշվիչ!$D$29=test!$B$51,test!L51,IF(Հաշվիչ!$D$29=test!$B$52,test!L52,0))))","v":0},{"$f":"IF($D$29=test!$B$49,test!M49,IF(Հաշվիչ!$D$29=test!$B$50,test!M50,IF(Հաշվիչ!$D$29=test!$B$51,test!M51,IF(Հաշվիչ!$D$29=test!$B$52,test!M52,0))))","v":0},{"$f":"IF($D$29=test!$B$49,test!N49,IF(Հաշվիչ!$D$29=test!$B$50,test!N50,IF(Հաշվիչ!$D$29=test!$B$51,test!N51,IF(Հաշվիչ!$D$29=test!$B$52,test!N52,0))))","v":0},{"$f":"IF($D$29=test!$B$49,test!O49,IF(Հաշվիչ!$D$29=test!$B$50,test!O50,IF(Հաշվիչ!$D$29=test!$B$51,test!O51,IF(Հաշվիչ!$D$29=test!$B$52,test!O52,0))))","v":0},{"$f":"IF($D$29=test!$B$49,test!P49,IF(Հաշվիչ!$D$29=test!$B$50,test!P50,IF(Հաշվիչ!$D$29=test!$B$51,test!P51,IF(Հաշվիչ!$D$29=test!$B$52,test!P52,0))))","v":0},{"$f":"IF($H$29=test!$B$49,test!C49,IF(Հաշվիչ!$H$29=test!$B$50,test!C50,IF(Հաշվիչ!$H$29=test!$B$51,test!C51,IF(Հաշվիչ!$H$29=test!$B$52,test!C52,0))))","v":0},{"$f":"IF($H$29=test!$B$49,test!D49,IF(Հաշվիչ!$H$29=test!$B$50,test!D50,IF(Հաշվիչ!$H$29=test!$B$51,test!D51,IF(Հաշվիչ!$H$29=test!$B$52,test!D52,0))))","v":0},{"$f":"IF($H$29=test!$B$49,test!E49,IF(Հաշվիչ!$H$29=test!$B$50,test!E50,IF(Հաշվիչ!$H$29=test!$B$51,test!E51,IF(Հաշվիչ!$H$29=test!$B$52,test!E52,0))))","v":0},{"$f":"IF($H$29=test!$B$49,test!F49,IF(Հաշվիչ!$H$29=test!$B$50,test!F50,IF(Հաշվիչ!$H$29=test!$B$51,test!F51,IF(Հաշվիչ!$H$29=test!$B$52,test!F52,0))))","v":0},{"$f":"IF($H$29=test!$B$49,test!G49,IF(Հաշվիչ!$H$29=test!$B$50,test!G50,IF(Հաշվիչ!$H$29=test!$B$51,test!G51,IF(Հաշվիչ!$H$29=test!$B$52,test!G52,0))))","v":0},{"$f":"IF($H$29=test!$B$49,test!H49,IF(Հաշվիչ!$H$29=test!$B$50,test!H50,IF(Հաշվիչ!$H$29=test!$B$51,test!H51,IF(Հաշվիչ!$H$29=test!$B$52,test!H52,0))))","v":0},{"$f":"IF($H$29=test!$B$49,test!I49,IF(Հաշվիչ!$H$29=test!$B$50,test!I50,IF(Հաշվիչ!$H$29=test!$B$51,test!I51,IF(Հաշվիչ!$H$29=test!$B$52,test!I52,0))))","v":0},{"$f":"IF($H$29=test!$B$49,test!J49,IF(Հաշվիչ!$H$29=test!$B$50,test!J50,IF(Հաշվիչ!$H$29=test!$B$51,test!J51,IF(Հաշվիչ!$H$29=test!$B$52,test!J52,0))))","v":0},{"$f":"IF($H$29=test!$B$49,test!K49,IF(Հաշվիչ!$H$29=test!$B$50,test!K50,IF(Հաշվիչ!$H$29=test!$B$51,test!K51,IF(Հաշվիչ!$H$29=test!$B$52,test!K52,0))))","v":0},{"$f":"IF($H$29=test!$B$49,test!L49,IF(Հաշվիչ!$H$29=test!$B$50,test!L50,IF(Հաշվիչ!$H$29=test!$B$51,test!L51,IF(Հաշվիչ!$H$29=test!$B$52,test!L52,0))))","v":0},{"$f":"IF($H$29=test!$B$49,test!M49,IF(Հաշվիչ!$H$29=test!$B$50,test!M50,IF(Հաշվիչ!$H$29=test!$B$51,test!M51,IF(Հաշվիչ!$H$29=test!$B$52,test!M52,0))))","v":0},{"$f":"IF($H$29=test!$B$49,test!N49,IF(Հաշվիչ!$H$29=test!$B$50,test!N50,IF(Հաշվիչ!$H$29=test!$B$51,test!N51,IF(Հաշվիչ!$H$29=test!$B$52,test!N52,0))))","v":0},{"$f":"IF($H$29=test!$B$49,test!O49,IF(Հաշվիչ!$H$29=test!$B$50,test!O50,IF(Հաշվիչ!$H$29=test!$B$51,test!O51,IF(Հաշվիչ!$H$29=test!$B$52,test!O52,0))))","v":0},{"$f":"IF($H$29=test!$B$49,test!P49,IF(Հաշվիչ!$H$29=test!$B$50,test!P50,IF(Հաշվիչ!$H$29=test!$B$51,test!P51,IF(Հաշվիչ!$H$29=test!$B$52,test!P52,0))))","v":0},0,0,0,0,0,0,0,0,0,0,0,0,0,0,0,0,0,0,0,0,0,0,0,0,0,0,0,0,0,0,0,0,0,0,0,0,0,0,0,0,0,0]
[]
[null,"ՄՐՈՒՐ",null,"N/D",null,0,null,"N/D",null,0,null,50,100,0,0,null,null,null,null,null,null,null,"D վիտամին /մգ",{"$f":"DI50/40","v":0.625},{"$f":"IF(AND($A$1=1, $T$19=400),'Օրական նորմեր'!T15,IF(AND($A$1=1, $T$19=450),'Օրական նորմեր'!U15,IF(AND($A$1=1, $T$19=500),'Օրական նորմեր'!V15,IF(AND($A$1=1, $T$19=550),'Օրական նորմեր'!W15,IF(AND($A$1=1, $T$19=600),'Օրական նորմեր'!X15,IF(AND($A$1=1, $T$19=650),'Օրական նորմեր'!Y15,0))))))","v":7.5},{"$f":"IF(AND($A$1=2, $T$19=400),'Օրական նորմեր'!Z15,IF(AND($A$1=2, $T$19=450),'Օրական նորմեր'!AA15,IF(AND($A$1=2, $T$19=500),'Օրական նորմեր'!AB15,IF(AND($A$1=2, $T$19=550),'Օրական նորմեր'!AC15,IF(AND($A$1=2, $T$19=600),'Օրական նորմեր'!AD15,IF(AND($A$1=2, $T$19=650),'Օրական նորմեր'!AE15,0))))))","v":0},{"$f":"IF(AND($A$1=3, $T$19=400),'Օրական նորմեր'!AF15,IF(AND($A$1=3, $T$19=450),'Օրական նորմեր'!AG15,IF(AND($A$1=3, $T$19=500),'Օրական նորմեր'!AH15,IF(AND($A$1=3, $T$19=550),'Օրական նորմեր'!AI15,IF(AND($A$1=3, $T$19=600),'Օրական նորմեր'!AJ15,IF(AND($A$1=3, $T$19=650),'Օրական նորմեր'!AK15,0))))))","v":0},7.5,-6.875,null,null,null,null,null,null,null,null,null,null,null,null,null,null,null,{"$f":"IF($D$31=test!$B$53,test!C53,IF(Հաշվիչ!$D$31=test!$B$54,test!C54,IF(Հաշվիչ!$D$31=test!$B$55,test!C55,0)))","v":0},{"$f":"IF($D$31=test!$B$53,test!D53,IF(Հաշվիչ!$D$31=test!$B$54,test!D54,IF(Հաշվիչ!$D$31=test!$B$55,test!D55,0)))","v":0},{"$f":"IF($D$31=test!$B$53,test!E53,IF(Հաշվիչ!$D$31=test!$B$54,test!E54,IF(Հաշվիչ!$D$31=test!$B$55,test!E55,0)))","v":0},{"$f":"IF($D$31=test!$B$53,test!F53,IF(Հաշվիչ!$D$31=test!$B$54,test!F54,IF(Հաշվիչ!$D$31=test!$B$55,test!F55,0)))","v":0},{"$f":"IF($D$31=test!$B$53,test!G53,IF(Հաշվիչ!$D$31=test!$B$54,test!G54,IF(Հաշվիչ!$D$31=test!$B$55,test!G55,0)))","v":0},{"$f":"IF($D$31=test!$B$53,test!H53,IF(Հաշվիչ!$D$31=test!$B$54,test!H54,IF(Հաշվիչ!$D$31=test!$B$55,test!H55,0)))","v":0},{"$f":"IF($D$31=test!$B$53,test!I53,IF(Հաշվիչ!$D$31=test!$B$54,test!I54,IF(Հաշվիչ!$D$31=test!$B$55,test!I55,0)))","v":0},{"$f":"IF($D$31=test!$B$53,test!J53,IF(Հաշվիչ!$D$31=test!$B$54,test!J54,IF(Հաշվիչ!$D$31=test!$B$55,test!J55,0)))","v":0},{"$f":"IF($D$31=test!$B$53,test!K53,IF(Հաշվիչ!$D$31=test!$B$54,test!K54,IF(Հաշվիչ!$D$31=test!$B$55,test!K55,0)))","v":0},{"$f":"IF($D$31=test!$B$53,test!L53,IF(Հաշվիչ!$D$31=test!$B$54,test!L54,IF(Հաշվիչ!$D$31=test!$B$55,test!L55,0)))","v":0},{"$f":"IF($D$31=test!$B$53,test!M53,IF(Հաշվիչ!$D$31=test!$B$54,test!M54,IF(Հաշվիչ!$D$31=test!$B$55,test!M55,0)))","v":0},{"$f":"IF($D$31=test!$B$53,test!N53,IF(Հաշվիչ!$D$31=test!$B$54,test!N54,IF(Հաշվիչ!$D$31=test!$B$55,test!N55,0)))","v":0},{"$f":"IF($D$31=test!$B$53,test!O53,IF(Հաշվիչ!$D$31=test!$B$54,test!O54,IF(Հաշվիչ!$D$31=test!$B$55,test!O55,0)))","v":0},{"$f":"IF($D$31=test!$B$53,test!P53,IF(Հաշվիչ!$D$31=test!$B$54,test!P54,IF(Հաշվիչ!$D$31=test!$B$55,test!P55,0)))","v":0},{"$f":"IF($H$31=test!$B$53,test!C53,IF(Հաշվիչ!$H$31=test!$B$54,test!C54,IF(Հաշվիչ!$H$31=test!$B$55,test!C55,0)))","v":0},{"$f":"IF($H$31=test!$B$53,test!D53,IF(Հաշվիչ!$H$31=test!$B$54,test!D54,IF(Հաշվիչ!$H$31=test!$B$55,test!D55,0)))","v":0},{"$f":"IF($H$31=test!$B$53,test!E53,IF(Հաշվիչ!$H$31=test!$B$54,test!E54,IF(Հաշվիչ!$H$31=test!$B$55,test!E55,0)))","v":0},{"$f":"IF($H$31=test!$B$53,test!F53,IF(Հաշվիչ!$H$31=test!$B$54,test!F54,IF(Հաշվիչ!$H$31=test!$B$55,test!F55,0)))","v":0},{"$f":"IF($H$31=test!$B$53,test!G53,IF(Հաշվիչ!$H$31=test!$B$54,test!G54,IF(Հաշվիչ!$H$31=test!$B$55,test!G55,0)))","v":0},{"$f":"IF($H$31=test!$B$53,test!H53,IF(Հաշվիչ!$H$31=test!$B$54,test!H54,IF(Հաշվիչ!$H$31=test!$B$55,test!H55,0)))","v":0},{"$f":"IF($H$31=test!$B$53,test!I53,IF(Հաշվիչ!$H$31=test!$B$54,test!I54,IF(Հաշվիչ!$H$31=test!$B$55,test!I55,0)))","v":0},{"$f":"IF($H$31=test!$B$53,test!J53,IF(Հաշվիչ!$H$31=test!$B$54,test!J54,IF(Հաշվիչ!$H$31=test!$B$55,test!J55,0)))","v":0},{"$f":"IF($H$31=test!$B$53,test!K53,IF(Հաշվիչ!$H$31=test!$B$54,test!K54,IF(Հաշվիչ!$H$31=test!$B$55,test!K55,0)))","v":0},{"$f":"IF($H$31=test!$B$53,test!L53,IF(Հաշվիչ!$H$31=test!$B$54,test!L54,IF(Հաշվիչ!$H$31=test!$B$55,test!L55,0)))","v":0},{"$f":"IF($H$31=test!$B$53,test!M53,IF(Հաշվիչ!$H$31=test!$B$54,test!M54,IF(Հաշվիչ!$H$31=test!$B$55,test!M55,0)))","v":0},{"$f":"IF($H$31=test!$B$53,test!N53,IF(Հաշվիչ!$H$31=test!$B$54,test!N54,IF(Հաշվիչ!$H$31=test!$B$55,test!N55,0)))","v":0},{"$f":"IF($H$31=test!$B$53,test!O53,IF(Հաշվիչ!$H$31=test!$B$54,test!O54,IF(Հաշվիչ!$H$31=test!$B$55,test!O55,0)))","v":0},{"$f":"IF($H$31=test!$B$53,test!P53,IF(Հաշվիչ!$H$31=test!$B$54,test!P54,IF(Հաշվիչ!$H$31=test!$B$55,test!P55,0)))","v":0},0,0,0,0,0,0,0,0,0,0,0,0,0,0,0,0,0,0,0,0,0,0,0,0,0,0,0,0,0,0,0,0,0,0,0,0,0,0,0,0,0,0]
[]
[null,"ՄԶՈՒԿ",null,"N/D",null,0,null,"N/D",null,0,null,50,100,0,0,null,{"$f":"IF((X9*300)<T29,\"NORM\",\"Error\")","v":"NORM"},null,null,null,null,null,"E վիտամին /մգ",{"$f":"DJ50","v":201.6},{"$f":"IF(AND($A$1=1, $T$19=400),'Օրական նորմեր'!T16,IF(AND($A$1=1, $T$19=450),'Օրական նորմեր'!U16,IF(AND($A$1=1, $T$19=500),'Օրական նորմեր'!V16,IF(AND($A$1=1, $T$19=550),'Օրական նորմեր'!W16,IF(AND($A$1=1, $T$19=600),'Օրական նորմեր'!X16,IF(AND($A$1=1, $T$19=650),'Օրական նորմեր'!Y16,0))))))","v":300},{"$f":"IF(AND($A$1=2, $T$19=400),'Օրական նորմեր'!Z16,IF(AND($A$1=2, $T$19=450),'Օրական նորմեր'!AA16,IF(AND($A$1=2, $T$19=500),'Օրական նորմեր'!AB16,IF(AND($A$1=2, $T$19=550),'Օրական նորմեր'!AC16,IF(AND($A$1=2, $T$19=600),'Օրական նորմեր'!AD16,IF(AND($A$1=2, $T$19=650),'Օրական նորմեր'!AE16,0))))))","v":0},{"$f":"IF(AND($A$1=3, $T$19=400),'Օրական նորմեր'!AF16,IF(AND($A$1=3, $T$19=450),'Օրական նորմեր'!AG16,IF(AND($A$1=3, $T$19=500),'Օրական նորմեր'!AH16,IF(AND($A$1=3, $T$19=550),'Օրական նորմեր'!AI16,IF(AND($A$1=3, $T$19=600),'Օրական նորմեր'!AJ16,IF(AND($A$1=3, $T$19=650),'Օրական նորմեր'!AK16,0))))))","v":0},300,-98.4,null,null,null,null,null,null,null,null,null,null,null,null,null,null,null,{"$f":"IF($D$33=test!$B$56,test!C56,IF(Հաշվիչ!$D$33=test!$B$57,test!C57,IF(Հաշվիչ!$D$33=test!$B$58,test!C58,0)))","v":0},{"$f":"IF($D$33=test!$B$56,test!D56,IF(Հաշվիչ!$D$33=test!$B$57,test!D57,IF(Հաշվիչ!$D$33=test!$B$58,test!D58,0)))","v":0},{"$f":"IF($D$33=test!$B$56,test!E56,IF(Հաշվիչ!$D$33=test!$B$57,test!E57,IF(Հաշվիչ!$D$33=test!$B$58,test!E58,0)))","v":0},{"$f":"IF($D$33=test!$B$56,test!F56,IF(Հաշվիչ!$D$33=test!$B$57,test!F57,IF(Հաշվիչ!$D$33=test!$B$58,test!F58,0)))","v":0},{"$f":"IF($D$33=test!$B$56,test!G56,IF(Հաշվիչ!$D$33=test!$B$57,test!G57,IF(Հաշվիչ!$D$33=test!$B$58,test!G58,0)))","v":0},{"$f":"IF($D$33=test!$B$56,test!H56,IF(Հաշվիչ!$D$33=test!$B$57,test!H57,IF(Հաշվիչ!$D$33=test!$B$58,test!H58,0)))","v":0},{"$f":"IF($D$33=test!$B$56,test!I56,IF(Հաշվիչ!$D$33=test!$B$57,test!I57,IF(Հաշվիչ!$D$33=test!$B$58,test!I58,0)))","v":0},{"$f":"IF($D$33=test!$B$56,test!J56,IF(Հաշվիչ!$D$33=test!$B$57,test!J57,IF(Հաշվիչ!$D$33=test!$B$58,test!J58,0)))","v":0},{"$f":"IF($D$33=test!$B$56,test!K56,IF(Հաշվիչ!$D$33=test!$B$57,test!K57,IF(Հաշվիչ!$D$33=test!$B$58,test!K58,0)))","v":0},{"$f":"IF($D$33=test!$B$56,test!L56,IF(Հաշվիչ!$D$33=test!$B$57,test!L57,IF(Հաշվիչ!$D$33=test!$B$58,test!L58,0)))","v":0},{"$f":"IF($D$33=test!$B$56,test!M56,IF(Հաշվիչ!$D$33=test!$B$57,test!M57,IF(Հաշվիչ!$D$33=test!$B$58,test!M58,0)))","v":0},{"$f":"IF($D$33=test!$B$56,test!N56,IF(Հաշվիչ!$D$33=test!$B$57,test!N57,IF(Հաշվիչ!$D$33=test!$B$58,test!N58,0)))","v":0},{"$f":"IF($D$33=test!$B$56,test!O56,IF(Հաշվիչ!$D$33=test!$B$57,test!O57,IF(Հաշվիչ!$D$33=test!$B$58,test!O58,0)))","v":0},{"$f":"IF($D$33=test!$B$56,test!P56,IF(Հաշվիչ!$D$33=test!$B$57,test!P57,IF(Հաշվիչ!$D$33=test!$B$58,test!P58,0)))","v":0},{"$f":"IF($H$33=test!$B$56,test!C56,IF(Հաշվիչ!$H$33=test!$B$57,test!C57,IF(Հաշվիչ!$H$33=test!$B$58,test!C58,0)))","v":0},{"$f":"IF($H$33=test!$B$56,test!D56,IF(Հաշվիչ!$H$33=test!$B$57,test!D57,IF(Հաշվիչ!$H$33=test!$B$58,test!D58,0)))","v":0},{"$f":"IF($H$33=test!$B$56,test!E56,IF(Հաշվիչ!$H$33=test!$B$57,test!E57,IF(Հաշվիչ!$H$33=test!$B$58,test!E58,0)))","v":0},{"$f":"IF($H$33=test!$B$56,test!F56,IF(Հաշվիչ!$H$33=test!$B$57,test!F57,IF(Հաշվիչ!$H$33=test!$B$58,test!F58,0)))","v":0},{"$f":"IF($H$33=test!$B$56,test!G56,IF(Հաշվիչ!$H$33=test!$B$57,test!G57,IF(Հաշվիչ!$H$33=test!$B$58,test!G58,0)))","v":0},{"$f":"IF($H$33=test!$B$56,test!H56,IF(Հաշվիչ!$H$33=test!$B$57,test!H57,IF(Հաշվիչ!$H$33=test!$B$58,test!H58,0)))","v":0},{"$f":"IF($H$33=test!$B$56,test!I56,IF(Հաշվիչ!$H$33=test!$B$57,test!I57,IF(Հաշվիչ!$H$33=test!$B$58,test!I58,0)))","v":0},{"$f":"IF($H$33=test!$B$56,test!J56,IF(Հաշվիչ!$H$33=test!$B$57,test!J57,IF(Հաշվիչ!$H$33=test!$B$58,test!J58,0)))","v":0},{"$f":"IF($H$33=test!$B$56,test!K56,IF(Հաշվիչ!$H$33=test!$B$57,test!K57,IF(Հաշվիչ!$H$33=test!$B$58,test!K58,0)))","v":0},{"$f":"IF($H$33=test!$B$56,test!L56,IF(Հաշվիչ!$H$33=test!$B$57,test!L57,IF(Հաշվիչ!$H$33=test!$B$58,test!L58,0)))","v":0},{"$f":"IF($H$33=test!$B$56,test!M56,IF(Հաշվիչ!$H$33=test!$B$57,test!M57,IF(Հաշվիչ!$H$33=test!$B$58,test!M58,0)))","v":0},{"$f":"IF($H$33=test!$B$56,test!N56,IF(Հաշվիչ!$H$33=test!$B$57,test!N57,IF(Հաշվիչ!$H$33=test!$B$58,test!N58,0)))","v":0},{"$f":"IF($H$33=test!$B$56,test!O56,IF(Հաշվիչ!$H$33=test!$B$57,test!O57,IF(Հաշվիչ!$H$33=test!$B$58,test!O58,0)))","v":0},{"$f":"IF($H$33=test!$B$56,test!P56,IF(Հաշվիչ!$H$33=test!$B$57,test!P57,IF(Հաշվիչ!$H$33=test!$B$58,test!P58,0)))","v":0},0,0,0,0,0,0,0,0,0,0,0,0,0,0,0,0,0,0,0,0,0,0,0,0,0,0,0,0,0,0,0,0,0,0,0,0,0,0,0,0,0,0]
[null,null,null,null,null,null,null,null,null,null,null,null,null,null,null,null,null,null,null,null,null,null,null,null,null,null,{"$f":"IF(AND($A$1=3, $T$19=400),'Օրական նորմեր'!AF17,IF(AND($A$1=3, $T$19=450),'Օրական նորմեր'!AG17,IF(AND($A$1=3, $T$19=500),'Օրական նորմեր'!AH17,IF(AND($A$1=3, $T$19=550),'Օրական նորմեր'!AI17,IF(AND($A$1=3, $T$19=600),'Օրական նորմեր'!AJ17,IF(AND($A$1=3, $T$19=650),'Օրական նորմեր'!AK17,0))))))","v":0},0]
[null,"ԿԱԹ",null,"N/D",null,0,null,"N/D",null,0,null,50,100,0,0,null,null,null,null,null,null,null,"Աղ ",{"$f":"F51","v":0},{"$f":"IF(AND($A$1=1, $T$19=400),'Օրական նորմեր'!T17,IF(AND($A$1=1, $T$19=450),'Օրական նորմեր'!U17,IF(AND($A$1=1, $T$19=500),'Օրական նորմեր'!V17,IF(AND($A$1=1, $T$19=550),'Օրական նորմեր'!W17,IF(AND($A$1=1, $T$19=600),'Օրական նորմեր'!X17,IF(AND($A$1=1, $T$19=650),'Օրական նորմեր'!Y17,0))))))","v":54},{"$f":"IF(AND($A$1=2, $T$19=400),'Օրական նորմեր'!Z17,IF(AND($A$1=2, $T$19=450),'Օրական նորմեր'!AA17,IF(AND($A$1=2, $T$19=500),'Օրական նորմեր'!AB17,IF(AND($A$1=2, $T$19=550),'Օրական նորմեր'!AC17,IF(AND($A$1=2, $T$19=600),'Օրական նորմեր'!AD17,IF(AND($A$1=2, $T$19=650),'Օրական նորմեր'!AE17,0))))))","v":0},{"$f":"IF(AND($A$1=3, $T$19=400),'Օրական նորմեր'!AF17,IF(AND($A$1=3, $T$19=450),'Օրական նորմեր'!AG17,IF(AND($A$1=3, $T$19=500),'Օրական նորմեր'!AH17,IF(AND($A$1=3, $T$19=550),'Օրական նորմեր'!AI17,IF(AND($A$1=3, $T$19=600),'Օրական նորմեր'!AJ17,IF(AND($A$1=3, $T$19=650),'Օրական նորմեր'!AK17,0))))))","v":0},{"$f":"SUM(Y35:AA35)/1000","v":5.3999999999999999E-2},-5.3999999999999999E-2,null,null,null,null,null,null,null,null,null,null,null,null,null,null,null,{"$f":"IF($D$35=test!$B$59,test!C59,IF(Հաշվիչ!$D$35=test!$B$60,test!C60,IF(Հաշվիչ!$D$35=test!$B$61,test!C61,IF(Հաշվիչ!$D$35=test!$B$62,test!C62,IF(Հաշվիչ!$D$35=test!$B$63,test!C63,0)))))","v":0},{"$f":"IF($D$35=test!$B$59,test!D59,IF(Հաշվիչ!$D$35=test!$B$60,test!D60,IF(Հաշվիչ!$D$35=test!$B$61,test!D61,IF(Հաշվիչ!$D$35=test!$B$62,test!D62,IF(Հաշվիչ!$D$35=test!$B$63,test!D63,0)))))","v":0},{"$f":"IF($D$35=test!$B$59,test!E59,IF(Հաշվիչ!$D$35=test!$B$60,test!E60,IF(Հաշվիչ!$D$35=test!$B$61,test!E61,IF(Հաշվիչ!$D$35=test!$B$62,test!E62,IF(Հաշվիչ!$D$35=test!$B$63,test!E63,0)))))","v":0},{"$f":"IF($D$35=test!$B$59,test!F59,IF(Հաշվիչ!$D$35=test!$B$60,test!F60,IF(Հաշվիչ!$D$35=test!$B$61,test!F61,IF(Հաշվիչ!$D$35=test!$B$62,test!F62,IF(Հաշվիչ!$D$35=test!$B$63,test!F63,0)))))","v":0},{"$f":"IF($D$35=test!$B$59,test!G59,IF(Հաշվիչ!$D$35=test!$B$60,test!G60,IF(Հաշվիչ!$D$35=test!$B$61,test!G61,IF(Հաշվիչ!$D$35=test!$B$62,test!G62,IF(Հաշվիչ!$D$35=test!$B$63,test!G63,0)))))","v":0},{"$f":"IF($D$35=test!$B$59,test!H59,IF(Հաշվիչ!$D$35=test!$B$60,test!H60,IF(Հաշվիչ!$D$35=test!$B$61,test!H61,IF(Հաշվիչ!$D$35=test!$B$62,test!H62,IF(Հաշվիչ!$D$35=test!$B$63,test!H63,0)))))","v":0},{"$f":"IF($D$35=test!$B$59,test!I59,IF(Հաշվիչ!$D$35=test!$B$60,test!I60,IF(Հաշվիչ!$D$35=test!$B$61,test!I61,IF(Հաշվիչ!$D$35=test!$B$62,test!I62,IF(Հաշվիչ!$D$35=test!$B$63,test!I63,0)))))","v":0},{"$f":"IF($D$35=test!$B$59,test!J59,IF(Հաշվիչ!$D$35=test!$B$60,test!J60,IF(Հաշվիչ!$D$35=test!$B$61,test!J61,IF(Հաշվիչ!$D$35=test!$B$62,test!J62,IF(Հաշվիչ!$D$35=test!$B$63,test!J63,0)))))","v":0},{"$f":"IF($D$35=test!$B$59,test!K59,IF(Հաշվիչ!$D$35=test!$B$60,test!K60,IF(Հաշվիչ!$D$35=test!$B$61,test!K61,IF(Հաշվիչ!$D$35=test!$B$62,test!K62,IF(Հաշվիչ!$D$35=test!$B$63,test!K63,0)))))","v":0},{"$f":"IF($D$35=test!$B$59,test!L59,IF(Հաշվիչ!$D$35=test!$B$60,test!L60,IF(Հաշվիչ!$D$35=test!$B$61,test!L61,IF(Հաշվիչ!$D$35=test!$B$62,test!L62,IF(Հաշվիչ!$D$35=test!$B$63,test!L63,0)))))","v":0},{"$f":"IF($D$35=test!$B$59,test!M59,IF(Հաշվիչ!$D$35=test!$B$60,test!M60,IF(Հաշվիչ!$D$35=test!$B$61,test!M61,IF(Հաշվիչ!$D$35=test!$B$62,test!M62,IF(Հաշվիչ!$D$35=test!$B$63,test!M63,0)))))","v":0},{"$f":"IF($D$35=test!$B$59,test!N59,IF(Հաշվիչ!$D$35=test!$B$60,test!N60,IF(Հաշվիչ!$D$35=test!$B$61,test!N61,IF(Հաշվիչ!$D$35=test!$B$62,test!N62,IF(Հաշվիչ!$D$35=test!$B$63,test!N63,0)))))","v":0},{"$f":"IF($D$35=test!$B$59,test!O59,IF(Հաշվիչ!$D$35=test!$B$60,test!O60,IF(Հաշվիչ!$D$35=test!$B$61,test!O61,IF(Հաշվիչ!$D$35=test!$B$62,test!O62,IF(Հաշվիչ!$D$35=test!$B$63,test!O63,0)))))","v":0},{"$f":"IF($D$35=test!$B$59,test!P59,IF(Հաշվիչ!$D$35=test!$B$60,test!P60,IF(Հաշվիչ!$D$35=test!$B$61,test!P61,IF(Հաշվիչ!$D$35=test!$B$62,test!P62,IF(Հաշվիչ!$D$35=test!$B$63,test!P63,0)))))","v":0},{"$f":"IF($H$35=test!$B$59,test!C59,IF(Հաշվիչ!$H$35=test!$B$60,test!C60,IF(Հաշվիչ!$H$35=test!$B$61,test!C61,IF(Հաշվիչ!$H$35=test!$B$62,test!C62,IF(Հաշվիչ!$H$35=test!$B$63,test!C63,0)))))","v":0},{"$f":"IF($H$35=test!$B$59,test!D59,IF(Հաշվիչ!$H$35=test!$B$60,test!D60,IF(Հաշվիչ!$H$35=test!$B$61,test!D61,IF(Հաշվիչ!$H$35=test!$B$62,test!D62,IF(Հաշվիչ!$H$35=test!$B$63,test!D63,0)))))","v":0},{"$f":"IF($H$35=test!$B$59,test!E59,IF(Հաշվիչ!$H$35=test!$B$60,test!E60,IF(Հաշվիչ!$H$35=test!$B$61,test!E61,IF(Հաշվիչ!$H$35=test!$B$62,test!E62,IF(Հաշվիչ!$H$35=test!$B$63,test!E63,0)))))","v":0},{"$f":"IF($H$35=test!$B$59,test!F59,IF(Հաշվիչ!$H$35=test!$B$60,test!F60,IF(Հաշվիչ!$H$35=test!$B$61,test!F61,IF(Հաշվիչ!$H$35=test!$B$62,test!F62,IF(Հաշվիչ!$H$35=test!$B$63,test!F63,0)))))","v":0},{"$f":"IF($H$35=test!$B$59,test!G59,IF(Հաշվիչ!$H$35=test!$B$60,test!G60,IF(Հաշվիչ!$H$35=test!$B$61,test!G61,IF(Հաշվիչ!$H$35=test!$B$62,test!G62,IF(Հաշվիչ!$H$35=test!$B$63,test!G63,0)))))","v":0},{"$f":"IF($H$35=test!$B$59,test!H59,IF(Հաշվիչ!$H$35=test!$B$60,test!H60,IF(Հաշվիչ!$H$35=test!$B$61,test!H61,IF(Հաշվիչ!$H$35=test!$B$62,test!H62,IF(Հաշվիչ!$H$35=test!$B$63,test!H63,0)))))","v":0},{"$f":"IF($H$35=test!$B$59,test!I59,IF(Հաշվիչ!$H$35=test!$B$60,test!I60,IF(Հաշվիչ!$H$35=test!$B$61,test!I61,IF(Հաշվիչ!$H$35=test!$B$62,test!I62,IF(Հաշվիչ!$H$35=test!$B$63,test!I63,0)))))","v":0},{"$f":"IF($H$35=test!$B$59,test!J59,IF(Հաշվիչ!$H$35=test!$B$60,test!J60,IF(Հաշվիչ!$H$35=test!$B$61,test!J61,IF(Հաշվիչ!$H$35=test!$B$62,test!J62,IF(Հաշվիչ!$H$35=test!$B$63,test!J63,0)))))","v":0},{"$f":"IF($H$35=test!$B$59,test!K59,IF(Հաշվիչ!$H$35=test!$B$60,test!K60,IF(Հաշվիչ!$H$35=test!$B$61,test!K61,IF(Հաշվիչ!$H$35=test!$B$62,test!K62,IF(Հաշվիչ!$H$35=test!$B$63,test!K63,0)))))","v":0},{"$f":"IF($H$35=test!$B$59,test!L59,IF(Հաշվիչ!$H$35=test!$B$60,test!L60,IF(Հաշվիչ!$H$35=test!$B$61,test!L61,IF(Հաշվիչ!$H$35=test!$B$62,test!L62,IF(Հաշվիչ!$H$35=test!$B$63,test!L63,0)))))","v":0},{"$f":"IF($H$35=test!$B$59,test!M59,IF(Հաշվիչ!$H$35=test!$B$60,test!M60,IF(Հաշվիչ!$H$35=test!$B$61,test!M61,IF(Հաշվիչ!$H$35=test!$B$62,test!M62,IF(Հաշվիչ!$H$35=test!$B$63,test!M63,0)))))","v":0},{"$f":"IF($H$35=test!$B$59,test!N59,IF(Հաշվիչ!$H$35=test!$B$60,test!N60,IF(Հաշվիչ!$H$35=test!$B$61,test!N61,IF(Հաշվիչ!$H$35=test!$B$62,test!N62,IF(Հաշվիչ!$H$35=test!$B$63,test!N63,0)))))","v":0},{"$f":"IF($H$35=test!$B$59,test!O59,IF(Հաշվիչ!$H$35=test!$B$60,test!O60,IF(Հաշվիչ!$H$35=test!$B$61,test!O61,IF(Հաշվիչ!$H$35=test!$B$62,test!O62,IF(Հաշվիչ!$H$35=test!$B$63,test!O63,0)))))","v":0},{"$f":"IF($H$35=test!$B$59,test!P59,IF(Հաշվիչ!$H$35=test!$B$60,test!P60,IF(Հաշվիչ!$H$35=test!$B$61,test!P61,IF(Հաշվիչ!$H$35=test!$B$62,test!P62,IF(Հաշվիչ!$H$35=test!$B$63,test!P63,0)))))","v":0},0,0,0,0,0,0,0,0,0,0,0,0,0,0,0,0,0,0,0,0,0,0,0,0,0,0,0,0,0,0,0,0,0,0,0,0,0,0,0,0,0,0]
[]
[null,"ԱՐՅԱՆ ԱԼՅՈՒՐ",null,"N/D",null,0,null,null,null,null,null,50,100,0,0,null,null,null,null,null,null,null,null,null,null,null,null,null,null,null,null,null,null,null,null,null,null,null,null,null,null,null,null,null,{"$f":"IF($D$37=test!$B$64,test!C64,0)","v":0},{"$f":"IF($D$37=test!$B$64,test!D64,0)","v":0},{"$f":"IF($D$37=test!$B$64,test!E64,0)","v":0},{"$f":"IF($D$37=test!$B$64,test!F64,0)","v":0},{"$f":"IF($D$37=test!$B$64,test!G64,0)","v":0},{"$f":"IF($D$37=test!$B$64,test!H64,0)","v":0},{"$f":"IF($D$37=test!$B$64,test!I64,0)","v":0},{"$f":"IF($D$37=test!$B$64,test!J64,0)","v":0},{"$f":"IF($D$37=test!$B$64,test!K64,0)","v":0},{"$f":"IF($D$37=test!$B$64,test!L64,0)","v":0},{"$f":"IF($D$37=test!$B$64,test!M64,0)","v":0},{"$f":"IF($D$37=test!$B$64,test!N64,0)","v":0},{"$f":"IF($D$37=test!$B$64,test!O64,0)","v":0},{"$f":"IF($D$37=test!$B$64,test!P64,0)","v":0},null,null,null,null,null,null,null,null,null,null,null,null,null,null,0,0,0,0,0,0,0,0,0,0,0,0,0,0,null,null,null,null,null,null,null,null,null,null,null,null,null,null,0,0,0,0,0,0,0,0,0,0,0,0,0,0]
[]
[null,"ՄՍԱԼՅՈՒՐ",null,"N/D",null,0,null,null,null,null,null,50,100,0,0,null,null,null,null,null,null,null,null,null,null,null,null,null,null,null,null,null,null,null,null,null,null,null,null,null,null,null,null,null,{"$f":"IF($D$39=test!$B$65,test!C65,0)","v":0},{"$f":"IF($D$39=test!$B$65,test!D65,0)","v":0},{"$f":"IF($D$39=test!$B$65,test!E65,0)","v":0},{"$f":"IF($D$39=test!$B$65,test!F65,0)","v":0},{"$f":"IF($D$39=test!$B$65,test!G65,0)","v":0},{"$f":"IF($D$39=test!$B$65,test!H65,0)","v":0},{"$f":"IF($D$39=test!$B$65,test!I65,0)","v":0},{"$f":"IF($D$39=test!$B$65,test!J65,0)","v":0},{"$f":"IF($D$39=test!$B$65,test!K65,0)","v":0},{"$f":"IF($D$39=test!$B$65,test!L65,0)","v":0},{"$f":"IF($D$39=test!$B$65,test!M65,0)","v":0},{"$f":"IF($D$39=test!$B$65,test!N65,0)","v":0},{"$f":"IF($D$39=test!$B$65,test!O65,0)","v":0},{"$f":"IF($D$39=test!$B$65,test!P65,0)","v":0},null,null,null,null,null,null,null,null,null,null,null,null,null,null,0,0,0,0,0,0,0,0,0,0,0,0,0,0,null,null,null,null,null,null,null,null,null,null,null,null,null,null,0,0,0,0,0,0,0,0,0,0,0,0,0,0]
[]
[null,"ՈՍԿՐԱԼՅՈՒՐ",null,"N/D",null,0,null,null,null,null,null,50,100,0,0,null,null,null,null,null,null,null,"Կաթի գինը  (1 լիտր)","Min ",null,null,null,{"$f":"SUM(N7:N51)/X9","v":54.990403071017276},null,null,null,null,null,null,null,null,null,null,null,null,null,null,null,null,{"$f":"IF($D$41=test!$B$66,test!C66,0)","v":0},{"$f":"IF($D$41=test!$B$66,test!D66,0)","v":0},{"$f":"IF($D$41=test!$B$66,test!E66,0)","v":0},{"$f":"IF($D$41=test!$B$66,test!F66,0)","v":0},{"$f":"IF($D$41=test!$B$66,test!G66,0)","v":0},{"$f":"IF($D$41=test!$B$66,test!H66,0)","v":0},{"$f":"IF($D$41=test!$B$66,test!I66,0)","v":0},{"$f":"IF($D$41=test!$B$66,test!J66,0)","v":0},{"$f":"IF($D$41=test!$B$66,test!K66,0)","v":0},{"$f":"IF($D$41=test!$B$66,test!L66,0)","v":0},{"$f":"IF($D$41=test!$B$66,test!M66,0)","v":0},{"$f":"IF($D$41=test!$B$66,test!N66,0)","v":0},{"$f":"IF($D$41=test!$B$66,test!O66,0)","v":0},{"$f":"IF($D$41=test!$B$66,test!P66,0)","v":0},null,null,null,null,null,null,null,null,null,null,null,null,null,null,0,0,0,0,0,0,0,0,0,0,0,0,0,0,null,null,null,null,null,null,null,null,null,null,null,null,null,null,0,0,0,0,0,0,0,0,0,0,0,0,0,0]
[]
[null,"ՁԿՆԱԼՅՈՒՐ ՃԱՐՊՈՏ",null,"N/D",null,0,null,null,null,null,null,50,100,0,0,null,null,null,null,null,null,null,null,"Max",null,null,null,{"$f":"SUM(O7:O51)/X9","v":93.090211132437616},null,null,null,null,null,null,null,null,null,null,null,null,null,null,null,null,{"$f":"IF($D$43=test!$B$67,test!C67,0)","v":0},{"$f":"IF($D$43=test!$B$67,test!D67,0)","v":0},{"$f":"IF($D$43=test!$B$67,test!E67,0)","v":0},{"$f":"IF($D$43=test!$B$67,test!F67,0)","v":0},{"$f":"IF($D$43=test!$B$67,test!G67,0)","v":0},{"$f":"IF($D$43=test!$B$67,test!H67,0)","v":0},{"$f":"IF($D$43=test!$B$67,test!I67,0)","v":0},{"$f":"IF($D$43=test!$B$67,test!J67,0)","v":0},{"$f":"IF($D$43=test!$B$67,test!K67,0)","v":0},{"$f":"IF($D$43=test!$B$67,test!L67,0)","v":0},{"$f":"IF($D$43=test!$B$67,test!M67,0)","v":0},{"$f":"IF($D$43=test!$B$67,test!N67,0)","v":0},{"$f":"IF($D$43=test!$B$67,test!O67,0)","v":0},{"$f":"IF($D$43=test!$B$67,test!P67,0)","v":0},null,null,null,null,null,null,null,null,null,null,null,null,null,null,0,0,0,0,0,0,0,0,0,0,0,0,0,0,null,null,null,null,null,null,null,null,null,null,null,null,null,null,0,0,0,0,0,0,0,0,0,0,0,0,0,0]
[]
[null,"ՄՍՈՍԿՐԻ ԱԼՅՈՒՐ",null,"N/D",null,0,null,null,null,null,null,50,100,0,0,null,null,null,null,null,null,null,null,null,null,null,null,null,null,null,null,null,null,null,null,null,null,null,null,null,null,null,null,null,{"$f":"IF($D$45=test!$B$68,test!C68,0)","v":0},{"$f":"IF($D$45=test!$B$68,test!D68,0)","v":0},{"$f":"IF($D$45=test!$B$68,test!E68,0)","v":0},{"$f":"IF($D$45=test!$B$68,test!F68,0)","v":0},{"$f":"IF($D$45=test!$B$68,test!G68,0)","v":0},{"$f":"IF($D$45=test!$B$68,test!H68,0)","v":0},{"$f":"IF($D$45=test!$B$68,test!I68,0)","v":0},{"$f":"IF($D$45=test!$B$68,test!J68,0)","v":0},{"$f":"IF($D$45=test!$B$68,test!K68,0)","v":0},{"$f":"IF($D$45=test!$B$68,test!L68,0)","v":0},{"$f":"IF($D$45=test!$B$68,test!M68,0)","v":0},{"$f":"IF($D$45=test!$B$68,test!N68,0)","v":0},{"$f":"IF($D$45=test!$B$68,test!O68,0)","v":0},{"$f":"IF($D$45=test!$B$68,test!P68,0)","v":0},null,null,null,null,null,null,null,null,null,null,null,null,null,null,0,0,0,0,0,0,0,0,0,0,0,0,0,0,null,null,null,null,null,null,null,null,null,null,null,null,null,null,0,0,0,0,0,0,0,0,0,0,0,0,0,0]
[]
[null,"ՁԿՆԱԼՅՈՒՐ ԱՆՃԱՐՊ",null,"N/D",null,0,null,null,null,null,null,50,100,0,0,null,null,null,null,null,null,null,"Սպասվող ցուցանիշը ըստ ԽԵԿ ցեղի",null,null,null,null,{"$f":"SUM(N7:N51)/(T29/300)","v":49.114285714285714},null,null,null,null,null,null,null,null,null,null,null,null,null,null,null,null,{"$f":"IF($D$47=test!$B$69,test!C69,0)","v":0},{"$f":"IF($D$47=test!$B$69,test!D69,0)","v":0},{"$f":"IF($D$47=test!$B$69,test!E69,0)","v":0},{"$f":"IF($D$47=test!$B$69,test!F69,0)","v":0},{"$f":"IF($D$47=test!$B$69,test!G69,0)","v":0},{"$f":"IF($D$47=test!$B$69,test!H69,0)","v":0},{"$f":"IF($D$47=test!$B$69,test!I69,0)","v":0},{"$f":"IF($D$47=test!$B$69,test!J69,0)","v":0},{"$f":"IF($D$47=test!$B$69,test!K69,0)","v":0},{"$f":"IF($D$47=test!$B$69,test!L69,0)","v":0},{"$f":"IF($D$47=test!$B$69,test!M69,0)","v":0},{"$f":"IF($D$47=test!$B$69,test!N69,0)","v":0},{"$f":"IF($D$47=test!$B$69,test!O69,0)","v":0},{"$f":"IF($D$47=test!$B$69,test!P69,0)","v":0},null,null,null,null,null,null,null,null,null,null,null,null,null,null,0,0,0,0,0,0,0,0,0,0,0,0,0,0,null,null,null,null,null,null,null,null,null,null,null,null,null,null,0,0,0,0,0,0,0,0,0,0,0,0,0,0]
[]
[null,"ԳԱՐԵՋՐԻ ԴԻՐՏ",null,"N/D",null,0,null,null,null,null,null,50,100,0,0,null,null,null,null,null,null,null,"Առավելագույն ցուցանիշը",null,null,null,null,{"$f":"SUM(N7:N51)/(U29/300)","v":38.200000000000003},null,null,null,null,null,null,null,null,null,null,null,null,null,null,null,null,{"$f":"IF($D$49=test!$B$70,test!C70,0)","v":0},{"$f":"IF($D$49=test!$B$70,test!D70,0)","v":0},{"$f":"IF($D$49=test!$B$70,test!E70,0)","v":0},{"$f":"IF($D$49=test!$B$70,test!F70,0)","v":0},{"$f":"IF($D$49=test!$B$70,test!G70,0)","v":0},{"$f":"IF($D$49=test!$B$70,test!H70,0)","v":0},{"$f":"IF($D$49=test!$B$70,test!I70,0)","v":0},{"$f":"IF($D$49=test!$B$70,test!J70,0)","v":0},{"$f":"IF($D$49=test!$B$70,test!K70,0)","v":0},{"$f":"IF($D$49=test!$B$70,test!L70,0)","v":0},{"$f":"IF($D$49=test!$B$70,test!M70,0)","v":0},{"$f":"IF($D$49=test!$B$70,test!N70,0)","v":0},{"$f":"IF($D$49=test!$B$70,test!O70,0)","v":0},{"$f":"IF($D$49=test!$B$70,test!P70,0)","v":0},null,null,null,null,null,null,null,null,null,null,null,null,null,null,0,0,0,0,0,0,0,0,0,0,0,0,0,0,null,null,null,null,null,null,null,null,null,null,null,null,null,null,0,0,0,0,0,0,0,0,0,0,0,0,0,0]
[null,null,null,null,null,null,null,null,null,null,null,null,null,null,null,null,null,null,null,null,null,null,null,null,null,null,null,null,null,null,null,null,null,null,null,null,null,null,null,null,null,null,null,null,null,null,null,null,null,null,null,null,null,null,null,null,null,null,null,null,null,null,null,null,null,null,null,null,null,null,null,null,null,null,null,null,null,null,null,null,null,null,null,null,null,null,null,null,null,null,null,null,null,null,null,null,null,null,null,null,{"$f":"SUM(CW7:CW49)","v":14886},{"$f":"SUM(CX7:CX49)","v":10.42},128.19,1357,697,4147,2316,249,369,54.5,37.4,122.4,25,201.6]
[null,"Աղ",null,null,null,0,null,null,null,null,null,80,120,{"$f":"L51*(J51+F51)","v":0},0]